BEGIN:VCALENDAR
VERSION:2.0
PRODID:-//Hoey Moey - ECPv4.9.7//NONSGML v1.0//EN
CALSCALE:GREGORIAN
METHOD:PUBLISH
X-WR-CALNAME:Hoey Moey
X-ORIGINAL-URL:https://hoeymoey.com.au
X-WR-CALDESC:Events for Hoey Moey
BEGIN:VTIMEZONE
TZID:"Australia/Sydney"
BEGIN:STANDARD
TZOFFSETFROM:+1100
TZOFFSETTO:+1000
TZNAME:AEST
DTSTART:20190406T160000
END:STANDARD
BEGIN:DAYLIGHT
TZOFFSETFROM:+1000
TZOFFSETTO:+1100
TZNAME:AEDT
DTSTART:20191005T160000
END:DAYLIGHT
TZID:"Europe/Paris"
BEGIN:DAYLIGHT
TZOFFSETFROM:+0100
TZOFFSETTO:+0200
TZNAME:CEST
DTSTART:20190331T010000
END:DAYLIGHT
BEGIN:STANDARD
TZOFFSETFROM:+0200
TZOFFSETTO:+0100
TZNAME:CET
DTSTART:20191027T010000
END:STANDARD
END:VTIMEZONE
BEGIN:VEVENT
DTSTART;VALUE=DATE:20190820
DTEND;VALUE=DATE:20190821
DTSTAMP:20210301T193830
CREATED:20190820T025709Z
LAST-MODIFIED:20190820T025709Z
UID:2077-1566259200-1566345599@hoeymoey.com.au
SUMMARY:Tuesday $12.50 Lamb Cutlets
DESCRIPTION:Try our $12.50 LAMB CUTLETS Tuesday at the famous Hoey Moey! \nServed with chips\, fresh salad and gravy. \nFeeling extra hungry? Supersize for only $5.50 and get an additional Cutlet! \nEnjoy the relaxed atmosphere in our beer garden or with the family in the bistro with our newly renovated kid’s room. \nLunch is served from 12pm-2.30pm and dinner is served from 5.30pm-8.30pm. \n*15% surcharge applies on Public Holidays. \n
URL:https://hoeymoey.com.au/event/tuesday-lamb-cutlets/2019-08-20/
LOCATION:The Hoey Moey\, 84 Ocean Parade\, Coffs Harbour\, NSW\, 2450\, Australia
CATEGORIES:Meal Deal,Whats On
ATTACH;FMTTYPE=image/jpeg:https://hoeymoey.com.au/wp-content/uploads/2019/08/Lamb-cutlets-Tuesday-special-at-the-Hoey-Moey-Hotel-and-Pub-Coffs-Harbour.jpg
END:VEVENT
BEGIN:VEVENT
DTSTART;TZID="Australia/Sydney":20190820T170000
DTEND;TZID="Australia/Sydney":20190820T180000
DTSTAMP:20210301T193830
CREATED:20190820T033055Z
LAST-MODIFIED:20190820T033121Z
UID:1945-1566320400-1566324000@hoeymoey.com.au
SUMMARY:Heineken Special
DESCRIPTION:Enjoy red hot specials on Heineken every day in May at the Hoey Moey! \n
URL:https://hoeymoey.com.au/event/heineken-special/
CATEGORIES:Weekly Events,Whats On
ATTACH;FMTTYPE=image/jpeg:https://hoeymoey.com.au/wp-content/uploads/2019/08/HM_HeinekenBarPromo2019_NL-1024x576.jpg
END:VEVENT
BEGIN:VEVENT
DTSTART;TZID="Australia/Sydney":20190821T160000
DTEND;TZID="Australia/Sydney":20190821T180000
DTSTAMP:20210301T193830
CREATED:20190820T033321Z
LAST-MODIFIED:20190820T033321Z
UID:2495-1566403200-1566410400@hoeymoey.com.au
SUMMARY:MATES RATES – $4.50 SCHOONERS
DESCRIPTION:Come and enjoy an ice cold schooner of tap beer for only $4.50 for members! \nMates rates is from 4pm to 6pm Monday – Friday. \nMembers card must be swiped upon purchase. \n\n* Conditions apply. \n\n
URL:https://hoeymoey.com.au/event/poker-and-pool-comp-2/2019-08-21/
LOCATION:The Hoey Moey\, 84 Ocean Parade\, Coffs Harbour\, NSW\, 2450\, Australia
CATEGORIES:Weekly Events,Whats On
ATTACH;FMTTYPE=image/jpeg:https://hoeymoey.com.au/wp-content/uploads/2019/08/Schooners-beer-Hoey-Moey-Pub-and-Hotel-Coffs-Harbour.jpg
END:VEVENT
BEGIN:VEVENT
DTSTART;TZID="Australia/Sydney":20190822T160000
DTEND;TZID="Australia/Sydney":20190822T180000
DTSTAMP:20210301T193830
CREATED:20190820T033321Z
LAST-MODIFIED:20190820T033321Z
UID:2496-1566489600-1566496800@hoeymoey.com.au
SUMMARY:MATES RATES – $4.50 SCHOONERS
DESCRIPTION:Come and enjoy an ice cold schooner of tap beer for only $4.50 for members! \nMates rates is from 4pm to 6pm Monday – Friday. \nMembers card must be swiped upon purchase. \n\n* Conditions apply. \n\n
URL:https://hoeymoey.com.au/event/poker-and-pool-comp-2/2019-08-22/
LOCATION:The Hoey Moey\, 84 Ocean Parade\, Coffs Harbour\, NSW\, 2450\, Australia
CATEGORIES:Weekly Events,Whats On
ATTACH;FMTTYPE=image/jpeg:https://hoeymoey.com.au/wp-content/uploads/2019/08/Schooners-beer-Hoey-Moey-Pub-and-Hotel-Coffs-Harbour.jpg
END:VEVENT
BEGIN:VEVENT
DTSTART;VALUE=DATE:20190823
DTEND;VALUE=DATE:20190824
DTSTAMP:20210301T193830
CREATED:20190815T234137Z
LAST-MODIFIED:20190820T031743Z
UID:498-1566518400-1566604799@hoeymoey.com.au
SUMMARY:Friday $12.50 Chicken Schnitzel
DESCRIPTION:Try our $12.50 Chicken Schnitty Feed EVERY Friday at the famous Hoey Moey! \nServed with chips\, fresh salad and gravy. \nFeeling extra hungry? Supersize for only $5.50 and get an additional Schnitty! \nEnjoy the relaxed atmosphere in our beer garden or with the family in the bistro with our newly renovated kid’s room. \nLunch is served from 12pm – 2.30pm and dinner is served from 5.30pm-8.30pm. \n*15% surcharge applies on Public Holidays. \n
URL:https://hoeymoey.com.au/event/friday-10-chicken-schnitzel/2019-08-23/
LOCATION:The Hoey Moey\, 84 Ocean Parade\, Coffs Harbour\, NSW\, 2450\, Australia
CATEGORIES:Meal Deal
ATTACH;FMTTYPE=image/jpeg:https://hoeymoey.com.au/wp-content/uploads/2019/08/schnitty.jpg
END:VEVENT
BEGIN:VEVENT
DTSTART;VALUE=DATE:20190823
DTEND;VALUE=DATE:20190824
DTSTAMP:20210301T193830
CREATED:20190816T034123Z
LAST-MODIFIED:20190819T004434Z
UID:822-1566518400-1566604799@hoeymoey.com.au
SUMMARY:Friday Mate's Rates - $4.50 Schooners
DESCRIPTION:
URL:https://hoeymoey.com.au/event/thursday-chicken-parmi-family-deal/2019-08-23/
LOCATION:The Hoey Moey\, 84 Ocean Parade\, Coffs Harbour\, NSW\, 2450\, Australia
CATEGORIES:Weekly Events,Whats On
ATTACH;FMTTYPE=image/jpeg:https://hoeymoey.com.au/wp-content/uploads/2019/08/sliderplaceholder.jpg
END:VEVENT
BEGIN:VEVENT
DTSTART;TZID="Australia/Sydney":20190823T160000
DTEND;TZID="Australia/Sydney":20190823T180000
DTSTAMP:20210301T193830
CREATED:20190820T033321Z
LAST-MODIFIED:20190820T033321Z
UID:2497-1566576000-1566583200@hoeymoey.com.au
SUMMARY:MATES RATES – $4.50 SCHOONERS
DESCRIPTION:Come and enjoy an ice cold schooner of tap beer for only $4.50 for members! \nMates rates is from 4pm to 6pm Monday – Friday. \nMembers card must be swiped upon purchase. \n\n* Conditions apply. \n\n
URL:https://hoeymoey.com.au/event/poker-and-pool-comp-2/2019-08-23/
LOCATION:The Hoey Moey\, 84 Ocean Parade\, Coffs Harbour\, NSW\, 2450\, Australia
CATEGORIES:Weekly Events,Whats On
ATTACH;FMTTYPE=image/jpeg:https://hoeymoey.com.au/wp-content/uploads/2019/08/Schooners-beer-Hoey-Moey-Pub-and-Hotel-Coffs-Harbour.jpg
END:VEVENT
BEGIN:VEVENT
DTSTART;VALUE=DATE:20190826
DTEND;VALUE=DATE:20190827
DTSTAMP:20210301T193830
CREATED:20190815T234302Z
LAST-MODIFIED:20190820T032716Z
UID:605-1566777600-1566863999@hoeymoey.com.au
SUMMARY:Monday $12.50 Barramundi
DESCRIPTION:Our Famous $12.50 Barramundi Feed is served every Monday with a lemon wedge\, chips and salad. \nFeeling extra hungry? Supersize for only $5.50 and get an additional piece of Barramundi! \nEnjoy the relaxed atmosphere in our beer garden or with the family in the bistro with our newly renovated kid’s room. \nLunch is served from 12pm-2.30pm and dinner is served from 5.30pm-8.30pm. \n*15% surcharge applies on Public Holidays. \n
URL:https://hoeymoey.com.au/event/monday-meal-deal-barramundi/2019-08-26/
LOCATION:The Hoey Moey\, 84 Ocean Parade\, Coffs Harbour\, NSW\, 2450\, Australia
CATEGORIES:Meal Deal,Whats On
ATTACH;FMTTYPE=image/jpeg:https://hoeymoey.com.au/wp-content/uploads/2019/08/baramondayyyy.jpg
END:VEVENT
BEGIN:VEVENT
DTSTART;TZID="Australia/Sydney":20190826T160000
DTEND;TZID="Australia/Sydney":20190826T180000
DTSTAMP:20210301T193830
CREATED:20190820T033321Z
LAST-MODIFIED:20190820T033321Z
UID:2498-1566835200-1566842400@hoeymoey.com.au
SUMMARY:MATES RATES – $4.50 SCHOONERS
DESCRIPTION:Come and enjoy an ice cold schooner of tap beer for only $4.50 for members! \nMates rates is from 4pm to 6pm Monday – Friday. \nMembers card must be swiped upon purchase. \n\n* Conditions apply. \n\n
URL:https://hoeymoey.com.au/event/poker-and-pool-comp-2/2019-08-26/
LOCATION:The Hoey Moey\, 84 Ocean Parade\, Coffs Harbour\, NSW\, 2450\, Australia
CATEGORIES:Weekly Events,Whats On
ATTACH;FMTTYPE=image/jpeg:https://hoeymoey.com.au/wp-content/uploads/2019/08/Schooners-beer-Hoey-Moey-Pub-and-Hotel-Coffs-Harbour.jpg
END:VEVENT
BEGIN:VEVENT
DTSTART;VALUE=DATE:20190827
DTEND;VALUE=DATE:20190828
DTSTAMP:20210301T193830
CREATED:20190820T025709Z
LAST-MODIFIED:20190820T043031Z
UID:1165-1566864000-1566950399@hoeymoey.com.au
SUMMARY:Tuesday $12.50 Lamb Cutlets
DESCRIPTION:Try our $12.50 LAMB CUTLETS Tuesday at the famous Hoey Moey! \nServed with chips\, fresh salad and gravy. \nFeeling extra hungry? Supersize for only $5.50 and get an additional Cutlet! \nEnjoy the relaxed atmosphere in our beer garden or with the family in the bistro with our newly renovated kid’s room. \nLunch is served from 12pm-2.30pm and dinner is served from 5.30pm-8.30pm. \n*15% surcharge applies on Public Holidays. \n
URL:https://hoeymoey.com.au/event/tuesday-lamb-cutlets/2019-08-27/
LOCATION:The Hoey Moey\, 84 Ocean Parade\, Coffs Harbour\, NSW\, 2450\, Australia
CATEGORIES:Meal Deal,Whats On
ATTACH;FMTTYPE=image/jpeg:https://hoeymoey.com.au/wp-content/uploads/2019/08/Lamb-cutlets-Tuesday-special-at-the-Hoey-Moey-Hotel-and-Pub-Coffs-Harbour.jpg
END:VEVENT
BEGIN:VEVENT
DTSTART;TZID="Australia/Sydney":20190827T160000
DTEND;TZID="Australia/Sydney":20190827T180000
DTSTAMP:20210301T193830
CREATED:20190820T033321Z
LAST-MODIFIED:20190820T033321Z
UID:1952-1566921600-1566928800@hoeymoey.com.au
SUMMARY:MATES RATES – $4.50 SCHOONERS
DESCRIPTION:*This promotion runs from 4pm -6pm Monday – Friday.  Members card must be swiped upon purchase. Thank your for your cooperation. \n
URL:https://hoeymoey.com.au/event/poker-and-pool-comp-2/2019-08-27/
CATEGORIES:Weekly Events,Whats On
ATTACH;FMTTYPE=image/jpeg:https://hoeymoey.com.au/wp-content/uploads/2019/08/Hoey_MATESRATES_BistroPOS-600x450.jpg
END:VEVENT
BEGIN:VEVENT
DTSTART;VALUE=DATE:20190828
DTEND;VALUE=DATE:20190829
DTSTAMP:20210301T193830
CREATED:20190820T030800Z
LAST-MODIFIED:20190820T030800Z
UID:1379-1566950400-1567036799@hoeymoey.com.au
SUMMARY:Wednesday $12.50 Rump Steak
DESCRIPTION:Try our $12.50 RUMP feed at the famous Hoey Moey every Wednesday! \nServed with chips\, fresh salad and gravy. \nFeeling extra hungry?  Supersize your feed for only $5.50 and get an additional piece of Rump Steak! \nEnjoy the relaxed atmosphere in our beer garden or with the family in the bistro with our newly renovated kids room. \nLunch is served from 12pm – 2.30pm and dinner is served from 5.30pm-8.30pm. \n*15% surcharge applies on Public Holidays \n
URL:https://hoeymoey.com.au/event/wednesday-members-rump-steak/2019-08-28/
LOCATION:The Hoey Moey\, 84 Ocean Parade\, Coffs Harbour\, NSW\, 2450\, Australia
CATEGORIES:Meal Deal,Whats On
ATTACH;FMTTYPE=image/jpeg:https://hoeymoey.com.au/wp-content/uploads/2019/08/rumpsteak.jpg
END:VEVENT
BEGIN:VEVENT
DTSTART;TZID="Australia/Sydney":20190828T160000
DTEND;TZID="Australia/Sydney":20190828T180000
DTSTAMP:20210301T193830
CREATED:20190820T033321Z
LAST-MODIFIED:20190820T033321Z
UID:2499-1567008000-1567015200@hoeymoey.com.au
SUMMARY:MATES RATES – $4.50 SCHOONERS
DESCRIPTION:Come and enjoy an ice cold schooner of tap beer for only $4.50 for members! \nMates rates is from 4pm to 6pm Monday – Friday. \nMembers card must be swiped upon purchase. \n\n* Conditions apply. \n\n
URL:https://hoeymoey.com.au/event/poker-and-pool-comp-2/2019-08-28/
LOCATION:The Hoey Moey\, 84 Ocean Parade\, Coffs Harbour\, NSW\, 2450\, Australia
CATEGORIES:Weekly Events,Whats On
ATTACH;FMTTYPE=image/jpeg:https://hoeymoey.com.au/wp-content/uploads/2019/08/Schooners-beer-Hoey-Moey-Pub-and-Hotel-Coffs-Harbour.jpg
END:VEVENT
BEGIN:VEVENT
DTSTART;VALUE=DATE:20190829
DTEND;VALUE=DATE:20190830
DTSTAMP:20210301T193830
CREATED:20190820T031634Z
LAST-MODIFIED:20190820T031634Z
UID:1500-1567036800-1567123199@hoeymoey.com.au
SUMMARY:Thursday $12.50 Chicken Parmi
DESCRIPTION:Enjoy our famous $12.50 Chicken Parmi Feed every Thursday at the Hoey Moey! \nIt is served with crunchy chips and salad. \nFeeling extra hungry? Supersize for only $5.50 and get an additional Chicken Parmi! \nEnjoy the relaxed atmosphere in our beer garden or with the family in the bistro with our newly renovated kid’s room. \nLunch is served from 12pm – 2.30pm and dinner is served from 5.30pm-8.30pm. \n*15% surcharge applies on Public Holidays. \n
URL:https://hoeymoey.com.au/event/thursday-chicken-parmi/2019-08-29/
CATEGORIES:Meal Deal,Whats On
ATTACH;FMTTYPE=image/jpeg:https://hoeymoey.com.au/wp-content/uploads/2019/08/chickenparmi.jpg
END:VEVENT
BEGIN:VEVENT
DTSTART;TZID="Australia/Sydney":20190829T160000
DTEND;TZID="Australia/Sydney":20190829T180000
DTSTAMP:20210301T193830
CREATED:20190820T033321Z
LAST-MODIFIED:20190820T033321Z
UID:2500-1567094400-1567101600@hoeymoey.com.au
SUMMARY:MATES RATES – $4.50 SCHOONERS
DESCRIPTION:Come and enjoy an ice cold schooner of tap beer for only $4.50 for members! \nMates rates is from 4pm to 6pm Monday – Friday. \nMembers card must be swiped upon purchase. \n\n* Conditions apply. \n\n
URL:https://hoeymoey.com.au/event/poker-and-pool-comp-2/2019-08-29/
LOCATION:The Hoey Moey\, 84 Ocean Parade\, Coffs Harbour\, NSW\, 2450\, Australia
CATEGORIES:Weekly Events,Whats On
ATTACH;FMTTYPE=image/jpeg:https://hoeymoey.com.au/wp-content/uploads/2019/08/Schooners-beer-Hoey-Moey-Pub-and-Hotel-Coffs-Harbour.jpg
END:VEVENT
BEGIN:VEVENT
DTSTART;VALUE=DATE:20190830
DTEND;VALUE=DATE:20190831
DTSTAMP:20210301T193830
CREATED:20190815T234137Z
LAST-MODIFIED:20190820T031743Z
UID:499-1567123200-1567209599@hoeymoey.com.au
SUMMARY:Friday $12.50 Chicken Schnitzel
DESCRIPTION:Try our $12.50 Chicken Schnitty Feed EVERY Friday at the famous Hoey Moey! \nServed with chips\, fresh salad and gravy. \nFeeling extra hungry? Supersize for only $5.50 and get an additional Schnitty! \nEnjoy the relaxed atmosphere in our beer garden or with the family in the bistro with our newly renovated kid’s room. \nLunch is served from 12pm – 2.30pm and dinner is served from 5.30pm-8.30pm. \n*15% surcharge applies on Public Holidays. \n
URL:https://hoeymoey.com.au/event/friday-10-chicken-schnitzel/2019-08-30/
LOCATION:The Hoey Moey\, 84 Ocean Parade\, Coffs Harbour\, NSW\, 2450\, Australia
CATEGORIES:Meal Deal
ATTACH;FMTTYPE=image/jpeg:https://hoeymoey.com.au/wp-content/uploads/2019/08/schnitty.jpg
END:VEVENT
BEGIN:VEVENT
DTSTART;VALUE=DATE:20190830
DTEND;VALUE=DATE:20190831
DTSTAMP:20210301T193830
CREATED:20190816T034123Z
LAST-MODIFIED:20190819T004435Z
UID:823-1567123200-1567209599@hoeymoey.com.au
SUMMARY:Friday Mate's Rates - $4.50 Schooners
DESCRIPTION:
URL:https://hoeymoey.com.au/event/thursday-chicken-parmi-family-deal/2019-08-30/
LOCATION:The Hoey Moey\, 84 Ocean Parade\, Coffs Harbour\, NSW\, 2450\, Australia
CATEGORIES:Weekly Events,Whats On
ATTACH;FMTTYPE=image/jpeg:https://hoeymoey.com.au/wp-content/uploads/2019/08/sliderplaceholder.jpg
END:VEVENT
BEGIN:VEVENT
DTSTART;TZID="Australia/Sydney":20190830T160000
DTEND;TZID="Australia/Sydney":20190830T180000
DTSTAMP:20210301T193830
CREATED:20190820T033321Z
LAST-MODIFIED:20190820T033321Z
UID:2501-1567180800-1567188000@hoeymoey.com.au
SUMMARY:MATES RATES – $4.50 SCHOONERS
DESCRIPTION:Come and enjoy an ice cold schooner of tap beer for only $4.50 for members! \nMates rates is from 4pm to 6pm Monday – Friday. \nMembers card must be swiped upon purchase. \n\n* Conditions apply. \n\n
URL:https://hoeymoey.com.au/event/poker-and-pool-comp-2/2019-08-30/
LOCATION:The Hoey Moey\, 84 Ocean Parade\, Coffs Harbour\, NSW\, 2450\, Australia
CATEGORIES:Weekly Events,Whats On
ATTACH;FMTTYPE=image/jpeg:https://hoeymoey.com.au/wp-content/uploads/2019/08/Schooners-beer-Hoey-Moey-Pub-and-Hotel-Coffs-Harbour.jpg
END:VEVENT
BEGIN:VEVENT
DTSTART;VALUE=DATE:20190831
DTEND;VALUE=DATE:20190901
DTSTAMP:20210301T193830
CREATED:20190820T031837Z
LAST-MODIFIED:20190820T031940Z
UID:1628-1567209600-1567295999@hoeymoey.com.au
SUMMARY:Saturday $12.50 Pork Ribs
DESCRIPTION:Try our famous $12.50 Pork Ribs Feed EVERY Saturday at the famous Hoey Moey! \nServed with chips and salad. \nFeeling extra hungry? Supersize for only $5.50 and get an additional Slab! \nEnjoy the relaxed atmosphere in our beer garden or with the family in the bistro with our newly renovated kids room. \nLunch is served from 12pm – 2.30pm and dinner is served from 5.30pm-8.30pm. \n*15% surcharge applies on Public Holidays. \n
URL:https://hoeymoey.com.au/event/saturday-pork-ribs/2019-08-31/
LOCATION:The Hoey Moey\, 84 Ocean Parade\, Coffs Harbour\, NSW\, 2450\, Australia
CATEGORIES:Meal Deal,Whats On
ATTACH;FMTTYPE=image/jpeg:https://hoeymoey.com.au/wp-content/uploads/2019/08/porkribs.jpg
END:VEVENT
BEGIN:VEVENT
DTSTART;TZID="Europe/Paris":20190831T200000
DTEND;TZID="Europe/Paris":20190831T200000
DTSTAMP:20210301T193830
CREATED:20190830T103936Z
LAST-MODIFIED:20190830T104003Z
UID:2208-1567281600-1567281600@hoeymoey.com.au
SUMMARY:DJ Dangerwaves
DESCRIPTION:Hit the dance floor with DJ Dangerwaves spinning tunes from 8pm to late! \n
URL:https://hoeymoey.com.au/event/dj-dangerwaves/
LOCATION:The Hoey Moey\, 84 Ocean Parade\, Coffs Harbour\, NSW\, 2450\, Australia
CATEGORIES:Entertainment
ATTACH;FMTTYPE=image/jpeg:https://hoeymoey.com.au/wp-content/uploads/2019/08/DJ-at-the-Hoey-Moey-beer-garden-Coffs-Harbour.jpeg
END:VEVENT
BEGIN:VEVENT
DTSTART;VALUE=DATE:20190901
DTEND;VALUE=DATE:20190902
DTSTAMP:20210301T193830
CREATED:20190820T032508Z
LAST-MODIFIED:20190820T032508Z
UID:1840-1567296000-1567382399@hoeymoey.com.au
SUMMARY:Sunday $5 Sirloin
DESCRIPTION:Holy Sirloin!! Try our amazing $5.00 Sirloin Feed EVERY Sunday at the famous Hoey Moey. \nServed with chips and salad (gravy $1 extra)\, \nFeeling extra hungry? Supersize for only $4.50 and get an additional Sirloin! \nEnjoy the relaxed atmosphere in our beer garden or with the family in the bistro with our newly renovated kid’s room. \nLunch is served from 12pm – 2.30pm and dinner is served from 5.30pm-8.30pm. \n*Limited time only. 15% surcharge applies on Public Holidays. \n
URL:https://hoeymoey.com.au/event/sunday-sirloin/2019-09-01/
LOCATION:The Hoey Moey\, 84 Ocean Parade\, Coffs Harbour\, NSW\, 2450\, Australia
CATEGORIES:Meal Deal,Whats On
ATTACH;FMTTYPE=image/jpeg:https://hoeymoey.com.au/wp-content/uploads/2019/08/sirloin.jpg
END:VEVENT
BEGIN:VEVENT
DTSTART;TZID="Europe/Paris":20190901T130000
DTEND;TZID="Europe/Paris":20190901T160000
DTSTAMP:20210301T193830
CREATED:20190830T110856Z
LAST-MODIFIED:20190830T110856Z
UID:2230-1567342800-1567353600@hoeymoey.com.au
SUMMARY:Sunday Session with Steve Bennett
DESCRIPTION:Steve has been singing and playing guitar since he was young\, surrounded by music and jam sessions in the lounge room. \nLearning the basics from his dad and moving on to learning songs and developing his own style\, which led him to writing his own songs and starting family band Ghost Road in 1992. \n\nSteve’s bag of tunes is very eclectic\, he is a true story-teller and his music makes you want to sing and dance. He keeps the rhythm grooves tight and can bend a tasty solo. \nSteve has done session work as a rhythm guitarist for touring bands\, performs regularly with his band Ghost Road along with duo’s with brother Beau as ‘The Bennett Bros’. \n\n
URL:https://hoeymoey.com.au/event/sunday-session-with-steve-bennett/
LOCATION:The Hoey Moey\, 84 Ocean Parade\, Coffs Harbour\, NSW\, 2450\, Australia
CATEGORIES:Entertainment
ATTACH;FMTTYPE=image/jpeg:https://hoeymoey.com.au/wp-content/uploads/2019/08/Steve-Bennett-live-music-bands-Hoey-Moey-Hotel-and-Pub-Park-Beach-Coffs-Harbour.jpg
END:VEVENT
BEGIN:VEVENT
DTSTART;TZID="Australia/Sydney":20190901T150000
DTEND;TZID="Australia/Sydney":20190901T200000
DTSTAMP:20210301T193830
CREATED:20190820T040122Z
LAST-MODIFIED:20190830T111131Z
UID:2061-1567350000-1567368000@hoeymoey.com.au
SUMMARY:Jon Stevens Live At the Hoey Moey!
DESCRIPTION:Jon Stevens will be live at the Hoey Moey on Sunday\, 1st of September! \nJon Stevens is recognised as one of the most talented rock musicians to emerge from Australia in recent memory. He has had phenomenal success as a solo artist\, and was also the lead singer of major rock acts Noiseworks\, INXS and Dead Daisies. \nJon Stevens’ career has gone from strength-to-strength: a record-smashing debut at age 16 with two consecutive No. 1 singles in his New Zealand homeland. He also enjoyed huge hits in Australia as lead singer with Noiseworks. Stevens 21st-century liftoff to worldwide acclaim was at centre stage with INXS\, and a song released by Dead Daisies which he co-wrote and produced with the legendary Slash on guitar. Ringo Starr plays the drums on the lonely ballad ‘One Way Street’ and ‘Something Bout You’ features the vocals of Vanessa Amorosi. \nHailing from New Zealand Stevens is now based in Melbourne\, Victoria in Australia and travels all over the world touring his music. Jon Stevens is renowned as an exceptional live performer who brings a true passion and presence to his fans. \nTickets are $15 plus booking fee purchased at: \nhttps://tickets.oztix.com.au/outlet/event/1ca13344-abe9-4bca-84c2-f1473fb46dd4?Event=102744 \n  \n
URL:https://hoeymoey.com.au/event/jon-stevens-live-at-the-hoey-moey/
LOCATION:The Hoey Moey\, 84 Ocean Parade\, Coffs Harbour\, NSW\, 2450\, Australia
CATEGORIES:Entertainment
ATTACH;FMTTYPE=image/jpeg:https://hoeymoey.com.au/wp-content/uploads/2019/08/jonstevens60.jpg
END:VEVENT
BEGIN:VEVENT
DTSTART;VALUE=DATE:20190902
DTEND;VALUE=DATE:20190903
DTSTAMP:20210301T193830
CREATED:20190815T234302Z
LAST-MODIFIED:20190820T032716Z
UID:606-1567382400-1567468799@hoeymoey.com.au
SUMMARY:Monday $12.50 Barramundi
DESCRIPTION:Our Famous $12.50 Barramundi Feed is served every Monday with a lemon wedge\, chips and salad. \nFeeling extra hungry? Supersize for only $5.50 and get an additional piece of Barramundi! \nEnjoy the relaxed atmosphere in our beer garden or with the family in the bistro with our newly renovated kid’s room. \nLunch is served from 12pm-2.30pm and dinner is served from 5.30pm-8.30pm. \n*15% surcharge applies on Public Holidays. \n
URL:https://hoeymoey.com.au/event/monday-meal-deal-barramundi/2019-09-02/
LOCATION:The Hoey Moey\, 84 Ocean Parade\, Coffs Harbour\, NSW\, 2450\, Australia
CATEGORIES:Meal Deal,Whats On
ATTACH;FMTTYPE=image/jpeg:https://hoeymoey.com.au/wp-content/uploads/2019/08/baramondayyyy.jpg
END:VEVENT
BEGIN:VEVENT
DTSTART;TZID="Australia/Sydney":20190902T160000
DTEND;TZID="Australia/Sydney":20190902T180000
DTSTAMP:20210301T193830
CREATED:20190820T033321Z
LAST-MODIFIED:20190820T033321Z
UID:2502-1567440000-1567447200@hoeymoey.com.au
SUMMARY:MATES RATES – $4.50 SCHOONERS
DESCRIPTION:Come and enjoy an ice cold schooner of tap beer for only $4.50 for members! \nMates rates is from 4pm to 6pm Monday – Friday. \nMembers card must be swiped upon purchase. \n\n* Conditions apply. \n\n
URL:https://hoeymoey.com.au/event/poker-and-pool-comp-2/2019-09-02/
LOCATION:The Hoey Moey\, 84 Ocean Parade\, Coffs Harbour\, NSW\, 2450\, Australia
CATEGORIES:Weekly Events,Whats On
ATTACH;FMTTYPE=image/jpeg:https://hoeymoey.com.au/wp-content/uploads/2019/08/Schooners-beer-Hoey-Moey-Pub-and-Hotel-Coffs-Harbour.jpg
END:VEVENT
BEGIN:VEVENT
DTSTART;VALUE=DATE:20190903
DTEND;VALUE=DATE:20190904
DTSTAMP:20210301T193830
CREATED:20190820T025709Z
LAST-MODIFIED:20190820T043031Z
UID:1166-1567468800-1567555199@hoeymoey.com.au
SUMMARY:Tuesday $12.50 Lamb Cutlets
DESCRIPTION:Try our $12.50 LAMB CUTLETS Tuesday at the famous Hoey Moey! \nServed with chips\, fresh salad and gravy. \nFeeling extra hungry? Supersize for only $5.50 and get an additional Cutlet! \nEnjoy the relaxed atmosphere in our beer garden or with the family in the bistro with our newly renovated kid’s room. \nLunch is served from 12pm-2.30pm and dinner is served from 5.30pm-8.30pm. \n*15% surcharge applies on Public Holidays. \n
URL:https://hoeymoey.com.au/event/tuesday-lamb-cutlets/2019-09-03/
LOCATION:The Hoey Moey\, 84 Ocean Parade\, Coffs Harbour\, NSW\, 2450\, Australia
CATEGORIES:Meal Deal,Whats On
ATTACH;FMTTYPE=image/jpeg:https://hoeymoey.com.au/wp-content/uploads/2019/08/Lamb-cutlets-Tuesday-special-at-the-Hoey-Moey-Hotel-and-Pub-Coffs-Harbour.jpg
END:VEVENT
BEGIN:VEVENT
DTSTART;TZID="Australia/Sydney":20190903T160000
DTEND;TZID="Australia/Sydney":20190903T180000
DTSTAMP:20210301T193830
CREATED:20190820T033321Z
LAST-MODIFIED:20190820T033321Z
UID:1953-1567526400-1567533600@hoeymoey.com.au
SUMMARY:MATES RATES – $4.50 SCHOONERS
DESCRIPTION:*This promotion runs from 4pm -6pm Monday – Friday.  Members card must be swiped upon purchase. Thank your for your cooperation. \n
URL:https://hoeymoey.com.au/event/poker-and-pool-comp-2/2019-09-03/
CATEGORIES:Weekly Events,Whats On
ATTACH;FMTTYPE=image/jpeg:https://hoeymoey.com.au/wp-content/uploads/2019/08/Hoey_MATESRATES_BistroPOS-600x450.jpg
END:VEVENT
BEGIN:VEVENT
DTSTART;VALUE=DATE:20190904
DTEND;VALUE=DATE:20190905
DTSTAMP:20210301T193830
CREATED:20190820T030800Z
LAST-MODIFIED:20190820T030800Z
UID:1380-1567555200-1567641599@hoeymoey.com.au
SUMMARY:Wednesday $12.50 Rump Steak
DESCRIPTION:Try our $12.50 RUMP feed at the famous Hoey Moey every Wednesday! \nServed with chips\, fresh salad and gravy. \nFeeling extra hungry?  Supersize your feed for only $5.50 and get an additional piece of Rump Steak! \nEnjoy the relaxed atmosphere in our beer garden or with the family in the bistro with our newly renovated kids room. \nLunch is served from 12pm – 2.30pm and dinner is served from 5.30pm-8.30pm. \n*15% surcharge applies on Public Holidays \n
URL:https://hoeymoey.com.au/event/wednesday-members-rump-steak/2019-09-04/
LOCATION:The Hoey Moey\, 84 Ocean Parade\, Coffs Harbour\, NSW\, 2450\, Australia
CATEGORIES:Meal Deal,Whats On
ATTACH;FMTTYPE=image/jpeg:https://hoeymoey.com.au/wp-content/uploads/2019/08/rumpsteak.jpg
END:VEVENT
BEGIN:VEVENT
DTSTART;TZID="Australia/Sydney":20190904T160000
DTEND;TZID="Australia/Sydney":20190904T180000
DTSTAMP:20210301T193830
CREATED:20190820T033321Z
LAST-MODIFIED:20190820T033321Z
UID:2503-1567612800-1567620000@hoeymoey.com.au
SUMMARY:MATES RATES – $4.50 SCHOONERS
DESCRIPTION:Come and enjoy an ice cold schooner of tap beer for only $4.50 for members! \nMates rates is from 4pm to 6pm Monday – Friday. \nMembers card must be swiped upon purchase. \n\n* Conditions apply. \n\n
URL:https://hoeymoey.com.au/event/poker-and-pool-comp-2/2019-09-04/
LOCATION:The Hoey Moey\, 84 Ocean Parade\, Coffs Harbour\, NSW\, 2450\, Australia
CATEGORIES:Weekly Events,Whats On
ATTACH;FMTTYPE=image/jpeg:https://hoeymoey.com.au/wp-content/uploads/2019/08/Schooners-beer-Hoey-Moey-Pub-and-Hotel-Coffs-Harbour.jpg
END:VEVENT
BEGIN:VEVENT
DTSTART;VALUE=DATE:20190905
DTEND;VALUE=DATE:20190906
DTSTAMP:20210301T193830
CREATED:20190820T031634Z
LAST-MODIFIED:20190820T031634Z
UID:1501-1567641600-1567727999@hoeymoey.com.au
SUMMARY:Thursday $12.50 Chicken Parmi
DESCRIPTION:Enjoy our famous $12.50 Chicken Parmi Feed every Thursday at the Hoey Moey! \nIt is served with crunchy chips and salad. \nFeeling extra hungry? Supersize for only $5.50 and get an additional Chicken Parmi! \nEnjoy the relaxed atmosphere in our beer garden or with the family in the bistro with our newly renovated kid’s room. \nLunch is served from 12pm – 2.30pm and dinner is served from 5.30pm-8.30pm. \n*15% surcharge applies on Public Holidays. \n
URL:https://hoeymoey.com.au/event/thursday-chicken-parmi/2019-09-05/
CATEGORIES:Meal Deal,Whats On
ATTACH;FMTTYPE=image/jpeg:https://hoeymoey.com.au/wp-content/uploads/2019/08/chickenparmi.jpg
END:VEVENT
END:VCALENDAR