BEGIN:VCALENDAR
VERSION:2.0
PRODID:-//Hoey Moey - ECPv6.3.3.1//NONSGML v1.0//EN
CALSCALE:GREGORIAN
METHOD:PUBLISH
X-WR-CALNAME:Hoey Moey
X-ORIGINAL-URL:https://hoeymoey.com.au
X-WR-CALDESC:Events for Hoey Moey
REFRESH-INTERVAL;VALUE=DURATION:PT1H
X-Robots-Tag:noindex
X-PUBLISHED-TTL:PT1H
BEGIN:VTIMEZONE
TZID:Australia/Sydney
BEGIN:STANDARD
TZOFFSETFROM:+1100
TZOFFSETTO:+1000
TZNAME:AEST
DTSTART:20260404T160000
END:STANDARD
BEGIN:DAYLIGHT
TZOFFSETFROM:+1000
TZOFFSETTO:+1100
TZNAME:AEDT
DTSTART:20261003T160000
END:DAYLIGHT
TZID:Australia/Melbourne
BEGIN:STANDARD
TZOFFSETFROM:+1100
TZOFFSETTO:+1000
TZNAME:AEST
DTSTART:20260404T160000
END:STANDARD
BEGIN:DAYLIGHT
TZOFFSETFROM:+1000
TZOFFSETTO:+1100
TZNAME:AEDT
DTSTART:20261003T160000
END:DAYLIGHT
END:VTIMEZONE
BEGIN:VEVENT
DTSTART;TZID=Australia/Sydney:20260328T190000
DTEND;TZID=Australia/Sydney:20260329T013000
DTSTAMP:20260425T002915
CREATED:20260217T053430Z
LAST-MODIFIED:20260217T054236Z
UID:10007493-1774724400-1774747800@hoeymoey.com.au
SUMMARY:3-Band Showcase: Flying Giant\, Parhelion & Ad Noiseium!
DESCRIPTION:Live & free at the Hoey!\n3-Band Showcase:\n \n\nFlying Giant \nParhelion\nAd Noiseium\n\nSATURDAY MARCH 28\nFREE ENTRY\nFROM 7PM \n  \n \nParhelion – Hailing from NSW Northern Rivers\, Prog powerhouse Parhelion is rapidly drawing attention due to their own blend of heavy percussive tones\, hypnotic riffs and vocal extremes.\nThe sensory feast unleashed through debut EP “Undaunted“\, the magnetic pull and push of their music will leave you understandably hooked. \nAd Noiseium – Primed\, tight and ready for rock bedlam – Ad Noiseium is a sonic rock monster born from the coming together of heavy noise addicts. A three-piece barrage of uppity heavy riffage ready for your aural pleasure. \nDJ Danger Waves will follow the 3-band showcase until late.
URL:https://hoeymoey.com.au/event/3-band-showcase-grxce-with-special-features-loons/
CATEGORIES:Entertainment,Whats On
ATTACH;FMTTYPE=image/png:https://hoeymoey.com.au/wp-content/uploads/2026/02/Flying-Giant.png
END:VEVENT
BEGIN:VEVENT
DTSTART;TZID=Australia/Melbourne:20260329T170000
DTEND;TZID=Australia/Melbourne:20260329T203000
DTSTAMP:20260425T002915
CREATED:20250512T023809Z
LAST-MODIFIED:20260302T055136Z
UID:10006188-1774803600-1774816200@hoeymoey.com.au
SUMMARY:Sunday Session featuring Tropical Punch!
DESCRIPTION:Tropical Punch is a Bellingen-based DJ and percussionist who brings the vibrant rhythms and infectious energy of tropical sounds to any event. With a deep passion for Afrobeat\, Latin house\, reggae\, and global bass and House\, Tropical Punch crafts DJ sets that are journeys through sun-drenched landscapes and pulsating dance floors. \nAdding a dynamic live element to their performances\, Tropical Punch incorporates live percussion\, layering intricate rhythms over their mixes to create an immersive and unforgettable experience. Whether it’s the driving force of congas\, the shimmering accents of shakers\, or the melodic tones of Timbales\, the live percussion elevates the music and ignites the crowd. \nFrom intimate bar settings to larger festival stages\, Tropical Punch has a knack for creating an atmosphere of pure joy and movement. Their sets are characterised by their seamless transitions\, thoughtful track selection\, and the irresistible urge to dance. Get ready to be swept away by the Tropical Punch sound – where the sun always shines and the rhythm is always strong.
URL:https://hoeymoey.com.au/event/sunday-session-featuring-tropical-punch/
LOCATION:The Hoey Moey\, 84 Ocean Parade\, Coffs Harbour\, NSW\, 2450\, Australia
CATEGORIES:Entertainment,Whats On
ATTACH;FMTTYPE=image/png:https://hoeymoey.com.au/wp-content/uploads/2025/05/Tropical-Punch-artwork.png
END:VEVENT
END:VCALENDAR