BEGIN:VCALENDAR
VERSION:2.0
PRODID:-//Hoey Moey - ECPv6.3.3.1//NONSGML v1.0//EN
CALSCALE:GREGORIAN
METHOD:PUBLISH
X-ORIGINAL-URL:https://hoeymoey.com.au
X-WR-CALDESC:Events for Hoey Moey
REFRESH-INTERVAL;VALUE=DURATION:PT1H
X-Robots-Tag:noindex
X-PUBLISHED-TTL:PT1H
BEGIN:VTIMEZONE
TZID:Australia/Sydney
BEGIN:STANDARD
TZOFFSETFROM:+1100
TZOFFSETTO:+1000
TZNAME:AEST
DTSTART:20260404T160000
END:STANDARD
BEGIN:DAYLIGHT
TZOFFSETFROM:+1000
TZOFFSETTO:+1100
TZNAME:AEDT
DTSTART:20261003T160000
END:DAYLIGHT
END:VTIMEZONE
BEGIN:VEVENT
DTSTART;TZID=Australia/Sydney:20260401T180000
DTEND;TZID=Australia/Sydney:20260401T190000
DTSTAMP:20260424T194733
CREATED:20260316T233920Z
LAST-MODIFIED:20260331T011139Z
UID:10008281-1775066400-1775070000@hoeymoey.com.au
SUMMARY:Snake Eyes Dice Game every Wednesday!
DESCRIPTION:SNAKE EYES DICE GAME WEDNESDAYS \n\n$50 increase per week\, capped at $500\nDouble one for the grand prize\nDoubles for the below receive:2 – Jug of Hahn or 3.5\n3 – Pizza voucher\n4 – Pint of Hahn or 3.5\n5 – Schooner of Hahn or 3.5\n6 – Mystery prize*Conditions apply – see staff for more details.
URL:https://hoeymoey.com.au/event/snake-eyes-dice-game-every-wednesday/2026-04-01/
CATEGORIES:Entertainment,Weekly Events,Whats On
ATTACH;FMTTYPE=image/jpeg:https://hoeymoey.com.au/wp-content/uploads/2026/03/HM_SnakeEyesDiceGame_MAR2026_WEB.jpg
END:VEVENT
BEGIN:VEVENT
DTSTART;TZID=Australia/Sydney:20260401T180000
DTEND;TZID=Australia/Sydney:20260401T210000
DTSTAMP:20260424T194733
CREATED:20251228T230051Z
LAST-MODIFIED:20260330T041333Z
UID:10007460-1775066400-1775077200@hoeymoey.com.au
SUMMARY:Christine Anu Live!
DESCRIPTION:MBA & Offbeat present… \nCHRISTINE ANU & BAND\nwith special guest: Raku O’Gaia\nThe Hoey Moey\nWednesday 1st April 2026\nDoors 6pm\n \nGrab your tickets here before they’re gone! \nChristine Anu is one of Australia’s most popular recording artists and performers of all time\, who uses her voice and reputation to spread a message of unity and hope. With 17 ARIA nominations\, including the APRA AMCOS award-winning My Island Home and her platinum album Stylin’ Up\, she has one of the country’s most enduring and recognisable voices. \nHer acclaimed 27-year career spans all forms of media\, including music\, theatre\, dance\, film\, television\, radio\, children’s entertainment\, and one of the most influential keynote speakers. Her broad range of achievements includes platinum-selling solo albums\, acting in Hollywood blockbusters such as Moulin Rouge and The Matrix: Reloaded\, performing in hit sell-out musicals like Rent and Little Shop of Horrors\, and featuring roles in high-profile TV shows like The Alice and Outland. Over the years\, Christine has been central to several memorable historic moments\, with her performance of “My Island Home” at the Sydney 200 Olympics Closing Ceremony a notable standout. Many Australians consider Christine’s My Island Home as the unofficial Australian National Anthem \nChristine has and will always be proud of her Torres Strait Islander heritage and\, at any given opportunity\, will use her public profile as a platform to advocate for Aboriginal and Torres Strait Islander people and others from marginalised backgrounds. Anu is a prominent voice of multicultural Australia and\, in 2016\, was appointed host of the ABC radio program and now presents her own national radio show on ABC Radio every Friday and Saturday. \nWhen speaking to Anu about her proudest career moments\, she speaks of becoming a mother to her two children and mentoring her now 18-year-old daughter Zipporah as an entertainer in her own right. Christine and Zipporah have naturally taken the stage together\, and in 201\,9 they performed at the Women’s NRL Grand Final. \nHer eagerly awaited album\, ‘Waku\,’ is a collaborative masterpiece produced by her long-time musical ally\, David Bridie.  ‘Waku’ unfolds as a poignant narrative\, delving into the stories of Anu’s culturally rich heritage.
URL:https://hoeymoey.com.au/event/christine-anu-live/
CATEGORIES:Entertainment,Ticketed Entertainment,Whats On
ATTACH;FMTTYPE=image/jpeg:https://hoeymoey.com.au/wp-content/uploads/2025/12/HM_ChristineAnu_APR2026_WEB.jpg
END:VEVENT
END:VCALENDAR