BEGIN:VCALENDAR
VERSION:2.0
PRODID:-//Hoey Moey - ECPv6.3.3.1//NONSGML v1.0//EN
CALSCALE:GREGORIAN
METHOD:PUBLISH
X-ORIGINAL-URL:https://hoeymoey.com.au
X-WR-CALDESC:Events for Hoey Moey
REFRESH-INTERVAL;VALUE=DURATION:PT1H
X-Robots-Tag:noindex
X-PUBLISHED-TTL:PT1H
BEGIN:VTIMEZONE
TZID:Australia/Sydney
BEGIN:STANDARD
TZOFFSETFROM:+1100
TZOFFSETTO:+1000
TZNAME:AEST
DTSTART:20260404T160000
END:STANDARD
BEGIN:DAYLIGHT
TZOFFSETFROM:+1000
TZOFFSETTO:+1100
TZNAME:AEDT
DTSTART:20261003T160000
END:DAYLIGHT
TZID:Australia/Melbourne
BEGIN:STANDARD
TZOFFSETFROM:+1100
TZOFFSETTO:+1000
TZNAME:AEST
DTSTART:20260404T160000
END:STANDARD
BEGIN:DAYLIGHT
TZOFFSETFROM:+1000
TZOFFSETTO:+1100
TZNAME:AEDT
DTSTART:20261003T160000
END:DAYLIGHT
END:VTIMEZONE
BEGIN:VEVENT
DTSTART;TZID=Australia/Sydney:20260404T170000
DTEND;TZID=Australia/Sydney:20260405T003000
DTSTAMP:20260423T042024
CREATED:20260306T044937Z
LAST-MODIFIED:20260306T044937Z
UID:10007497-1775322000-1775349000@hoeymoey.com.au
SUMMARY:Beatz by the Beach Block Party - Easter Block Party!
DESCRIPTION:🌴 Back Car Park (Outdoor Stage)\nSaturday April 4th\nFrom 5pm\nFREE ENTRY \n🎧 NOPHEAR vs 🎤 GLITTEROUS \nBeach party theme – swimwear allowed\, footwear must be worn.
URL:https://hoeymoey.com.au/event/beatz-by-the-beach-block-party-easter-block-party/
CATEGORIES:Entertainment,Whats On
ATTACH;FMTTYPE=image/jpeg:https://hoeymoey.com.au/wp-content/uploads/2026/03/HM_EasterBeachBlockParty_APR2026_WEB.jpg
END:VEVENT
BEGIN:VEVENT
DTSTART;TZID=Australia/Melbourne:20260405T170000
DTEND;TZID=Australia/Melbourne:20260406T013000
DTSTAMP:20260423T042024
CREATED:20251119T035604Z
LAST-MODIFIED:20260317T014155Z
UID:10007454-1775408400-1775439000@hoeymoey.com.au
SUMMARY:Easter Sunday Session featuring the Jacks Band!
DESCRIPTION:The Jacks Band formed a little over 4 years ago by accident\, after 1 jam night\, where they knew a total of 3 songs\, they performed the next night at a family function\, playing for about 3 hours. \nSince then\, they have gathered a large repertoire of songs from rock\, blues\, funk\, soul\, R&B\, country and a few other random genres. \nMusical influences come from everywhere\, and we can enjoy any music that is “Real”. \nThe Jacks are now a staple on the Northern Rivers music scene and have entertained crowds in pubs\, schools\, parties\, weddings\, funerals (yes\, Funerals)\, Surf competitions\, footy ovals\, festivals and much more. \nFingal locals with traditional roots and a white brother ring in\, The Jacks Band play for the thrill and enjoyment\, hopefully you will have a great time and find a new favourite local band! \nDJ Richard Gear will follow the Jacks Band until late.
URL:https://hoeymoey.com.au/event/sunday-session-featuring-the-jacks-band-4/
LOCATION:The Hoey Moey\, 84 Ocean Parade\, Coffs Harbour\, NSW\, 2450\, Australia
CATEGORIES:Entertainment,Whats On
ATTACH;FMTTYPE=image/jpeg:https://hoeymoey.com.au/wp-content/uploads/2025/11/HM_TheJacksBand_APR2026_WEB.jpg
END:VEVENT
END:VCALENDAR