BEGIN:VCALENDAR
VERSION:2.0
PRODID:-//Hoey Moey - ECPv6.3.3.1//NONSGML v1.0//EN
CALSCALE:GREGORIAN
METHOD:PUBLISH
X-WR-CALNAME:Hoey Moey
X-ORIGINAL-URL:https://hoeymoey.com.au
X-WR-CALDESC:Events for Hoey Moey
REFRESH-INTERVAL;VALUE=DURATION:PT1H
X-Robots-Tag:noindex
X-PUBLISHED-TTL:PT1H
BEGIN:VTIMEZONE
TZID:Australia/Sydney
BEGIN:STANDARD
TZOFFSETFROM:+1100
TZOFFSETTO:+1000
TZNAME:AEST
DTSTART:20260404T160000
END:STANDARD
BEGIN:DAYLIGHT
TZOFFSETFROM:+1000
TZOFFSETTO:+1100
TZNAME:AEDT
DTSTART:20261003T160000
END:DAYLIGHT
END:VTIMEZONE
BEGIN:VEVENT
DTSTART;TZID=Australia/Sydney:20260409T080000
DTEND;TZID=Australia/Sydney:20260409T170000
DTSTAMP:20260422T224022
CREATED:20260409T230004Z
LAST-MODIFIED:20260408T231924Z
UID:10008585-1775721600-1775754000@hoeymoey.com.au
SUMMARY:PNAU - The Nirvana Tour live at the Hoey!
DESCRIPTION:Offbeat presents \nPNAU\nThe Nirvana Tour\nWith Special guests  \nWednesday 1st July\nThe Hoey Moey\nDoors 7pm \nTickets 0nsale Friday April 17th from 9am \n  \nPNAU RETURN TO AUSTRALIA PRESENTING\n‘The Nirvana Tour’\n\nAcross decades of boundary-pushing releases\, chart success and global collaborations\, PNAU have established themselves as one of Australia’s most influential electronic acts. Born out of Sydney’s\nunderground clubs and now based in Los Angeles\, Nick Littlemore and Peter Mayes have taken PNAU from the festival stages of Australia to the global charts\, building an ARIA Award-winning\, multi-platinum catalogue\nspanning the breakthrough brilliance of ‘Sambanova’\, era-defining tracks like ‘Chameleon’ and ‘Go Bang’\, and the worldwide phenomenon ‘Cold Heart’ (PNAU Remix) with Elton John and Dua Lipa\, which topped the\nUK Official Singles Chart and dominated the ARIA Singles Chart (alongside of topping charts right across the world). \nNow\, for the first time in their career\, PNAU are taking that full-scale live experience into regional Queensland and New South Wales to heat up winter. The Nirvana Tour brings world-class production\, huge songs and the scale and\nsensory rush of a major headline show into regional venues\, the kind of euphoric\, high-impact experience usually reserved for festival main stages and major metro rooms. \nThis is the full PNAU experience\, expansive\, immersive and built for rooms ready to lose themselves in it.
URL:https://hoeymoey.com.au/event/pnau-the-nirvana-tour-live-at-the-hoey/
CATEGORIES:Entertainment,Ticketed Entertainment,Whats On
ATTACH;FMTTYPE=image/jpeg:https://hoeymoey.com.au/wp-content/uploads/2026/04/PNAU-T1.jpg
END:VEVENT
BEGIN:VEVENT
DTSTART;TZID=Australia/Sydney:20260409T120000
DTEND;TZID=Australia/Sydney:20260409T190000
DTSTAMP:20260422T224022
CREATED:20260316T233247Z
LAST-MODIFIED:20260331T011229Z
UID:10007762-1775736000-1775761200@hoeymoey.com.au
SUMMARY:Joker Poker Jackpot Thursdays is Back!
DESCRIPTION:JOKER POKER JACKPOT THURSDAYS \n\nJackpot starts at $2000. Increases by a minimum of $100 per week with raffle proceeds boosting jackpot increases pending sales.\nEvery Thursday from 26th March\, 2026.\nProceeds to Hoey Moey Community Fund. Raffle from 6pm\, drawn approx 7pm.\n*Conditions apply – see staff for more details.
URL:https://hoeymoey.com.au/event/joker-poker-jackpot-thursdays-is-back/2026-04-09/
CATEGORIES:Entertainment,Weekly Events,Whats On
ATTACH;FMTTYPE=image/jpeg:https://hoeymoey.com.au/wp-content/uploads/2026/03/HM_JokerPokerThursdays_2026_WEB-1.jpg
END:VEVENT
BEGIN:VEVENT
DTSTART;TZID=Australia/Sydney:20260409T170000
DTEND;TZID=Australia/Sydney:20260409T200000
DTSTAMP:20260422T224022
CREATED:20251222T052529Z
LAST-MODIFIED:20260313T045148Z
UID:10007477-1775754000-1775764800@hoeymoey.com.au
SUMMARY:Live Music with Evan Ayres
DESCRIPTION:Performing Beach Pop\, Rock’ n Roll\, and Country. Covers and Originals (written by Evan). \nBorn and raised in Albany\, WA. Evan started playing the Guitar at the age of seven. Singing before he could talk. \nAfter a string of gigs\, including six sell-out shows at Albany’s Port Theatre in 2019\, Evan moved to Perth in 2020 to study a Bachelor of Music at the Western Australian Academy of Performing Arts. He then toured Western Australia and the Northern Territory in 2022. Evan spent 2023 touring the east coast of Australia. In 2024\, Evan toured the UK for three months. \n“In my show\, I sing\, play guitar\, and saxophone\, along with a loop pedal and stomp box.” \nEvan brings his huge\, diverse repertoire and spontaneity. It entertains all generations. He always puts on a show with all his trademark jokes\, banter\, and charisma. \nFrom all-time classics ‘Hit The Road Jack’\, all the way to ‘Shivers’ By Ed Sheeran. Evan’s huge repertoire has something for everyone. \nThis all-star performer guarantees a great show!
URL:https://hoeymoey.com.au/event/live-music-with-evan-ayres-5/
CATEGORIES:Entertainment,Whats On
ATTACH;FMTTYPE=image/jpeg:https://hoeymoey.com.au/wp-content/uploads/2025/05/evan-ayres-live-music-free-hoey-moey-park-beach-hotel-motel-mid-north-coast-accommodation-bar-pub-bistro-restaurant.jpg
END:VEVENT
BEGIN:VEVENT
DTSTART;TZID=Australia/Sydney:20260409T170000
DTEND;TZID=Australia/Sydney:20260409T220000
DTSTAMP:20260422T224022
CREATED:20260330T220357Z
LAST-MODIFIED:20260407T014909Z
UID:10008558-1775754000-1775772000@hoeymoey.com.au
SUMMARY:Thursday Kickoff!
DESCRIPTION:NRL Live and Loud Thursday Nights…. \n\nFREE LIVE MUSIC 5pm-8pm\nJOKER POKER JACKPOT from 6pm\nNRL LIVE from 8pm\n$20 JUGS OF TOOHEYS NEW & XXXX GOLD 8pm-10pm\n$20 PIZZAS 8pm TILL BISTRO CLOSE\n$10 PINTS OF BEER OF THE MONTH
URL:https://hoeymoey.com.au/event/thursday-kickoff/2026-04-09/
CATEGORIES:Entertainment,Whats On
ATTACH;FMTTYPE=image/jpeg:https://hoeymoey.com.au/wp-content/uploads/2026/03/HM_ThursdayKickoff_MAR2026_WEB-1.jpg
END:VEVENT
BEGIN:VEVENT
DTSTART;TZID=Australia/Sydney:20260409T183000
DTEND;TZID=Australia/Sydney:20260409T223000
DTSTAMP:20260422T224022
CREATED:20250908T020056Z
LAST-MODIFIED:20250908T020057Z
UID:10007151-1775759400-1775773800@hoeymoey.com.au
SUMMARY:Byron Bay Premium Lager's Thursday Pool Comp!
DESCRIPTION:Thursday Night Pool Comp – Don’t Miss Out!\nRain or shine\, the game is on! Come down and show off your skills at our weekly pool competition every Thursday night. \n🕢 Sign-up from 6:30pm | Comp starts at 7pm sharp\n💵 Just $5 to enter\n🏆 $100 Guaranteed Cash Prize for the winner\n🍻 5 Drink Tickets for the runner-up!\n*$10 Re-buy if available \nWhether you’re a seasoned player or just in it for fun\, it’s a great night out. Grab your cue and join us! \nRules of Play as per sign posted within the venue. Management decision is final.
URL:https://hoeymoey.com.au/event/pool-comp-2-2-2/2026-04-09/
LOCATION:The Hoey Moey\, 84 Ocean Parade\, Coffs Harbour\, NSW\, 2450\, Australia
CATEGORIES:Entertainment,Whats On
ATTACH;FMTTYPE=image/jpeg:https://hoeymoey.com.au/wp-content/uploads/2025/05/HM_ByronBayLagerThursdayPoolComp_SEP2025_WEB.jpg
END:VEVENT
END:VCALENDAR