BEGIN:VCALENDAR
VERSION:2.0
PRODID:-//Hoey Moey - ECPv6.3.3.1//NONSGML v1.0//EN
CALSCALE:GREGORIAN
METHOD:PUBLISH
X-ORIGINAL-URL:https://hoeymoey.com.au
X-WR-CALDESC:Events for Hoey Moey
REFRESH-INTERVAL;VALUE=DURATION:PT1H
X-Robots-Tag:noindex
X-PUBLISHED-TTL:PT1H
BEGIN:VTIMEZONE
TZID:Australia/Sydney
BEGIN:STANDARD
TZOFFSETFROM:+1100
TZOFFSETTO:+1000
TZNAME:AEST
DTSTART:20260404T160000
END:STANDARD
BEGIN:DAYLIGHT
TZOFFSETFROM:+1000
TZOFFSETTO:+1100
TZNAME:AEDT
DTSTART:20261003T160000
END:DAYLIGHT
END:VTIMEZONE
BEGIN:VEVENT
DTSTART;TZID=Australia/Sydney:20260410T180000
DTEND;TZID=Australia/Sydney:20260411T013000
DTSTAMP:20260422T211822
CREATED:20240327T040157Z
LAST-MODIFIED:20260319T002718Z
UID:10005571-1775844000-1775871000@hoeymoey.com.au
SUMMARY:Live music with Brody Ireland\, followed by DJ Richard Gear!
DESCRIPTION:Combining acoustic guitar\, vocals\, stompbox\, and looping into a huge sound\, Brody will be playing hits from the 60’s till now. \nDJ Richard Gear will follow Brody until late.
URL:https://hoeymoey.com.au/event/live-music-with-brody-ireland-followed-by-dj-salty/
LOCATION:The Hoey Moey\, 84 Ocean Parade\, Coffs Harbour\, NSW\, 2450\, Australia
CATEGORIES:Entertainment,Whats On
ATTACH;FMTTYPE=image/png:https://hoeymoey.com.au/wp-content/uploads/2022/03/Brody-Ireland.png
END:VEVENT
END:VCALENDAR