BEGIN:VCALENDAR
VERSION:2.0
PRODID:-//Hoey Moey - ECPv6.3.3.1//NONSGML v1.0//EN
CALSCALE:GREGORIAN
METHOD:PUBLISH
X-ORIGINAL-URL:https://hoeymoey.com.au
X-WR-CALDESC:Events for Hoey Moey
REFRESH-INTERVAL;VALUE=DURATION:PT1H
X-Robots-Tag:noindex
X-PUBLISHED-TTL:PT1H
BEGIN:VTIMEZONE
TZID:Australia/Sydney
BEGIN:STANDARD
TZOFFSETFROM:+1100
TZOFFSETTO:+1000
TZNAME:AEST
DTSTART:20260404T160000
END:STANDARD
BEGIN:DAYLIGHT
TZOFFSETFROM:+1000
TZOFFSETTO:+1100
TZNAME:AEDT
DTSTART:20261003T160000
END:DAYLIGHT
END:VTIMEZONE
BEGIN:VEVENT
DTSTART;TZID=Australia/Sydney:20260416T120000
DTEND;TZID=Australia/Sydney:20260416T190000
DTSTAMP:20260422T134129
CREATED:20260316T233247Z
LAST-MODIFIED:20260331T011229Z
UID:10007763-1776340800-1776366000@hoeymoey.com.au
SUMMARY:Joker Poker Jackpot Thursdays is Back!
DESCRIPTION:JOKER POKER JACKPOT THURSDAYS \n\nJackpot starts at $2000. Increases by a minimum of $100 per week with raffle proceeds boosting jackpot increases pending sales.\nEvery Thursday from 26th March\, 2026.\nProceeds to Hoey Moey Community Fund. Raffle from 6pm\, drawn approx 7pm.\n*Conditions apply – see staff for more details.
URL:https://hoeymoey.com.au/event/joker-poker-jackpot-thursdays-is-back/2026-04-16/
CATEGORIES:Entertainment,Weekly Events,Whats On
ATTACH;FMTTYPE=image/jpeg:https://hoeymoey.com.au/wp-content/uploads/2026/03/HM_JokerPokerThursdays_2026_WEB-1.jpg
END:VEVENT
BEGIN:VEVENT
DTSTART;TZID=Australia/Sydney:20260416T170000
DTEND;TZID=Australia/Sydney:20260416T200000
DTSTAMP:20260422T134129
CREATED:20260313T045933Z
LAST-MODIFIED:20260313T045933Z
UID:10007757-1776358800-1776369600@hoeymoey.com.au
SUMMARY:Live music with Hannah Luke
DESCRIPTION:Hannah Luke\, also known for her original work as Athena Joy- a Queensland Music Award and Gold Coast Music Award finalist -delivers warm\, emotionally grounded live cover performances. With over a decade of experience performing throughout Brisbane\, Toowoomba\, the Gold Coast and Byron Bay\, she creates a relaxed and immersive musical atmosphere. \nHer piano-led sets feature laid-back\, acoustic arrangements of pop\, indie and classic favourites\, including songs by Taylor Swift\, Fleetwood Mac and Vanessa Carlton. Hannah’s performances are ideal for weddings\, cocktail hours\, dinners\, corporate events\, boutique venues and wineries\, offering a refined yet intimate experience for guests.
URL:https://hoeymoey.com.au/event/live-music-with-hannah-luke/
LOCATION:The Hoey Moey\, 84 Ocean Parade\, Coffs Harbour\, NSW\, 2450\, Australia
CATEGORIES:Entertainment,Whats On
ATTACH;FMTTYPE=image/jpeg:https://hoeymoey.com.au/wp-content/uploads/2026/03/hannah-luke-hoey-moey-park-beach-hotel-motel-free-live-music-concert-coffs-harbour-coffs-coast-mid-north-coast-accommodation-bar-pub-bistro-restaurant.jpg
END:VEVENT
BEGIN:VEVENT
DTSTART;TZID=Australia/Sydney:20260416T170000
DTEND;TZID=Australia/Sydney:20260416T220000
DTSTAMP:20260422T134129
CREATED:20260330T220357Z
LAST-MODIFIED:20260407T014909Z
UID:10008559-1776358800-1776376800@hoeymoey.com.au
SUMMARY:Thursday Kickoff!
DESCRIPTION:NRL Live and Loud Thursday Nights…. \n\nFREE LIVE MUSIC 5pm-8pm\nJOKER POKER JACKPOT from 6pm\nNRL LIVE from 8pm\n$20 JUGS OF TOOHEYS NEW & XXXX GOLD 8pm-10pm\n$20 PIZZAS 8pm TILL BISTRO CLOSE\n$10 PINTS OF BEER OF THE MONTH
URL:https://hoeymoey.com.au/event/thursday-kickoff/2026-04-16/
CATEGORIES:Entertainment,Whats On
ATTACH;FMTTYPE=image/jpeg:https://hoeymoey.com.au/wp-content/uploads/2026/03/HM_ThursdayKickoff_MAR2026_WEB-1.jpg
END:VEVENT
BEGIN:VEVENT
DTSTART;TZID=Australia/Sydney:20260416T183000
DTEND;TZID=Australia/Sydney:20260416T223000
DTSTAMP:20260422T134129
CREATED:20250908T020056Z
LAST-MODIFIED:20250908T020057Z
UID:10007152-1776364200-1776378600@hoeymoey.com.au
SUMMARY:Byron Bay Premium Lager's Thursday Pool Comp!
DESCRIPTION:Thursday Night Pool Comp – Don’t Miss Out!\nRain or shine\, the game is on! Come down and show off your skills at our weekly pool competition every Thursday night. \n🕢 Sign-up from 6:30pm | Comp starts at 7pm sharp\n💵 Just $5 to enter\n🏆 $100 Guaranteed Cash Prize for the winner\n🍻 5 Drink Tickets for the runner-up!\n*$10 Re-buy if available \nWhether you’re a seasoned player or just in it for fun\, it’s a great night out. Grab your cue and join us! \nRules of Play as per sign posted within the venue. Management decision is final.
URL:https://hoeymoey.com.au/event/pool-comp-2-2-2/2026-04-16/
LOCATION:The Hoey Moey\, 84 Ocean Parade\, Coffs Harbour\, NSW\, 2450\, Australia
CATEGORIES:Entertainment,Whats On
ATTACH;FMTTYPE=image/jpeg:https://hoeymoey.com.au/wp-content/uploads/2025/05/HM_ByronBayLagerThursdayPoolComp_SEP2025_WEB.jpg
END:VEVENT
END:VCALENDAR