BEGIN:VCALENDAR
VERSION:2.0
PRODID:-//Hoey Moey - ECPv6.3.3.1//NONSGML v1.0//EN
CALSCALE:GREGORIAN
METHOD:PUBLISH
X-WR-CALNAME:Hoey Moey
X-ORIGINAL-URL:https://hoeymoey.com.au
X-WR-CALDESC:Events for Hoey Moey
REFRESH-INTERVAL;VALUE=DURATION:PT1H
X-Robots-Tag:noindex
X-PUBLISHED-TTL:PT1H
BEGIN:VTIMEZONE
TZID:Australia/Sydney
BEGIN:STANDARD
TZOFFSETFROM:+1100
TZOFFSETTO:+1000
TZNAME:AEST
DTSTART:20260404T160000
END:STANDARD
BEGIN:DAYLIGHT
TZOFFSETFROM:+1000
TZOFFSETTO:+1100
TZNAME:AEDT
DTSTART:20261003T160000
END:DAYLIGHT
END:VTIMEZONE
BEGIN:VEVENT
DTSTART;TZID=Australia/Sydney:20260417T193000
DTEND;TZID=Australia/Sydney:20260418T013000
DTSTAMP:20260422T103828
CREATED:20260313T043700Z
LAST-MODIFIED:20260417T023341Z
UID:10007755-1776454200-1776475800@hoeymoey.com.au
SUMMARY:Disgraceland - The Punk Rock Elvis Experience!
DESCRIPTION:Disgraceland – The Punk Rock Elvis Experience!\nLive and free at the Hoey Moey\nFrom 7:30pm \nAfter tearing it up on national tours with Aussie rock royalty and on the high seas on Rock the Boat\, Disgraceland has cemented itself as one of the most wildly unpredictable and exciting rock acts in the country. \nFronted by the King of Rock ’n’ Roll himself\, the band filters Elvis’s hip‑shaking swagger through a punk rock blender set to “chaos.” The result? High‑voltage shows are packed with sweat\, swagger\, and enough attitude to power a small regional town. \nAll killer and no filler with punked up hits from Ramones\, Johnny Cash\, Frank Sinatra\, Motorhead\, The Angels\, The Radiators\, The Saints and tonnes more!! All mashed up by The King himself!! \nWelcome to Disgraceland. \nDJ Richard Gear will follow Disgraceland until late.
URL:https://hoeymoey.com.au/event/disgraceland-the-punk-rock-elvis-experience/
CATEGORIES:Entertainment,Whats On
ATTACH;FMTTYPE=image/jpeg:https://hoeymoey.com.au/wp-content/uploads/2026/03/HM_Disgraceland_APR2026_WEB-1.jpg
END:VEVENT
BEGIN:VEVENT
DTSTART;TZID=Australia/Sydney:20260418T190000
DTEND;TZID=Australia/Sydney:20260419T013000
DTSTAMP:20260422T103828
CREATED:20260304T020921Z
LAST-MODIFIED:20260313T044356Z
UID:10007495-1776538800-1776562200@hoeymoey.com.au
SUMMARY:The Don Rogers Band Live at the Hoey!
DESCRIPTION:With a stage presence that’s pure swagger and a raspy\, one-of-a-kind voice that’ll grab your soul\, Don Rogers performances are like a wild party everyone’s invited to. Don’s all about spinning heartfelt stories through his music\, pulling you in whether you’re front row or up the back. He’s rocked stages alongside Australia’s heaviest hitters and stole the show on Channel 7’s The Voice in 2024. Laid-back\, real as they come\, and a born storyteller\, the Don Rogers Band are here to make every gig an experience you won’t forget.\n\n\n\nDJ Kuuch will follow the Don Rogers Band until late.
URL:https://hoeymoey.com.au/event/the-don-rogers-band-live-at-the-hoey/
LOCATION:The Hoey Moey\, 84 Ocean Parade\, Coffs Harbour\, NSW\, 2450\, Australia
CATEGORIES:Entertainment,Whats On
ATTACH;FMTTYPE=image/jpeg:https://hoeymoey.com.au/wp-content/uploads/2026/03/HM_DonRogersBand_APR2026_WEB-1.jpg
END:VEVENT
END:VCALENDAR