BEGIN:VCALENDAR
VERSION:2.0
PRODID:-//Hoey Moey - ECPv6.3.3.1//NONSGML v1.0//EN
CALSCALE:GREGORIAN
METHOD:PUBLISH
X-ORIGINAL-URL:https://hoeymoey.com.au
X-WR-CALDESC:Events for Hoey Moey
REFRESH-INTERVAL;VALUE=DURATION:PT1H
X-Robots-Tag:noindex
X-PUBLISHED-TTL:PT1H
BEGIN:VTIMEZONE
TZID:Australia/Sydney
BEGIN:STANDARD
TZOFFSETFROM:+1100
TZOFFSETTO:+1000
TZNAME:AEST
DTSTART:20260404T160000
END:STANDARD
BEGIN:DAYLIGHT
TZOFFSETFROM:+1000
TZOFFSETTO:+1100
TZNAME:AEDT
DTSTART:20261003T160000
END:DAYLIGHT
END:VTIMEZONE
BEGIN:VEVENT
DTSTART;TZID=Australia/Sydney:20260424T180000
DTEND;TZID=Australia/Sydney:20260425T013000
DTSTAMP:20260422T084841
CREATED:20251222T053209Z
LAST-MODIFIED:20260313T050711Z
UID:10007479-1777053600-1777080600@hoeymoey.com.au
SUMMARY:Live music with Timbregrains\, followed by DJ Danger Waves
DESCRIPTION:Singer-songwriter TimbreGrains has been performing around the Australian pub and club scene for the past two decades\, with covers spanning across a wide variety of genres. Each performance is catered to the crowd and always includes something new. \nWith a very original and versatile vocal range\, a warm\, husky\, rustic blues sound. Covering 80s rock & alternative hits\, country\, and easy listening classics\, as well as his original music. Playing alongside such artists as Renee Geyer\, The Wolverines\, Nicky Bomba and Diesel. \nProviding well-rounded entertainment for special events and licensed venues\, his acoustic sessions are sure to please. \nDJ Danger Waves will follow Timbregrains until late.
URL:https://hoeymoey.com.au/event/live-music-with-timbregrains-followed-by-dj-danger-waves/
CATEGORIES:Entertainment,Whats On
ATTACH;FMTTYPE=image/jpeg:https://hoeymoey.com.au/wp-content/uploads/2024/05/timbregrains-hoey-moey-park-beach-hotel-motel-free-live-music-concert-coffs-harbour-coffs-coast-mid-north-coast-accommodation-bar-pub-bistro-restaurant.jpg
END:VEVENT
END:VCALENDAR