BEGIN:VCALENDAR
VERSION:2.0
PRODID:-//Hoey Moey - ECPv6.3.3.1//NONSGML v1.0//EN
CALSCALE:GREGORIAN
METHOD:PUBLISH
X-ORIGINAL-URL:https://hoeymoey.com.au
X-WR-CALDESC:Events for Hoey Moey
REFRESH-INTERVAL;VALUE=DURATION:PT1H
X-Robots-Tag:noindex
X-PUBLISHED-TTL:PT1H
BEGIN:VTIMEZONE
TZID:Australia/Sydney
BEGIN:STANDARD
TZOFFSETFROM:+1100
TZOFFSETTO:+1000
TZNAME:AEST
DTSTART:20270403T160000
END:STANDARD
BEGIN:DAYLIGHT
TZOFFSETFROM:+1000
TZOFFSETTO:+1100
TZNAME:AEDT
DTSTART:20271002T160000
END:DAYLIGHT
END:VTIMEZONE
BEGIN:VEVENT
DTSTART;TZID=Australia/Sydney:20270325T120000
DTEND;TZID=Australia/Sydney:20270325T190000
DTSTAMP:20260423T090340
CREATED:20260316T233247Z
LAST-MODIFIED:20260331T011229Z
UID:10007812-1805976000-1806001200@hoeymoey.com.au
SUMMARY:Joker Poker Jackpot Thursdays is Back!
DESCRIPTION:JOKER POKER JACKPOT THURSDAYS \n\nJackpot starts at $2000. Increases by a minimum of $100 per week with raffle proceeds boosting jackpot increases pending sales.\nEvery Thursday from 26th March\, 2026.\nProceeds to Hoey Moey Community Fund. Raffle from 6pm\, drawn approx 7pm.\n*Conditions apply – see staff for more details.
URL:https://hoeymoey.com.au/event/joker-poker-jackpot-thursdays-is-back/2027-03-25/
CATEGORIES:Entertainment,Weekly Events,Whats On
ATTACH;FMTTYPE=image/jpeg:https://hoeymoey.com.au/wp-content/uploads/2026/03/HM_JokerPokerThursdays_2026_WEB-1.jpg
END:VEVENT
BEGIN:VEVENT
DTSTART;TZID=Australia/Sydney:20270325T183000
DTEND;TZID=Australia/Sydney:20270325T223000
DTSTAMP:20260423T090340
CREATED:20250908T020056Z
LAST-MODIFIED:20250908T020057Z
UID:10007201-1805999400-1806013800@hoeymoey.com.au
SUMMARY:Byron Bay Premium Lager's Thursday Pool Comp!
DESCRIPTION:Thursday Night Pool Comp – Don’t Miss Out!\nRain or shine\, the game is on! Come down and show off your skills at our weekly pool competition every Thursday night. \n🕢 Sign-up from 6:30pm | Comp starts at 7pm sharp\n💵 Just $5 to enter\n🏆 $100 Guaranteed Cash Prize for the winner\n🍻 5 Drink Tickets for the runner-up!\n*$10 Re-buy if available \nWhether you’re a seasoned player or just in it for fun\, it’s a great night out. Grab your cue and join us! \nRules of Play as per sign posted within the venue. Management decision is final.
URL:https://hoeymoey.com.au/event/pool-comp-2-2-2/2027-03-25/
LOCATION:The Hoey Moey\, 84 Ocean Parade\, Coffs Harbour\, NSW\, 2450\, Australia
CATEGORIES:Entertainment,Whats On
ATTACH;FMTTYPE=image/jpeg:https://hoeymoey.com.au/wp-content/uploads/2025/05/HM_ByronBayLagerThursdayPoolComp_SEP2025_WEB.jpg
END:VEVENT
BEGIN:VEVENT
DTSTART;TZID=Australia/Sydney:20270329T183000
DTEND;TZID=Australia/Sydney:20270329T203000
DTSTAMP:20260423T090340
CREATED:20240708T234319Z
LAST-MODIFIED:20250908T015855Z
UID:10005125-1806345000-1806352200@hoeymoey.com.au
SUMMARY:Trivia Mondays
DESCRIPTION:Brainiacs unite for Trivia on Monday Nights at the Hoey Moey! \nIt is from 6.30pm with great prizes to be won.
URL:https://hoeymoey.com.au/event/trivia-mondays-2-2-2/2027-03-29/
LOCATION:The Hoey Moey\, 84 Ocean Parade\, Coffs Harbour\, NSW\, 2450\, Australia
CATEGORIES:Entertainment,Whats On
ATTACH;FMTTYPE=image/jpeg:https://hoeymoey.com.au/wp-content/uploads/2024/07/HM_TriviaMondays_2025_WEB_GENERIC-1.jpg
END:VEVENT
BEGIN:VEVENT
DTSTART;TZID=Australia/Sydney:20270330T180000
DTEND;TZID=Australia/Sydney:20270330T180000
DTSTAMP:20260423T090340
CREATED:20230918T000604Z
LAST-MODIFIED:20251007T045542Z
UID:10005393-1806429600-1806429600@hoeymoey.com.au
SUMMARY:Musical Bingo!
DESCRIPTION:Join us for a fun night of Musical Bingo every Tuesday night from 6pm! \nIt’ll be heaps of fun\, with music galore\, and prizes to be won!
URL:https://hoeymoey.com.au/event/musical-bingo-2-2-2/2027-03-30/
LOCATION:The Hoey Moey\, 84 Ocean Parade\, Coffs Harbour\, NSW\, 2450\, Australia
CATEGORIES:Entertainment,Whats On
ATTACH;FMTTYPE=image/jpeg:https://hoeymoey.com.au/wp-content/uploads/2023/09/HM_MusicalBingo_APR2025_WEB.jpg
END:VEVENT
BEGIN:VEVENT
DTSTART;TZID=Australia/Sydney:20270330T193000
DTEND;TZID=Australia/Sydney:20270330T223000
DTSTAMP:20260423T090340
CREATED:20250522T030538Z
LAST-MODIFIED:20250522T032157Z
UID:10006597-1806435000-1806445800@hoeymoey.com.au
SUMMARY:Byron Bay Premium Lager's Tuesday Pinball Comp!
DESCRIPTION:Join us on Tuesdays for our popular Pinball Comp (register from 7.30pm) with great prizes on offer! \nThis event is proudly sponsored by Byron Bay Premium Lager!
URL:https://hoeymoey.com.au/event/pinball-comp-2-2-2/2027-03-30/
LOCATION:The Hoey Moey\, 84 Ocean Parade\, Coffs Harbour\, NSW\, 2450\, Australia
CATEGORIES:Entertainment,Whats On
ATTACH;FMTTYPE=image/jpeg:https://hoeymoey.com.au/wp-content/uploads/2023/07/Pinball-Competition-Hoey-Moey-Park-Beach-Hotel-Motel-Pub-Bar-Accommodation-Bistro-Restaurant-Coffs-Harbour-Coffs-Coast-Mid-North-Coast.jpg
END:VEVENT
BEGIN:VEVENT
DTSTART;TZID=Australia/Sydney:20270331T180000
DTEND;TZID=Australia/Sydney:20270331T190000
DTSTAMP:20260423T090340
CREATED:20260316T233920Z
LAST-MODIFIED:20260331T011139Z
UID:10008333-1806516000-1806519600@hoeymoey.com.au
SUMMARY:Snake Eyes Dice Game every Wednesday!
DESCRIPTION:SNAKE EYES DICE GAME WEDNESDAYS \n\n$50 increase per week\, capped at $500\nDouble one for the grand prize\nDoubles for the below receive:2 – Jug of Hahn or 3.5\n3 – Pizza voucher\n4 – Pint of Hahn or 3.5\n5 – Schooner of Hahn or 3.5\n6 – Mystery prize*Conditions apply – see staff for more details.
URL:https://hoeymoey.com.au/event/snake-eyes-dice-game-every-wednesday/2027-03-31/
CATEGORIES:Entertainment,Weekly Events,Whats On
ATTACH;FMTTYPE=image/jpeg:https://hoeymoey.com.au/wp-content/uploads/2026/03/HM_SnakeEyesDiceGame_MAR2026_WEB.jpg
END:VEVENT
BEGIN:VEVENT
DTSTART;TZID=Australia/Sydney:20270331T183000
DTEND;TZID=Australia/Sydney:20270331T213000
DTSTAMP:20260423T090340
CREATED:20260312T231316Z
LAST-MODIFIED:20260331T043516Z
UID:10007548-1806517800-1806528600@hoeymoey.com.au
SUMMARY:Local Grown Open Mic Night!
DESCRIPTION:LOCAL GROWN OPEN MIC NIGHT – The Next Wave of Coffs Coast Talent!\nEvery Wednesday from 6:30pm – 9:30pm\nThe Hoey Moey\, Coffs Harbour  \n The Stage is Yours!  \nBuilding on the massive energy of Coastal Grown\, we are launching a brand-new weekly residency dedicated to the next generation of local legends. \nLocal Grown is more than an open mic it’s a platform for school-aged musicians\, emerging bands\, and solo artists to own the stage in an all-ages\, inclusive environment. Hosted by Dillon Wrigley \nSupport local: Catch the bands we’ve been nurturing over the years as they take their music to the next level.\n• All Ages Welcome: A safe\, inclusive space for youth to perform and for fans of all ages to enjoy.\n• Weekly Vibe: Make Wednesday nights at the Hoey your new mid-week ritual. \nImportant info for attendees:\n• Under 18s are welcome but must be accompanied by a parent or guardian over 25 in accordance with venue policy.\n• Artists & Bands: Ready to play? Come along and sign up on the night. Let’s grow the scene together.
URL:https://hoeymoey.com.au/event/local-grown-open-mic-night/2027-03-31/
CATEGORIES:Entertainment,Whats On
ATTACH;FMTTYPE=image/jpeg:https://hoeymoey.com.au/wp-content/uploads/2026/03/HM_LocalGrownOpenMicNight_APR2026_WEB2.jpg
END:VEVENT
BEGIN:VEVENT
DTSTART;TZID=Australia/Sydney:20270401T120000
DTEND;TZID=Australia/Sydney:20270401T190000
DTSTAMP:20260423T090340
CREATED:20260316T233247Z
LAST-MODIFIED:20260331T011229Z
UID:10007813-1806580800-1806606000@hoeymoey.com.au
SUMMARY:Joker Poker Jackpot Thursdays is Back!
DESCRIPTION:JOKER POKER JACKPOT THURSDAYS \n\nJackpot starts at $2000. Increases by a minimum of $100 per week with raffle proceeds boosting jackpot increases pending sales.\nEvery Thursday from 26th March\, 2026.\nProceeds to Hoey Moey Community Fund. Raffle from 6pm\, drawn approx 7pm.\n*Conditions apply – see staff for more details.
URL:https://hoeymoey.com.au/event/joker-poker-jackpot-thursdays-is-back/2027-04-01/
CATEGORIES:Entertainment,Weekly Events,Whats On
ATTACH;FMTTYPE=image/jpeg:https://hoeymoey.com.au/wp-content/uploads/2026/03/HM_JokerPokerThursdays_2026_WEB-1.jpg
END:VEVENT
BEGIN:VEVENT
DTSTART;TZID=Australia/Sydney:20270401T183000
DTEND;TZID=Australia/Sydney:20270401T223000
DTSTAMP:20260423T090340
CREATED:20250908T020056Z
LAST-MODIFIED:20250908T020057Z
UID:10007202-1806604200-1806618600@hoeymoey.com.au
SUMMARY:Byron Bay Premium Lager's Thursday Pool Comp!
DESCRIPTION:Thursday Night Pool Comp – Don’t Miss Out!\nRain or shine\, the game is on! Come down and show off your skills at our weekly pool competition every Thursday night. \n🕢 Sign-up from 6:30pm | Comp starts at 7pm sharp\n💵 Just $5 to enter\n🏆 $100 Guaranteed Cash Prize for the winner\n🍻 5 Drink Tickets for the runner-up!\n*$10 Re-buy if available \nWhether you’re a seasoned player or just in it for fun\, it’s a great night out. Grab your cue and join us! \nRules of Play as per sign posted within the venue. Management decision is final.
URL:https://hoeymoey.com.au/event/pool-comp-2-2-2/2027-04-01/
LOCATION:The Hoey Moey\, 84 Ocean Parade\, Coffs Harbour\, NSW\, 2450\, Australia
CATEGORIES:Entertainment,Whats On
ATTACH;FMTTYPE=image/jpeg:https://hoeymoey.com.au/wp-content/uploads/2025/05/HM_ByronBayLagerThursdayPoolComp_SEP2025_WEB.jpg
END:VEVENT
BEGIN:VEVENT
DTSTART;TZID=Australia/Sydney:20270405T183000
DTEND;TZID=Australia/Sydney:20270405T203000
DTSTAMP:20260423T090340
CREATED:20240708T234319Z
LAST-MODIFIED:20250908T015855Z
UID:10005126-1806949800-1806957000@hoeymoey.com.au
SUMMARY:Trivia Mondays
DESCRIPTION:Brainiacs unite for Trivia on Monday Nights at the Hoey Moey! \nIt is from 6.30pm with great prizes to be won.
URL:https://hoeymoey.com.au/event/trivia-mondays-2-2-2/2027-04-05/
LOCATION:The Hoey Moey\, 84 Ocean Parade\, Coffs Harbour\, NSW\, 2450\, Australia
CATEGORIES:Entertainment,Whats On
ATTACH;FMTTYPE=image/jpeg:https://hoeymoey.com.au/wp-content/uploads/2024/07/HM_TriviaMondays_2025_WEB_GENERIC-1.jpg
END:VEVENT
BEGIN:VEVENT
DTSTART;TZID=Australia/Sydney:20270406T180000
DTEND;TZID=Australia/Sydney:20270406T180000
DTSTAMP:20260423T090340
CREATED:20230918T000604Z
LAST-MODIFIED:20251007T045542Z
UID:10005394-1807034400-1807034400@hoeymoey.com.au
SUMMARY:Musical Bingo!
DESCRIPTION:Join us for a fun night of Musical Bingo every Tuesday night from 6pm! \nIt’ll be heaps of fun\, with music galore\, and prizes to be won!
URL:https://hoeymoey.com.au/event/musical-bingo-2-2-2/2027-04-06/
LOCATION:The Hoey Moey\, 84 Ocean Parade\, Coffs Harbour\, NSW\, 2450\, Australia
CATEGORIES:Entertainment,Whats On
ATTACH;FMTTYPE=image/jpeg:https://hoeymoey.com.au/wp-content/uploads/2023/09/HM_MusicalBingo_APR2025_WEB.jpg
END:VEVENT
BEGIN:VEVENT
DTSTART;TZID=Australia/Sydney:20270406T193000
DTEND;TZID=Australia/Sydney:20270406T223000
DTSTAMP:20260423T090340
CREATED:20250522T030538Z
LAST-MODIFIED:20250522T032157Z
UID:10006598-1807039800-1807050600@hoeymoey.com.au
SUMMARY:Byron Bay Premium Lager's Tuesday Pinball Comp!
DESCRIPTION:Join us on Tuesdays for our popular Pinball Comp (register from 7.30pm) with great prizes on offer! \nThis event is proudly sponsored by Byron Bay Premium Lager!
URL:https://hoeymoey.com.au/event/pinball-comp-2-2-2/2027-04-06/
LOCATION:The Hoey Moey\, 84 Ocean Parade\, Coffs Harbour\, NSW\, 2450\, Australia
CATEGORIES:Entertainment,Whats On
ATTACH;FMTTYPE=image/jpeg:https://hoeymoey.com.au/wp-content/uploads/2023/07/Pinball-Competition-Hoey-Moey-Park-Beach-Hotel-Motel-Pub-Bar-Accommodation-Bistro-Restaurant-Coffs-Harbour-Coffs-Coast-Mid-North-Coast.jpg
END:VEVENT
BEGIN:VEVENT
DTSTART;TZID=Australia/Sydney:20270407T180000
DTEND;TZID=Australia/Sydney:20270407T190000
DTSTAMP:20260423T090340
CREATED:20260316T233920Z
LAST-MODIFIED:20260331T011139Z
UID:10008334-1807120800-1807124400@hoeymoey.com.au
SUMMARY:Snake Eyes Dice Game every Wednesday!
DESCRIPTION:SNAKE EYES DICE GAME WEDNESDAYS \n\n$50 increase per week\, capped at $500\nDouble one for the grand prize\nDoubles for the below receive:2 – Jug of Hahn or 3.5\n3 – Pizza voucher\n4 – Pint of Hahn or 3.5\n5 – Schooner of Hahn or 3.5\n6 – Mystery prize*Conditions apply – see staff for more details.
URL:https://hoeymoey.com.au/event/snake-eyes-dice-game-every-wednesday/2027-04-07/
CATEGORIES:Entertainment,Weekly Events,Whats On
ATTACH;FMTTYPE=image/jpeg:https://hoeymoey.com.au/wp-content/uploads/2026/03/HM_SnakeEyesDiceGame_MAR2026_WEB.jpg
END:VEVENT
BEGIN:VEVENT
DTSTART;TZID=Australia/Sydney:20270407T183000
DTEND;TZID=Australia/Sydney:20270407T213000
DTSTAMP:20260423T090340
CREATED:20260312T231316Z
LAST-MODIFIED:20260331T043516Z
UID:10007549-1807122600-1807133400@hoeymoey.com.au
SUMMARY:Local Grown Open Mic Night!
DESCRIPTION:LOCAL GROWN OPEN MIC NIGHT – The Next Wave of Coffs Coast Talent!\nEvery Wednesday from 6:30pm – 9:30pm\nThe Hoey Moey\, Coffs Harbour  \n The Stage is Yours!  \nBuilding on the massive energy of Coastal Grown\, we are launching a brand-new weekly residency dedicated to the next generation of local legends. \nLocal Grown is more than an open mic it’s a platform for school-aged musicians\, emerging bands\, and solo artists to own the stage in an all-ages\, inclusive environment. Hosted by Dillon Wrigley \nSupport local: Catch the bands we’ve been nurturing over the years as they take their music to the next level.\n• All Ages Welcome: A safe\, inclusive space for youth to perform and for fans of all ages to enjoy.\n• Weekly Vibe: Make Wednesday nights at the Hoey your new mid-week ritual. \nImportant info for attendees:\n• Under 18s are welcome but must be accompanied by a parent or guardian over 25 in accordance with venue policy.\n• Artists & Bands: Ready to play? Come along and sign up on the night. Let’s grow the scene together.
URL:https://hoeymoey.com.au/event/local-grown-open-mic-night/2027-04-07/
CATEGORIES:Entertainment,Whats On
ATTACH;FMTTYPE=image/jpeg:https://hoeymoey.com.au/wp-content/uploads/2026/03/HM_LocalGrownOpenMicNight_APR2026_WEB2.jpg
END:VEVENT
BEGIN:VEVENT
DTSTART;TZID=Australia/Sydney:20270408T120000
DTEND;TZID=Australia/Sydney:20270408T190000
DTSTAMP:20260423T090340
CREATED:20260316T233247Z
LAST-MODIFIED:20260331T011229Z
UID:10007814-1807185600-1807210800@hoeymoey.com.au
SUMMARY:Joker Poker Jackpot Thursdays is Back!
DESCRIPTION:JOKER POKER JACKPOT THURSDAYS \n\nJackpot starts at $2000. Increases by a minimum of $100 per week with raffle proceeds boosting jackpot increases pending sales.\nEvery Thursday from 26th March\, 2026.\nProceeds to Hoey Moey Community Fund. Raffle from 6pm\, drawn approx 7pm.\n*Conditions apply – see staff for more details.
URL:https://hoeymoey.com.au/event/joker-poker-jackpot-thursdays-is-back/2027-04-08/
CATEGORIES:Entertainment,Weekly Events,Whats On
ATTACH;FMTTYPE=image/jpeg:https://hoeymoey.com.au/wp-content/uploads/2026/03/HM_JokerPokerThursdays_2026_WEB-1.jpg
END:VEVENT
BEGIN:VEVENT
DTSTART;TZID=Australia/Sydney:20270408T183000
DTEND;TZID=Australia/Sydney:20270408T223000
DTSTAMP:20260423T090340
CREATED:20250908T020056Z
LAST-MODIFIED:20250908T020057Z
UID:10007203-1807209000-1807223400@hoeymoey.com.au
SUMMARY:Byron Bay Premium Lager's Thursday Pool Comp!
DESCRIPTION:Thursday Night Pool Comp – Don’t Miss Out!\nRain or shine\, the game is on! Come down and show off your skills at our weekly pool competition every Thursday night. \n🕢 Sign-up from 6:30pm | Comp starts at 7pm sharp\n💵 Just $5 to enter\n🏆 $100 Guaranteed Cash Prize for the winner\n🍻 5 Drink Tickets for the runner-up!\n*$10 Re-buy if available \nWhether you’re a seasoned player or just in it for fun\, it’s a great night out. Grab your cue and join us! \nRules of Play as per sign posted within the venue. Management decision is final.
URL:https://hoeymoey.com.au/event/pool-comp-2-2-2/2027-04-08/
LOCATION:The Hoey Moey\, 84 Ocean Parade\, Coffs Harbour\, NSW\, 2450\, Australia
CATEGORIES:Entertainment,Whats On
ATTACH;FMTTYPE=image/jpeg:https://hoeymoey.com.au/wp-content/uploads/2025/05/HM_ByronBayLagerThursdayPoolComp_SEP2025_WEB.jpg
END:VEVENT
BEGIN:VEVENT
DTSTART;TZID=Australia/Sydney:20270412T183000
DTEND;TZID=Australia/Sydney:20270412T203000
DTSTAMP:20260423T090340
CREATED:20240708T234319Z
LAST-MODIFIED:20250908T015855Z
UID:10005127-1807554600-1807561800@hoeymoey.com.au
SUMMARY:Trivia Mondays
DESCRIPTION:Brainiacs unite for Trivia on Monday Nights at the Hoey Moey! \nIt is from 6.30pm with great prizes to be won.
URL:https://hoeymoey.com.au/event/trivia-mondays-2-2-2/2027-04-12/
LOCATION:The Hoey Moey\, 84 Ocean Parade\, Coffs Harbour\, NSW\, 2450\, Australia
CATEGORIES:Entertainment,Whats On
ATTACH;FMTTYPE=image/jpeg:https://hoeymoey.com.au/wp-content/uploads/2024/07/HM_TriviaMondays_2025_WEB_GENERIC-1.jpg
END:VEVENT
BEGIN:VEVENT
DTSTART;TZID=Australia/Sydney:20270413T180000
DTEND;TZID=Australia/Sydney:20270413T180000
DTSTAMP:20260423T090340
CREATED:20230918T000604Z
LAST-MODIFIED:20251007T045542Z
UID:10005395-1807639200-1807639200@hoeymoey.com.au
SUMMARY:Musical Bingo!
DESCRIPTION:Join us for a fun night of Musical Bingo every Tuesday night from 6pm! \nIt’ll be heaps of fun\, with music galore\, and prizes to be won!
URL:https://hoeymoey.com.au/event/musical-bingo-2-2-2/2027-04-13/
LOCATION:The Hoey Moey\, 84 Ocean Parade\, Coffs Harbour\, NSW\, 2450\, Australia
CATEGORIES:Entertainment,Whats On
ATTACH;FMTTYPE=image/jpeg:https://hoeymoey.com.au/wp-content/uploads/2023/09/HM_MusicalBingo_APR2025_WEB.jpg
END:VEVENT
BEGIN:VEVENT
DTSTART;TZID=Australia/Sydney:20270413T193000
DTEND;TZID=Australia/Sydney:20270413T223000
DTSTAMP:20260423T090340
CREATED:20250522T030538Z
LAST-MODIFIED:20250522T032157Z
UID:10006599-1807644600-1807655400@hoeymoey.com.au
SUMMARY:Byron Bay Premium Lager's Tuesday Pinball Comp!
DESCRIPTION:Join us on Tuesdays for our popular Pinball Comp (register from 7.30pm) with great prizes on offer! \nThis event is proudly sponsored by Byron Bay Premium Lager!
URL:https://hoeymoey.com.au/event/pinball-comp-2-2-2/2027-04-13/
LOCATION:The Hoey Moey\, 84 Ocean Parade\, Coffs Harbour\, NSW\, 2450\, Australia
CATEGORIES:Entertainment,Whats On
ATTACH;FMTTYPE=image/jpeg:https://hoeymoey.com.au/wp-content/uploads/2023/07/Pinball-Competition-Hoey-Moey-Park-Beach-Hotel-Motel-Pub-Bar-Accommodation-Bistro-Restaurant-Coffs-Harbour-Coffs-Coast-Mid-North-Coast.jpg
END:VEVENT
BEGIN:VEVENT
DTSTART;TZID=Australia/Sydney:20270414T180000
DTEND;TZID=Australia/Sydney:20270414T190000
DTSTAMP:20260423T090340
CREATED:20260316T233920Z
LAST-MODIFIED:20260331T011139Z
UID:10008335-1807725600-1807729200@hoeymoey.com.au
SUMMARY:Snake Eyes Dice Game every Wednesday!
DESCRIPTION:SNAKE EYES DICE GAME WEDNESDAYS \n\n$50 increase per week\, capped at $500\nDouble one for the grand prize\nDoubles for the below receive:2 – Jug of Hahn or 3.5\n3 – Pizza voucher\n4 – Pint of Hahn or 3.5\n5 – Schooner of Hahn or 3.5\n6 – Mystery prize*Conditions apply – see staff for more details.
URL:https://hoeymoey.com.au/event/snake-eyes-dice-game-every-wednesday/2027-04-14/
CATEGORIES:Entertainment,Weekly Events,Whats On
ATTACH;FMTTYPE=image/jpeg:https://hoeymoey.com.au/wp-content/uploads/2026/03/HM_SnakeEyesDiceGame_MAR2026_WEB.jpg
END:VEVENT
BEGIN:VEVENT
DTSTART;TZID=Australia/Sydney:20270414T183000
DTEND;TZID=Australia/Sydney:20270414T213000
DTSTAMP:20260423T090340
CREATED:20260312T231316Z
LAST-MODIFIED:20260331T043516Z
UID:10007550-1807727400-1807738200@hoeymoey.com.au
SUMMARY:Local Grown Open Mic Night!
DESCRIPTION:LOCAL GROWN OPEN MIC NIGHT – The Next Wave of Coffs Coast Talent!\nEvery Wednesday from 6:30pm – 9:30pm\nThe Hoey Moey\, Coffs Harbour  \n The Stage is Yours!  \nBuilding on the massive energy of Coastal Grown\, we are launching a brand-new weekly residency dedicated to the next generation of local legends. \nLocal Grown is more than an open mic it’s a platform for school-aged musicians\, emerging bands\, and solo artists to own the stage in an all-ages\, inclusive environment. Hosted by Dillon Wrigley \nSupport local: Catch the bands we’ve been nurturing over the years as they take their music to the next level.\n• All Ages Welcome: A safe\, inclusive space for youth to perform and for fans of all ages to enjoy.\n• Weekly Vibe: Make Wednesday nights at the Hoey your new mid-week ritual. \nImportant info for attendees:\n• Under 18s are welcome but must be accompanied by a parent or guardian over 25 in accordance with venue policy.\n• Artists & Bands: Ready to play? Come along and sign up on the night. Let’s grow the scene together.
URL:https://hoeymoey.com.au/event/local-grown-open-mic-night/2027-04-14/
CATEGORIES:Entertainment,Whats On
ATTACH;FMTTYPE=image/jpeg:https://hoeymoey.com.au/wp-content/uploads/2026/03/HM_LocalGrownOpenMicNight_APR2026_WEB2.jpg
END:VEVENT
BEGIN:VEVENT
DTSTART;TZID=Australia/Sydney:20270415T120000
DTEND;TZID=Australia/Sydney:20270415T190000
DTSTAMP:20260423T090340
CREATED:20260316T233247Z
LAST-MODIFIED:20260331T011229Z
UID:10007815-1807790400-1807815600@hoeymoey.com.au
SUMMARY:Joker Poker Jackpot Thursdays is Back!
DESCRIPTION:JOKER POKER JACKPOT THURSDAYS \n\nJackpot starts at $2000. Increases by a minimum of $100 per week with raffle proceeds boosting jackpot increases pending sales.\nEvery Thursday from 26th March\, 2026.\nProceeds to Hoey Moey Community Fund. Raffle from 6pm\, drawn approx 7pm.\n*Conditions apply – see staff for more details.
URL:https://hoeymoey.com.au/event/joker-poker-jackpot-thursdays-is-back/2027-04-15/
CATEGORIES:Entertainment,Weekly Events,Whats On
ATTACH;FMTTYPE=image/jpeg:https://hoeymoey.com.au/wp-content/uploads/2026/03/HM_JokerPokerThursdays_2026_WEB-1.jpg
END:VEVENT
BEGIN:VEVENT
DTSTART;TZID=Australia/Sydney:20270415T183000
DTEND;TZID=Australia/Sydney:20270415T223000
DTSTAMP:20260423T090340
CREATED:20250908T020056Z
LAST-MODIFIED:20250908T020057Z
UID:10007204-1807813800-1807828200@hoeymoey.com.au
SUMMARY:Byron Bay Premium Lager's Thursday Pool Comp!
DESCRIPTION:Thursday Night Pool Comp – Don’t Miss Out!\nRain or shine\, the game is on! Come down and show off your skills at our weekly pool competition every Thursday night. \n🕢 Sign-up from 6:30pm | Comp starts at 7pm sharp\n💵 Just $5 to enter\n🏆 $100 Guaranteed Cash Prize for the winner\n🍻 5 Drink Tickets for the runner-up!\n*$10 Re-buy if available \nWhether you’re a seasoned player or just in it for fun\, it’s a great night out. Grab your cue and join us! \nRules of Play as per sign posted within the venue. Management decision is final.
URL:https://hoeymoey.com.au/event/pool-comp-2-2-2/2027-04-15/
LOCATION:The Hoey Moey\, 84 Ocean Parade\, Coffs Harbour\, NSW\, 2450\, Australia
CATEGORIES:Entertainment,Whats On
ATTACH;FMTTYPE=image/jpeg:https://hoeymoey.com.au/wp-content/uploads/2025/05/HM_ByronBayLagerThursdayPoolComp_SEP2025_WEB.jpg
END:VEVENT
BEGIN:VEVENT
DTSTART;TZID=Australia/Sydney:20270419T183000
DTEND;TZID=Australia/Sydney:20270419T203000
DTSTAMP:20260423T090340
CREATED:20240708T234319Z
LAST-MODIFIED:20250908T015855Z
UID:10005128-1808159400-1808166600@hoeymoey.com.au
SUMMARY:Trivia Mondays
DESCRIPTION:Brainiacs unite for Trivia on Monday Nights at the Hoey Moey! \nIt is from 6.30pm with great prizes to be won.
URL:https://hoeymoey.com.au/event/trivia-mondays-2-2-2/2027-04-19/
LOCATION:The Hoey Moey\, 84 Ocean Parade\, Coffs Harbour\, NSW\, 2450\, Australia
CATEGORIES:Entertainment,Whats On
ATTACH;FMTTYPE=image/jpeg:https://hoeymoey.com.au/wp-content/uploads/2024/07/HM_TriviaMondays_2025_WEB_GENERIC-1.jpg
END:VEVENT
BEGIN:VEVENT
DTSTART;TZID=Australia/Sydney:20270420T180000
DTEND;TZID=Australia/Sydney:20270420T180000
DTSTAMP:20260423T090340
CREATED:20230918T000604Z
LAST-MODIFIED:20251007T045542Z
UID:10005396-1808244000-1808244000@hoeymoey.com.au
SUMMARY:Musical Bingo!
DESCRIPTION:Join us for a fun night of Musical Bingo every Tuesday night from 6pm! \nIt’ll be heaps of fun\, with music galore\, and prizes to be won!
URL:https://hoeymoey.com.au/event/musical-bingo-2-2-2/2027-04-20/
LOCATION:The Hoey Moey\, 84 Ocean Parade\, Coffs Harbour\, NSW\, 2450\, Australia
CATEGORIES:Entertainment,Whats On
ATTACH;FMTTYPE=image/jpeg:https://hoeymoey.com.au/wp-content/uploads/2023/09/HM_MusicalBingo_APR2025_WEB.jpg
END:VEVENT
BEGIN:VEVENT
DTSTART;TZID=Australia/Sydney:20270420T193000
DTEND;TZID=Australia/Sydney:20270420T223000
DTSTAMP:20260423T090340
CREATED:20250522T030538Z
LAST-MODIFIED:20250522T032157Z
UID:10006600-1808249400-1808260200@hoeymoey.com.au
SUMMARY:Byron Bay Premium Lager's Tuesday Pinball Comp!
DESCRIPTION:Join us on Tuesdays for our popular Pinball Comp (register from 7.30pm) with great prizes on offer! \nThis event is proudly sponsored by Byron Bay Premium Lager!
URL:https://hoeymoey.com.au/event/pinball-comp-2-2-2/2027-04-20/
LOCATION:The Hoey Moey\, 84 Ocean Parade\, Coffs Harbour\, NSW\, 2450\, Australia
CATEGORIES:Entertainment,Whats On
ATTACH;FMTTYPE=image/jpeg:https://hoeymoey.com.au/wp-content/uploads/2023/07/Pinball-Competition-Hoey-Moey-Park-Beach-Hotel-Motel-Pub-Bar-Accommodation-Bistro-Restaurant-Coffs-Harbour-Coffs-Coast-Mid-North-Coast.jpg
END:VEVENT
BEGIN:VEVENT
DTSTART;TZID=Australia/Sydney:20270421T180000
DTEND;TZID=Australia/Sydney:20270421T190000
DTSTAMP:20260423T090340
CREATED:20260316T233920Z
LAST-MODIFIED:20260331T011139Z
UID:10008336-1808330400-1808334000@hoeymoey.com.au
SUMMARY:Snake Eyes Dice Game every Wednesday!
DESCRIPTION:SNAKE EYES DICE GAME WEDNESDAYS \n\n$50 increase per week\, capped at $500\nDouble one for the grand prize\nDoubles for the below receive:2 – Jug of Hahn or 3.5\n3 – Pizza voucher\n4 – Pint of Hahn or 3.5\n5 – Schooner of Hahn or 3.5\n6 – Mystery prize*Conditions apply – see staff for more details.
URL:https://hoeymoey.com.au/event/snake-eyes-dice-game-every-wednesday/2027-04-21/
CATEGORIES:Entertainment,Weekly Events,Whats On
ATTACH;FMTTYPE=image/jpeg:https://hoeymoey.com.au/wp-content/uploads/2026/03/HM_SnakeEyesDiceGame_MAR2026_WEB.jpg
END:VEVENT
BEGIN:VEVENT
DTSTART;TZID=Australia/Sydney:20270421T183000
DTEND;TZID=Australia/Sydney:20270421T213000
DTSTAMP:20260423T090340
CREATED:20260312T231316Z
LAST-MODIFIED:20260331T043516Z
UID:10007551-1808332200-1808343000@hoeymoey.com.au
SUMMARY:Local Grown Open Mic Night!
DESCRIPTION:LOCAL GROWN OPEN MIC NIGHT – The Next Wave of Coffs Coast Talent!\nEvery Wednesday from 6:30pm – 9:30pm\nThe Hoey Moey\, Coffs Harbour  \n The Stage is Yours!  \nBuilding on the massive energy of Coastal Grown\, we are launching a brand-new weekly residency dedicated to the next generation of local legends. \nLocal Grown is more than an open mic it’s a platform for school-aged musicians\, emerging bands\, and solo artists to own the stage in an all-ages\, inclusive environment. Hosted by Dillon Wrigley \nSupport local: Catch the bands we’ve been nurturing over the years as they take their music to the next level.\n• All Ages Welcome: A safe\, inclusive space for youth to perform and for fans of all ages to enjoy.\n• Weekly Vibe: Make Wednesday nights at the Hoey your new mid-week ritual. \nImportant info for attendees:\n• Under 18s are welcome but must be accompanied by a parent or guardian over 25 in accordance with venue policy.\n• Artists & Bands: Ready to play? Come along and sign up on the night. Let’s grow the scene together.
URL:https://hoeymoey.com.au/event/local-grown-open-mic-night/2027-04-21/
CATEGORIES:Entertainment,Whats On
ATTACH;FMTTYPE=image/jpeg:https://hoeymoey.com.au/wp-content/uploads/2026/03/HM_LocalGrownOpenMicNight_APR2026_WEB2.jpg
END:VEVENT
BEGIN:VEVENT
DTSTART;TZID=Australia/Sydney:20270422T120000
DTEND;TZID=Australia/Sydney:20270422T190000
DTSTAMP:20260423T090340
CREATED:20260316T233247Z
LAST-MODIFIED:20260331T011229Z
UID:10007816-1808395200-1808420400@hoeymoey.com.au
SUMMARY:Joker Poker Jackpot Thursdays is Back!
DESCRIPTION:JOKER POKER JACKPOT THURSDAYS \n\nJackpot starts at $2000. Increases by a minimum of $100 per week with raffle proceeds boosting jackpot increases pending sales.\nEvery Thursday from 26th March\, 2026.\nProceeds to Hoey Moey Community Fund. Raffle from 6pm\, drawn approx 7pm.\n*Conditions apply – see staff for more details.
URL:https://hoeymoey.com.au/event/joker-poker-jackpot-thursdays-is-back/2027-04-22/
CATEGORIES:Entertainment,Weekly Events,Whats On
ATTACH;FMTTYPE=image/jpeg:https://hoeymoey.com.au/wp-content/uploads/2026/03/HM_JokerPokerThursdays_2026_WEB-1.jpg
END:VEVENT
BEGIN:VEVENT
DTSTART;TZID=Australia/Sydney:20270422T183000
DTEND;TZID=Australia/Sydney:20270422T223000
DTSTAMP:20260423T090340
CREATED:20250908T020056Z
LAST-MODIFIED:20250908T020057Z
UID:10007205-1808418600-1808433000@hoeymoey.com.au
SUMMARY:Byron Bay Premium Lager's Thursday Pool Comp!
DESCRIPTION:Thursday Night Pool Comp – Don’t Miss Out!\nRain or shine\, the game is on! Come down and show off your skills at our weekly pool competition every Thursday night. \n🕢 Sign-up from 6:30pm | Comp starts at 7pm sharp\n💵 Just $5 to enter\n🏆 $100 Guaranteed Cash Prize for the winner\n🍻 5 Drink Tickets for the runner-up!\n*$10 Re-buy if available \nWhether you’re a seasoned player or just in it for fun\, it’s a great night out. Grab your cue and join us! \nRules of Play as per sign posted within the venue. Management decision is final.
URL:https://hoeymoey.com.au/event/pool-comp-2-2-2/2027-04-22/
LOCATION:The Hoey Moey\, 84 Ocean Parade\, Coffs Harbour\, NSW\, 2450\, Australia
CATEGORIES:Entertainment,Whats On
ATTACH;FMTTYPE=image/jpeg:https://hoeymoey.com.au/wp-content/uploads/2025/05/HM_ByronBayLagerThursdayPoolComp_SEP2025_WEB.jpg
END:VEVENT
END:VCALENDAR