BEGIN:VCALENDAR
VERSION:2.0
PRODID:-//Hoey Moey - ECPv6.3.3.1//NONSGML v1.0//EN
CALSCALE:GREGORIAN
METHOD:PUBLISH
X-WR-CALNAME:Hoey Moey
X-ORIGINAL-URL:https://hoeymoey.com.au
X-WR-CALDESC:Events for Hoey Moey
REFRESH-INTERVAL;VALUE=DURATION:PT1H
X-Robots-Tag:noindex
X-PUBLISHED-TTL:PT1H
BEGIN:VTIMEZONE
TZID:Australia/Sydney
BEGIN:STANDARD
TZOFFSETFROM:+1100
TZOFFSETTO:+1000
TZNAME:AEST
DTSTART:20230401T160000
END:STANDARD
BEGIN:DAYLIGHT
TZOFFSETFROM:+1000
TZOFFSETTO:+1100
TZNAME:AEDT
DTSTART:20230930T160000
END:DAYLIGHT
TZID:Australia/Melbourne
BEGIN:STANDARD
TZOFFSETFROM:+1100
TZOFFSETTO:+1000
TZNAME:AEST
DTSTART:20230401T160000
END:STANDARD
BEGIN:DAYLIGHT
TZOFFSETFROM:+1000
TZOFFSETTO:+1100
TZNAME:AEDT
DTSTART:20230930T160000
END:DAYLIGHT
END:VTIMEZONE
BEGIN:VEVENT
DTSTART;TZID=Australia/Sydney:20231012T193000
DTEND;TZID=Australia/Sydney:20231012T193000
DTSTAMP:20260423T045554
CREATED:20230707T004637Z
LAST-MODIFIED:20230815T062011Z
UID:10003932-1697139000-1697139000@hoeymoey.com.au
SUMMARY:Pool Comp!
DESCRIPTION:It’s time to play hardball!\n\nJoin us every Thursdays night for a pool comp.\n\n7.15pm registration for a 7.30pm start. $5 entry.\n\n1st prize is $100 cash guarantee! 2nd prize is a 6 pack of Captain Morgan.\n\nThe Hoey Moey pub is located at 84 Ocean Parade\, Coffs Harbour.
URL:https://hoeymoey.com.au/event/pool-comp/2023-10-12/
LOCATION:The Hoey Moey\, 84 Ocean Parade\, Coffs Harbour\, NSW\, 2450\, Australia
CATEGORIES:Entertainment
ATTACH;FMTTYPE=image/jpeg:https://hoeymoey.com.au/wp-content/uploads/2023/07/pool-comp-pool-competition-thursday-nights-hoey-moey-coffs-harbour-coffs-coast-fireball-pub-restaurant-bar-beer-garden-live-music.jpg
END:VEVENT
BEGIN:VEVENT
DTSTART;TZID=Australia/Sydney:20231012T180000
DTEND;TZID=Australia/Sydney:20231012T210000
DTSTAMP:20260423T045554
CREATED:20230803T025739Z
LAST-MODIFIED:20230803T025739Z
UID:10004666-1697133600-1697144400@hoeymoey.com.au
SUMMARY:Live music with Sam Snape!
DESCRIPTION:“Just me\, my guitar\, stomp box and the occasional loop.”
URL:https://hoeymoey.com.au/event/live-music-with-sam-snape/
LOCATION:The Hoey Moey\, 84 Ocean Parade\, Coffs Harbour\, NSW\, 2450\, Australia
CATEGORIES:Entertainment
ATTACH;FMTTYPE=image/jpeg:https://hoeymoey.com.au/wp-content/uploads/2023/08/sam-snape-live-music-hoey-moey-coffs-harbour.jpg
END:VEVENT
BEGIN:VEVENT
DTSTART;TZID=Australia/Melbourne:20231011T180000
DTEND;TZID=Australia/Melbourne:20231011T210000
DTSTAMP:20260423T045554
CREATED:20230907T015501Z
LAST-MODIFIED:20230907T015501Z
UID:10004792-1697047200-1697058000@hoeymoey.com.au
SUMMARY:Live music with Mitch Burgess!
DESCRIPTION:Mitch Burgess will be playing live at the Hoey Moey beer garden! \nMitch Burgess is a solo musician with a very fond admiration for the blues. Featured in his set are some well known blues classics as well as a collection of more popular songs. Acoustic guitar\, vocals and the occasional harmonica are all used within Mitch’s performance.
URL:https://hoeymoey.com.au/event/live-music-with-mitch-burgess/
LOCATION:The Hoey Moey\, 84 Ocean Parade\, Coffs Harbour\, NSW\, 2450\, Australia
CATEGORIES:Entertainment
ATTACH;FMTTYPE=image/jpeg:https://hoeymoey.com.au/wp-content/uploads/2023/07/mitch-burgess-web.jpg
END:VEVENT
BEGIN:VEVENT
DTSTART;TZID=Australia/Sydney:20231010T193000
DTEND;TZID=Australia/Sydney:20231010T193000
DTSTAMP:20260423T045554
CREATED:20230707T013818Z
LAST-MODIFIED:20231119T232405Z
UID:10004741-1696966200-1696966200@hoeymoey.com.au
SUMMARY:The Hoey Moey's Tuesday Pinball Comp!
DESCRIPTION:Join us on Tuesdays for our popular Pinball Comp (register from 7.30pm) with great prizes on offer! \nThis event is proudly sponsored by Byron Bay Premium Lager!
URL:https://hoeymoey.com.au/event/pinball-comp/2023-10-10/
LOCATION:The Hoey Moey\, 84 Ocean Parade\, Coffs Harbour\, NSW\, 2450\, Australia
CATEGORIES:Entertainment
ATTACH;FMTTYPE=image/jpeg:https://hoeymoey.com.au/wp-content/uploads/2023/07/Pinball-Competition-Hoey-Moey-Park-Beach-Hotel-Motel-Pub-Bar-Accommodation-Bistro-Restaurant-Coffs-Harbour-Coffs-Coast-Mid-North-Coast.jpg
END:VEVENT
BEGIN:VEVENT
DTSTART;TZID=Australia/Sydney:20231010T180000
DTEND;TZID=Australia/Sydney:20231010T180000
DTSTAMP:20260423T045554
CREATED:20230918T000604Z
LAST-MODIFIED:20251007T045542Z
UID:10004608-1696960800-1696960800@hoeymoey.com.au
SUMMARY:Musical Bingo!
DESCRIPTION:Join us for a fun night of Musical Bingo every Tuesday night from 6pm! \nIt’ll be heaps of fun\, with music galore\, and prizes to be won!
URL:https://hoeymoey.com.au/event/musical-bingo-2-2-2/2023-10-10/
LOCATION:The Hoey Moey\, 84 Ocean Parade\, Coffs Harbour\, NSW\, 2450\, Australia
CATEGORIES:Entertainment,Whats On
ATTACH;FMTTYPE=image/jpeg:https://hoeymoey.com.au/wp-content/uploads/2023/09/HM_MusicalBingo_APR2025_WEB.jpg
END:VEVENT
BEGIN:VEVENT
DTSTART;TZID=Australia/Sydney:20231009T183000
DTEND;TZID=Australia/Sydney:20231009T203000
DTSTAMP:20260423T045554
CREATED:20230802T053937Z
LAST-MODIFIED:20240813T012723Z
UID:10004654-1696876200-1696883400@hoeymoey.com.au
SUMMARY:Trivia Mondays
DESCRIPTION:Brainiacs unite for Trivia on Monday Nights at the Hoey Moey! \nIt is from 6.30pm with great prizes to be won.
URL:https://hoeymoey.com.au/event/trivia-mondays-2-2/2023-10-09/
LOCATION:The Hoey Moey\, 84 Ocean Parade\, Coffs Harbour\, NSW\, 2450\, Australia
CATEGORIES:Entertainment,Whats On
ATTACH;FMTTYPE=image/jpeg:https://hoeymoey.com.au/wp-content/uploads/2022/02/HM_TriviaMondays_FEB2022_WEB.jpg
END:VEVENT
BEGIN:VEVENT
DTSTART;TZID=Australia/Melbourne:20231008T160000
DTEND;TZID=Australia/Melbourne:20231008T193000
DTSTAMP:20260423T045554
CREATED:20230802T045505Z
LAST-MODIFIED:20230802T052202Z
UID:10004622-1696780800-1696793400@hoeymoey.com.au
SUMMARY:Sunday Session with Chaperone followed by DJ Richard Gear!
DESCRIPTION:CHAPERONE will take you home tonight. Hot funk power meets high-precision alt-rock energy\, creating no shortage of flair and bombast. Equipped with deep rhythm\, lyrical wit and a flamboyant horn section\, the group dazzles with a show like you’ve never seen – from crowd surfing to stage invasion – any part of the room belongs to anyone present…
URL:https://hoeymoey.com.au/event/sunday-session-with-chaperone-followed-by-dj-richard-gear/
LOCATION:The Hoey Moey\, 84 Ocean Parade\, Coffs Harbour\, NSW\, 2450\, Australia
CATEGORIES:Entertainment,Whats On
ATTACH;FMTTYPE=image/jpeg:https://hoeymoey.com.au/wp-content/uploads/2023/08/chaperone-sunday-sesh-hoey-moey.jpg
END:VEVENT
BEGIN:VEVENT
DTSTART;VALUE=DATE:20231008
DTEND;VALUE=DATE:20231009
DTSTAMP:20260423T045554
CREATED:20230717T030640Z
LAST-MODIFIED:20230717T030640Z
UID:10004108-1696723200-1696809599@hoeymoey.com.au
SUMMARY:Open late on Friday\, Saturday and Sunday nights!
DESCRIPTION:The Hoey Moey is open late on Friday and Saturday nights until 2am and Sunday nights until 12am!
URL:https://hoeymoey.com.au/event/open-late-on-friday-saturday-and-sunday-nights/2023-10-08/
LOCATION:The Hoey Moey\, 84 Ocean Parade\, Coffs Harbour\, NSW\, 2450\, Australia
CATEGORIES:Entertainment
ATTACH;FMTTYPE=image/jpeg:https://hoeymoey.com.au/wp-content/uploads/2023/07/Open-late-Friday-Saturday-and-Sunday-Nights-Hoey-Moey-Pub-Bar-Restaurant-Hotel-Coffs-Harbour.jpg
END:VEVENT
BEGIN:VEVENT
DTSTART;TZID=Australia/Sydney:20231007T180000
DTEND;TZID=Australia/Sydney:20231008T020000
DTSTAMP:20260423T045554
CREATED:20230911T041752Z
LAST-MODIFIED:20230920T055434Z
UID:10004795-1696701600-1696730400@hoeymoey.com.au
SUMMARY:Free Wild Turkey 101 Music Event with Maddy Jane\, Mikki and Isabella Nalder Live!
DESCRIPTION:Maddy Jane will be joined by Mikki and Isabella Nalder as support\, followed later by DJ Richard Gear until late. \nProudly brought to you by Wild Turkey 101 – Trust Your Spirit.
URL:https://hoeymoey.com.au/event/free-wild-turkey-101-music-event-with-maddy-jane-live/
CATEGORIES:Entertainment,Whats On
ATTACH;FMTTYPE=image/jpeg:https://hoeymoey.com.au/wp-content/uploads/2023/09/wild-turkey-101-music-concert-maddy-jane-october-2023-hoey-moey-hotel-motel-free-live-music-bar-pub-accommodation-coffs-harbour-coffs-coast-mid-north-coast.jpg
END:VEVENT
BEGIN:VEVENT
DTSTART;VALUE=DATE:20231007
DTEND;VALUE=DATE:20231008
DTSTAMP:20260423T045554
CREATED:20230717T030640Z
LAST-MODIFIED:20230717T030640Z
UID:10004107-1696636800-1696723199@hoeymoey.com.au
SUMMARY:Open late on Friday\, Saturday and Sunday nights!
DESCRIPTION:The Hoey Moey is open late on Friday and Saturday nights until 2am and Sunday nights until 12am!
URL:https://hoeymoey.com.au/event/open-late-on-friday-saturday-and-sunday-nights/2023-10-07/
LOCATION:The Hoey Moey\, 84 Ocean Parade\, Coffs Harbour\, NSW\, 2450\, Australia
CATEGORIES:Entertainment
ATTACH;FMTTYPE=image/jpeg:https://hoeymoey.com.au/wp-content/uploads/2023/07/Open-late-Friday-Saturday-and-Sunday-Nights-Hoey-Moey-Pub-Bar-Restaurant-Hotel-Coffs-Harbour.jpg
END:VEVENT
BEGIN:VEVENT
DTSTART;TZID=Australia/Sydney:20231006T180000
DTEND;TZID=Australia/Sydney:20231006T210000
DTSTAMP:20260423T045554
CREATED:20230802T044745Z
LAST-MODIFIED:20230926T015713Z
UID:10004621-1696615200-1696626000@hoeymoey.com.au
SUMMARY:Live music with Brody Ireland followed by DJ Ibex Switch!
DESCRIPTION:Combining acoustic guitar\, vocals\, stompbox\, and looping into a huge sound\, Brody will be playing hits from the 60’s till now. \nBrody will be followed by DJ Ibex Switch.
URL:https://hoeymoey.com.au/event/live-music-with-brody-ireland-followed-by-dj-dangerwaves/
LOCATION:The Hoey Moey\, 84 Ocean Parade\, Coffs Harbour\, NSW\, 2450\, Australia
CATEGORIES:Entertainment
ATTACH;FMTTYPE=image/png:https://hoeymoey.com.au/wp-content/uploads/2022/03/Brody-Ireland.png
END:VEVENT
BEGIN:VEVENT
DTSTART;VALUE=DATE:20231006
DTEND;VALUE=DATE:20231007
DTSTAMP:20260423T045554
CREATED:20230717T030640Z
LAST-MODIFIED:20230717T030640Z
UID:10004106-1696550400-1696636799@hoeymoey.com.au
SUMMARY:Open late on Friday\, Saturday and Sunday nights!
DESCRIPTION:The Hoey Moey is open late on Friday and Saturday nights until 2am and Sunday nights until 12am!
URL:https://hoeymoey.com.au/event/open-late-on-friday-saturday-and-sunday-nights/2023-10-06/
LOCATION:The Hoey Moey\, 84 Ocean Parade\, Coffs Harbour\, NSW\, 2450\, Australia
CATEGORIES:Entertainment
ATTACH;FMTTYPE=image/jpeg:https://hoeymoey.com.au/wp-content/uploads/2023/07/Open-late-Friday-Saturday-and-Sunday-Nights-Hoey-Moey-Pub-Bar-Restaurant-Hotel-Coffs-Harbour.jpg
END:VEVENT
BEGIN:VEVENT
DTSTART;TZID=Australia/Sydney:20231005T193000
DTEND;TZID=Australia/Sydney:20231005T193000
DTSTAMP:20260423T045554
CREATED:20230707T004637Z
LAST-MODIFIED:20230815T062011Z
UID:10003931-1696534200-1696534200@hoeymoey.com.au
SUMMARY:Pool Comp!
DESCRIPTION:It’s time to play hardball!\n\nJoin us every Thursdays night for a pool comp.\n\n7.15pm registration for a 7.30pm start. $5 entry.\n\n1st prize is $100 cash guarantee! 2nd prize is a 6 pack of Captain Morgan.\n\nThe Hoey Moey pub is located at 84 Ocean Parade\, Coffs Harbour.
URL:https://hoeymoey.com.au/event/pool-comp/2023-10-05/
LOCATION:The Hoey Moey\, 84 Ocean Parade\, Coffs Harbour\, NSW\, 2450\, Australia
CATEGORIES:Entertainment
ATTACH;FMTTYPE=image/jpeg:https://hoeymoey.com.au/wp-content/uploads/2023/07/pool-comp-pool-competition-thursday-nights-hoey-moey-coffs-harbour-coffs-coast-fireball-pub-restaurant-bar-beer-garden-live-music.jpg
END:VEVENT
BEGIN:VEVENT
DTSTART;TZID=Australia/Sydney:20231004T180000
DTEND;TZID=Australia/Sydney:20231004T210000
DTSTAMP:20260423T045554
CREATED:20230802T044411Z
LAST-MODIFIED:20230802T044411Z
UID:10004619-1696442400-1696453200@hoeymoey.com.au
SUMMARY:Live music by Matty Devitt!
DESCRIPTION:Enjoy live music with Matty Devitt at the Hoey Moey beer garden!\n\nMatty Devitt will be playing his unique style of chilled\, rootsy\, acoustic rock\, driven by Matty’s insightful and soulful lyrics.
URL:https://hoeymoey.com.au/event/live-music-by-matty-devitt/
LOCATION:The Hoey Moey\, 84 Ocean Parade\, Coffs Harbour\, NSW\, 2450\, Australia
CATEGORIES:Entertainment
ATTACH;FMTTYPE=image/jpeg:https://hoeymoey.com.au/wp-content/uploads/2023/06/Matty-Devitt-live-music-Hoey-Moey-beer-garden-hotel-bar-restaurant-Coffs-Harbour.jpeg
END:VEVENT
BEGIN:VEVENT
DTSTART;TZID=Australia/Sydney:20231003T193000
DTEND;TZID=Australia/Sydney:20231003T193000
DTSTAMP:20260423T045554
CREATED:20230707T013818Z
LAST-MODIFIED:20231119T232405Z
UID:10004740-1696361400-1696361400@hoeymoey.com.au
SUMMARY:The Hoey Moey's Tuesday Pinball Comp!
DESCRIPTION:Join us on Tuesdays for our popular Pinball Comp (register from 7.30pm) with great prizes on offer! \nThis event is proudly sponsored by Byron Bay Premium Lager!
URL:https://hoeymoey.com.au/event/pinball-comp/2023-10-03/
LOCATION:The Hoey Moey\, 84 Ocean Parade\, Coffs Harbour\, NSW\, 2450\, Australia
CATEGORIES:Entertainment
ATTACH;FMTTYPE=image/jpeg:https://hoeymoey.com.au/wp-content/uploads/2023/07/Pinball-Competition-Hoey-Moey-Park-Beach-Hotel-Motel-Pub-Bar-Accommodation-Bistro-Restaurant-Coffs-Harbour-Coffs-Coast-Mid-North-Coast.jpg
END:VEVENT
BEGIN:VEVENT
DTSTART;TZID=Australia/Sydney:20231003T180000
DTEND;TZID=Australia/Sydney:20231003T180000
DTSTAMP:20260423T045554
CREATED:20230918T000604Z
LAST-MODIFIED:20251007T045542Z
UID:10004607-1696356000-1696356000@hoeymoey.com.au
SUMMARY:Musical Bingo!
DESCRIPTION:Join us for a fun night of Musical Bingo every Tuesday night from 6pm! \nIt’ll be heaps of fun\, with music galore\, and prizes to be won!
URL:https://hoeymoey.com.au/event/musical-bingo-2-2-2/2023-10-03/
LOCATION:The Hoey Moey\, 84 Ocean Parade\, Coffs Harbour\, NSW\, 2450\, Australia
CATEGORIES:Entertainment,Whats On
ATTACH;FMTTYPE=image/jpeg:https://hoeymoey.com.au/wp-content/uploads/2023/09/HM_MusicalBingo_APR2025_WEB.jpg
END:VEVENT
BEGIN:VEVENT
DTSTART;TZID=Australia/Sydney:20231002T183000
DTEND;TZID=Australia/Sydney:20231002T203000
DTSTAMP:20260423T045554
CREATED:20230802T053937Z
LAST-MODIFIED:20240813T012723Z
UID:10004653-1696271400-1696278600@hoeymoey.com.au
SUMMARY:Trivia Mondays
DESCRIPTION:Brainiacs unite for Trivia on Monday Nights at the Hoey Moey! \nIt is from 6.30pm with great prizes to be won.
URL:https://hoeymoey.com.au/event/trivia-mondays-2-2/2023-10-02/
LOCATION:The Hoey Moey\, 84 Ocean Parade\, Coffs Harbour\, NSW\, 2450\, Australia
CATEGORIES:Entertainment,Whats On
ATTACH;FMTTYPE=image/jpeg:https://hoeymoey.com.au/wp-content/uploads/2022/02/HM_TriviaMondays_FEB2022_WEB.jpg
END:VEVENT
BEGIN:VEVENT
DTSTART;TZID=Australia/Sydney:20231001T193000
DTEND;TZID=Australia/Sydney:20231001T223000
DTSTAMP:20260423T045555
CREATED:20230915T041625Z
LAST-MODIFIED:20230915T041625Z
UID:10004798-1696188600-1696199400@hoeymoey.com.au
SUMMARY:Footy Finals Fever - NRL Grand Final Live & Loud at the Hoey!
DESCRIPTION:Enjoy the NRL Grand Final live and loud on our massive TV screen located in the beer garden – Sunday October 1 from 7.30pm. \nYou’ll feel like you’re actually there!
URL:https://hoeymoey.com.au/event/footy-finals-fever-nrl-grand-final-live-loud-at-the-hoey/
CATEGORIES:Entertainment,Whats On
ATTACH;FMTTYPE=image/jpeg:https://hoeymoey.com.au/wp-content/uploads/2023/09/afl-grand-final-nrl-grand-final-2023-live-loud-hoey-moey-bar-pub-accommodation-bistro-massive-tv-screen-footy-finals-fever.jpg
END:VEVENT
BEGIN:VEVENT
DTSTART;VALUE=DATE:20231001
DTEND;VALUE=DATE:20231002
DTSTAMP:20260423T045555
CREATED:20230717T030640Z
LAST-MODIFIED:20230717T030640Z
UID:10004105-1696118400-1696204799@hoeymoey.com.au
SUMMARY:Open late on Friday\, Saturday and Sunday nights!
DESCRIPTION:The Hoey Moey is open late on Friday and Saturday nights until 2am and Sunday nights until 12am!
URL:https://hoeymoey.com.au/event/open-late-on-friday-saturday-and-sunday-nights/2023-10-01/
LOCATION:The Hoey Moey\, 84 Ocean Parade\, Coffs Harbour\, NSW\, 2450\, Australia
CATEGORIES:Entertainment
ATTACH;FMTTYPE=image/jpeg:https://hoeymoey.com.au/wp-content/uploads/2023/07/Open-late-Friday-Saturday-and-Sunday-Nights-Hoey-Moey-Pub-Bar-Restaurant-Hotel-Coffs-Harbour.jpg
END:VEVENT
BEGIN:VEVENT
DTSTART;TZID=Australia/Melbourne:20230930T180000
DTEND;TZID=Australia/Melbourne:20230930T210000
DTSTAMP:20260423T045555
CREATED:20230728T061842Z
LAST-MODIFIED:20230911T032626Z
UID:10004341-1696096800-1696107600@hoeymoey.com.au
SUMMARY:Live music with Sam Dyball + DJ Crane!
DESCRIPTION:Enjoy live music in the Hoey Moey beer garden featuring Sam Dyball!\n\nSam Dyball is a 19 year old singer songwriter from the small town of Nana Glen. For the past 5 years he has been performing with family trio “D’boyzos” and has now decided to try out the world of solo performance!\n\nIn this span of 5 years he has performed over 450 shows including performances supporting bands and artists such as The Black Sorrows\, Wendy Matthews\, Kasey Chambers\, Troy Cassar-Daley and Reece Mastin\, just to name a few!\n\n\n\nSam will be followed by DJ Crane.
URL:https://hoeymoey.com.au/event/live-music-by-sam-dyball-300923/
LOCATION:The Hoey Moey\, 84 Ocean Parade\, Coffs Harbour\, NSW\, 2450\, Australia
CATEGORIES:Entertainment
ATTACH;FMTTYPE=image/jpeg:https://hoeymoey.com.au/wp-content/uploads/2020/09/Sam-Dyball.jpg
END:VEVENT
BEGIN:VEVENT
DTSTART;VALUE=DATE:20230930
DTEND;VALUE=DATE:20231001
DTSTAMP:20260423T045555
CREATED:20230717T030640Z
LAST-MODIFIED:20230717T030640Z
UID:10004104-1696032000-1696118399@hoeymoey.com.au
SUMMARY:Open late on Friday\, Saturday and Sunday nights!
DESCRIPTION:The Hoey Moey is open late on Friday and Saturday nights until 2am and Sunday nights until 12am!
URL:https://hoeymoey.com.au/event/open-late-on-friday-saturday-and-sunday-nights/2023-09-30/
LOCATION:The Hoey Moey\, 84 Ocean Parade\, Coffs Harbour\, NSW\, 2450\, Australia
CATEGORIES:Entertainment
ATTACH;FMTTYPE=image/jpeg:https://hoeymoey.com.au/wp-content/uploads/2023/07/Open-late-Friday-Saturday-and-Sunday-Nights-Hoey-Moey-Pub-Bar-Restaurant-Hotel-Coffs-Harbour.jpg
END:VEVENT
BEGIN:VEVENT
DTSTART;TZID=Australia/Melbourne:20230929T180000
DTEND;TZID=Australia/Melbourne:20230929T210000
DTSTAMP:20260423T045555
CREATED:20230728T062227Z
LAST-MODIFIED:20230907T015014Z
UID:10004342-1696010400-1696021200@hoeymoey.com.au
SUMMARY:Live music with Sarah Grant + DJ Sim-ohhh!
DESCRIPTION:Enjoy live music in the Hoey Moey beer garden featuring Sarah Grant! \nShe will have you shaking your moneymaker to her groove. Whether its rock\, funk\, pop or blues that you dig\, she has got it and she flaunts it! \nSarah will be followed by DJ Simo-ohhh.
URL:https://hoeymoey.com.au/event/sunday-session-with-sarah-grant-290923/
LOCATION:The Hoey Moey\, 84 Ocean Parade\, Coffs Harbour\, NSW\, 2450\, Australia
CATEGORIES:Entertainment
ATTACH;FMTTYPE=image/jpeg:https://hoeymoey.com.au/wp-content/uploads/2023/07/sarah-grant-web.jpg
END:VEVENT
BEGIN:VEVENT
DTSTART;VALUE=DATE:20230929
DTEND;VALUE=DATE:20230930
DTSTAMP:20260423T045555
CREATED:20230717T030640Z
LAST-MODIFIED:20230717T030640Z
UID:10004103-1695945600-1696031999@hoeymoey.com.au
SUMMARY:Open late on Friday\, Saturday and Sunday nights!
DESCRIPTION:The Hoey Moey is open late on Friday and Saturday nights until 2am and Sunday nights until 12am!
URL:https://hoeymoey.com.au/event/open-late-on-friday-saturday-and-sunday-nights/2023-09-29/
LOCATION:The Hoey Moey\, 84 Ocean Parade\, Coffs Harbour\, NSW\, 2450\, Australia
CATEGORIES:Entertainment
ATTACH;FMTTYPE=image/jpeg:https://hoeymoey.com.au/wp-content/uploads/2023/07/Open-late-Friday-Saturday-and-Sunday-Nights-Hoey-Moey-Pub-Bar-Restaurant-Hotel-Coffs-Harbour.jpg
END:VEVENT
BEGIN:VEVENT
DTSTART;TZID=Australia/Sydney:20230928T203000
DTEND;TZID=Australia/Sydney:20230928T233000
DTSTAMP:20260423T045555
CREATED:20230601T220054Z
LAST-MODIFIED:20230912T005406Z
UID:10003863-1695933000-1695943800@hoeymoey.com.au
SUMMARY:Live at the Hoey Moey - Teenage Dads with Moving Stills!
DESCRIPTION:Chugg Music\, Select Music & Offbeat presents Teenage Dads with Moving Stills at The Hoey Moey on Thursday\, 28th September! \n \nMelbourne’s Teenage Dads are well known for their love of touring and playing live to their fans.  2023 has already seen them playing some of the biggest shows of their lives in Sydney and Melbourne.  Now they are heading out on a 30 date tour heading to just about anywhere there are music fans. \nThese shows celebrate their new track\, Speed Racer and come hot on the heels of international success in London\, and Los Angeles on their current UK\, Europe\, and US tours.  Jordy\, Connor\, Angus\, and Vince have invited the best local talent to join them at shows including The Moving Stills. \nThis might be your last chance to see Teenage Dads in 2023 so don’t miss out. \nDoors open at 8:30pm. \nTicket Price is presale: $38.70 + booking fee.
URL:https://hoeymoey.com.au/event/teenage-dads/
LOCATION:The Hoey Moey\, 84 Ocean Parade\, Coffs Harbour\, NSW\, 2450\, Australia
CATEGORIES:Entertainment,Ticketed Entertainment,Whats On
ATTACH;FMTTYPE=image/jpeg:https://hoeymoey.com.au/wp-content/uploads/2023/06/Teenage-Dads-ive-music-Hoey-Moey-Pub-Bar-Hotel-Restaurant-Coffs-Harbour.jpg
END:VEVENT
BEGIN:VEVENT
DTSTART;TZID=Australia/Sydney:20230928T193000
DTEND;TZID=Australia/Sydney:20230928T193000
DTSTAMP:20260423T045555
CREATED:20230707T004637Z
LAST-MODIFIED:20230815T062011Z
UID:10003930-1695929400-1695929400@hoeymoey.com.au
SUMMARY:Pool Comp!
DESCRIPTION:It’s time to play hardball!\n\nJoin us every Thursdays night for a pool comp.\n\n7.15pm registration for a 7.30pm start. $5 entry.\n\n1st prize is $100 cash guarantee! 2nd prize is a 6 pack of Captain Morgan.\n\nThe Hoey Moey pub is located at 84 Ocean Parade\, Coffs Harbour.
URL:https://hoeymoey.com.au/event/pool-comp/2023-09-28/
LOCATION:The Hoey Moey\, 84 Ocean Parade\, Coffs Harbour\, NSW\, 2450\, Australia
CATEGORIES:Entertainment
ATTACH;FMTTYPE=image/jpeg:https://hoeymoey.com.au/wp-content/uploads/2023/07/pool-comp-pool-competition-thursday-nights-hoey-moey-coffs-harbour-coffs-coast-fireball-pub-restaurant-bar-beer-garden-live-music.jpg
END:VEVENT
BEGIN:VEVENT
DTSTART;TZID=Australia/Sydney:20230927T180000
DTEND;TZID=Australia/Sydney:20230927T210000
DTSTAMP:20260423T045555
CREATED:20230728T040942Z
LAST-MODIFIED:20230728T041321Z
UID:10004329-1695837600-1695848400@hoeymoey.com.au
SUMMARY:Live music by Taylor Jones!
DESCRIPTION:Tay is a solo singer/songwriter from the Mid North Coast\, Australia. She plays originals and covers and implements her own alternative twist into her music. \nTay has been singing since she was little and enjoys exploiting her music to create happiness for everyone.
URL:https://hoeymoey.com.au/event/live-music-by-taylor-jones-270923/
LOCATION:The Hoey Moey\, 84 Ocean Parade\, Coffs Harbour\, NSW\, 2450\, Australia
CATEGORIES:Entertainment
ATTACH;FMTTYPE=image/jpeg:https://hoeymoey.com.au/wp-content/uploads/2023/04/335281131_146213381383225_2234445701570768627_n.jpg
END:VEVENT
BEGIN:VEVENT
DTSTART;TZID=Australia/Sydney:20230926T193000
DTEND;TZID=Australia/Sydney:20230926T193000
DTSTAMP:20260423T045555
CREATED:20230707T013818Z
LAST-MODIFIED:20231119T232405Z
UID:10004739-1695756600-1695756600@hoeymoey.com.au
SUMMARY:The Hoey Moey's Tuesday Pinball Comp!
DESCRIPTION:Join us on Tuesdays for our popular Pinball Comp (register from 7.30pm) with great prizes on offer! \nThis event is proudly sponsored by Byron Bay Premium Lager!
URL:https://hoeymoey.com.au/event/pinball-comp/2023-09-26/
LOCATION:The Hoey Moey\, 84 Ocean Parade\, Coffs Harbour\, NSW\, 2450\, Australia
CATEGORIES:Entertainment
ATTACH;FMTTYPE=image/jpeg:https://hoeymoey.com.au/wp-content/uploads/2023/07/Pinball-Competition-Hoey-Moey-Park-Beach-Hotel-Motel-Pub-Bar-Accommodation-Bistro-Restaurant-Coffs-Harbour-Coffs-Coast-Mid-North-Coast.jpg
END:VEVENT
BEGIN:VEVENT
DTSTART;TZID=Australia/Sydney:20230926T180000
DTEND;TZID=Australia/Sydney:20230926T180000
DTSTAMP:20260423T045555
CREATED:20230918T000604Z
LAST-MODIFIED:20251007T045542Z
UID:10004326-1695751200-1695751200@hoeymoey.com.au
SUMMARY:Musical Bingo!
DESCRIPTION:Join us for a fun night of Musical Bingo every Tuesday night from 6pm! \nIt’ll be heaps of fun\, with music galore\, and prizes to be won!
URL:https://hoeymoey.com.au/event/musical-bingo-2-2-2/2023-09-26/
LOCATION:The Hoey Moey\, 84 Ocean Parade\, Coffs Harbour\, NSW\, 2450\, Australia
CATEGORIES:Entertainment,Whats On
ATTACH;FMTTYPE=image/jpeg:https://hoeymoey.com.au/wp-content/uploads/2023/09/HM_MusicalBingo_APR2025_WEB.jpg
END:VEVENT
BEGIN:VEVENT
DTSTART;TZID=Australia/Sydney:20230925T183000
DTEND;TZID=Australia/Sydney:20230925T203000
DTSTAMP:20260423T045555
CREATED:20230802T053937Z
LAST-MODIFIED:20240813T012723Z
UID:10004652-1695666600-1695673800@hoeymoey.com.au
SUMMARY:Trivia Mondays
DESCRIPTION:Brainiacs unite for Trivia on Monday Nights at the Hoey Moey! \nIt is from 6.30pm with great prizes to be won.
URL:https://hoeymoey.com.au/event/trivia-mondays-2-2/2023-09-25/
LOCATION:The Hoey Moey\, 84 Ocean Parade\, Coffs Harbour\, NSW\, 2450\, Australia
CATEGORIES:Entertainment,Whats On
ATTACH;FMTTYPE=image/jpeg:https://hoeymoey.com.au/wp-content/uploads/2022/02/HM_TriviaMondays_FEB2022_WEB.jpg
END:VEVENT
BEGIN:VEVENT
DTSTART;VALUE=DATE:20230924
DTEND;VALUE=DATE:20230925
DTSTAMP:20260423T045555
CREATED:20230717T030640Z
LAST-MODIFIED:20230717T030640Z
UID:10004102-1695513600-1695599999@hoeymoey.com.au
SUMMARY:Open late on Friday\, Saturday and Sunday nights!
DESCRIPTION:The Hoey Moey is open late on Friday and Saturday nights until 2am and Sunday nights until 12am!
URL:https://hoeymoey.com.au/event/open-late-on-friday-saturday-and-sunday-nights/2023-09-24/
LOCATION:The Hoey Moey\, 84 Ocean Parade\, Coffs Harbour\, NSW\, 2450\, Australia
CATEGORIES:Entertainment
ATTACH;FMTTYPE=image/jpeg:https://hoeymoey.com.au/wp-content/uploads/2023/07/Open-late-Friday-Saturday-and-Sunday-Nights-Hoey-Moey-Pub-Bar-Restaurant-Hotel-Coffs-Harbour.jpg
END:VEVENT
END:VCALENDAR