BEGIN:VCALENDAR
VERSION:2.0
PRODID:-//Hoey Moey - ECPv6.3.3.1//NONSGML v1.0//EN
CALSCALE:GREGORIAN
METHOD:PUBLISH
X-ORIGINAL-URL:https://hoeymoey.com.au
X-WR-CALDESC:Events for Hoey Moey
REFRESH-INTERVAL;VALUE=DURATION:PT1H
X-Robots-Tag:noindex
X-PUBLISHED-TTL:PT1H
BEGIN:VTIMEZONE
TZID:Australia/Melbourne
BEGIN:STANDARD
TZOFFSETFROM:+1100
TZOFFSETTO:+1000
TZNAME:AEST
DTSTART:20240406T160000
END:STANDARD
BEGIN:DAYLIGHT
TZOFFSETFROM:+1000
TZOFFSETTO:+1100
TZNAME:AEDT
DTSTART:20241005T160000
END:DAYLIGHT
TZID:Australia/Sydney
BEGIN:STANDARD
TZOFFSETFROM:+1100
TZOFFSETTO:+1000
TZNAME:AEST
DTSTART:20240406T160000
END:STANDARD
BEGIN:DAYLIGHT
TZOFFSETFROM:+1000
TZOFFSETTO:+1100
TZNAME:AEDT
DTSTART:20241005T160000
END:DAYLIGHT
END:VTIMEZONE
BEGIN:VEVENT
DTSTART;TZID=Australia/Melbourne:20240705T180000
DTEND;TZID=Australia/Melbourne:20240706T010000
DTSTAMP:20260422T074746
CREATED:20230728T054308Z
LAST-MODIFIED:20240531T045554Z
UID:10004337-1720202400-1720227600@hoeymoey.com.au
SUMMARY:Live music with Chris Grieve + DJ Salty!
DESCRIPTION:Enjoy live music at the Hoey Moey beer garden with Chris Grieve! \nBased in Coffs Harbour\, Chris has travelled and played all around Australia from Brisbane in Queensland to Margaret River in Western Australia. \nChris picked up the drums at the age of 13 and was fronting his first garage band at 15 as a drummer/lead singer. He quickly realised that he wanted to be the centre of attention so moved across to guitar at the age of 17 and never looked back. \nWith an impressive vocal range with gravel and power to match\, Chris can transform any song into his own. \nHis style is raw tailored acoustic rock. Chris loves to change classics into a new feel with the original flavour. Make sure you get to see him live he won’t disappoint! \nChris will be followed by DJ Salty until late.
URL:https://hoeymoey.com.au/event/live-music-with-chris-grieve-130923/
LOCATION:The Hoey Moey\, 84 Ocean Parade\, Coffs Harbour\, NSW\, 2450\, Australia
CATEGORIES:Entertainment,Whats On
ATTACH;FMTTYPE=image/jpeg:https://hoeymoey.com.au/wp-content/uploads/2023/07/chris-greive-web.jpg
END:VEVENT
BEGIN:VEVENT
DTSTART;TZID=Australia/Sydney:20240705T120000
DTEND;TZID=Australia/Sydney:20240706T020000
DTSTAMP:20260422T074746
CREATED:20230413T102337Z
LAST-MODIFIED:20240626T053104Z
UID:10003765-1720180800-1720231200@hoeymoey.com.au
SUMMARY:NRL Game Day Pre-Game Celebrations & After Party!
DESCRIPTION:Drop into the Hoey Moey before the NRL game at the Coffs Harbour C.EX International stadium for pre-game drinks and lunch specials! \nThen\, after the game\, come back for our NRL Game Day After Party with DJ Richard Gear from 9pm until late.
URL:https://hoeymoey.com.au/event/nrl-game-day-after-party-with-free-live-music-by-mckenzie/
LOCATION:The Hoey Moey\, 84 Ocean Parade\, Coffs Harbour\, NSW\, 2450\, Australia
CATEGORIES:Entertainment,Whats On
ATTACH;FMTTYPE=image/jpeg:https://hoeymoey.com.au/wp-content/uploads/2023/04/HM_CronullaSharksAfterparty_JUL2024_WEB3.jpg
END:VEVENT
BEGIN:VEVENT
DTSTART;VALUE=DATE:20240705
DTEND;VALUE=DATE:20240706
DTSTAMP:20260422T074746
CREATED:20230717T030640Z
LAST-MODIFIED:20230717T030640Z
UID:10004223-1720137600-1720223999@hoeymoey.com.au
SUMMARY:Open late on Friday\, Saturday and Sunday nights!
DESCRIPTION:The Hoey Moey is open late on Friday and Saturday nights until 2am and Sunday nights until 12am!
URL:https://hoeymoey.com.au/event/open-late-on-friday-saturday-and-sunday-nights/2024-07-05/
LOCATION:The Hoey Moey\, 84 Ocean Parade\, Coffs Harbour\, NSW\, 2450\, Australia
CATEGORIES:Entertainment
ATTACH;FMTTYPE=image/jpeg:https://hoeymoey.com.au/wp-content/uploads/2023/07/Open-late-Friday-Saturday-and-Sunday-Nights-Hoey-Moey-Pub-Bar-Restaurant-Hotel-Coffs-Harbour.jpg
END:VEVENT
BEGIN:VEVENT
DTSTART;TZID=Australia/Sydney:20240704T190000
DTEND;TZID=Australia/Sydney:20240704T223000
DTSTAMP:20260422T074746
CREATED:20231119T233203Z
LAST-MODIFIED:20250522T030010Z
UID:10006233-1720119600-1720132200@hoeymoey.com.au
SUMMARY:Byron Bay Premium Lager's Thursday Pool Comp!
DESCRIPTION:Thursday Night Pool Comp – Don’t Miss Out!\nRain or shine\, the game is on! Come down and show off your skills at our weekly pool competition every Thursday night. \n🕢 Sign-up from 7:15 PM | Comp starts at 7:30 PM sharp\n💵 Just $5 to enter\n🏆 $100 Guaranteed Cash Prize for the winner\n🍻 5 Drink Tickets for the runner-up! \nWhether you’re a seasoned player or just in it for fun\, it’s a great night out. Grab your cue and join us!
URL:https://hoeymoey.com.au/event/pool-comp-2/2024-07-04/
LOCATION:The Hoey Moey\, 84 Ocean Parade\, Coffs Harbour\, NSW\, 2450\, Australia
CATEGORIES:Entertainment,Whats On
ATTACH;FMTTYPE=image/jpeg:https://hoeymoey.com.au/wp-content/uploads/2023/07/Thursday-Pool-Competition-Hoey-Moey-Park-Beach-Hotel-Motel-Pub-Bar-Accommodation-Bistro-Restaurant-Coffs-Harbour-Coffs-Coast-Mid-North-Coast.jpg
END:VEVENT
BEGIN:VEVENT
DTSTART;TZID=Australia/Sydney:20240704T180000
DTEND;TZID=Australia/Sydney:20240704T210000
DTSTAMP:20260422T074746
CREATED:20240327T035723Z
LAST-MODIFIED:20240531T045440Z
UID:10005569-1720116000-1720126800@hoeymoey.com.au
SUMMARY:Live music with Sarah McKenna!
DESCRIPTION:An acoustic guitar\, a beautiful voice\, and an innate love to sing and share her passion for music; Sarah Mckenna delivers a raw and unique musical experience not to be missed.  \nSarah McKenna is a Singer/Songwriter from the small town of Bellingen NSW. Born into a musical family Sarah knew she wanted to make music from a very young age. \nHer original pieces are written with brutal honesty and raw emotion which escape the confines and structure of modern popular music. \nSarah sings from the heart and when combined with her acoustic fingerpicking style creates a relaxing yet lively atmosphere that will get toes tapping and audiences singing! \nSarah Mckenna has featured two years running at the iconic Timber Festival in Glenreagh and was honoured to be asked to take part in the Coffs Harbour Christmas Carols in 2022.
URL:https://hoeymoey.com.au/event/live-music-with-sarah-mckenna-3/
LOCATION:The Hoey Moey\, 84 Ocean Parade\, Coffs Harbour\, NSW\, 2450\, Australia
CATEGORIES:Entertainment,Whats On
ATTACH;FMTTYPE=image/jpeg:https://hoeymoey.com.au/wp-content/uploads/2024/02/sarah-mckenna-hoey-moey-park-beach-hotel-motel-free-live-music-concert-coffs-harbour-coffs-coast-mid-north-coast-accommodation-bar-pub-bistro-restaurant.jpg
END:VEVENT
BEGIN:VEVENT
DTSTART;TZID=Australia/Sydney:20240702T193000
DTEND;TZID=Australia/Sydney:20240702T193000
DTSTAMP:20260422T074746
CREATED:20231119T232915Z
LAST-MODIFIED:20231119T232917Z
UID:10004779-1719948600-1719948600@hoeymoey.com.au
SUMMARY:Byron Bay Premium Lager's Tuesday Pinball Comp!
DESCRIPTION:Join us on Tuesdays for our popular Pinball Comp (register from 7.30pm) with great prizes on offer! \nThis event is proudly sponsored by Byron Bay Premium Lager!
URL:https://hoeymoey.com.au/event/pinball-comp-2/2024-07-02/
LOCATION:The Hoey Moey\, 84 Ocean Parade\, Coffs Harbour\, NSW\, 2450\, Australia
CATEGORIES:Entertainment
ATTACH;FMTTYPE=image/jpeg:https://hoeymoey.com.au/wp-content/uploads/2023/07/Pinball-Competition-Hoey-Moey-Park-Beach-Hotel-Motel-Pub-Bar-Accommodation-Bistro-Restaurant-Coffs-Harbour-Coffs-Coast-Mid-North-Coast.jpg
END:VEVENT
BEGIN:VEVENT
DTSTART;TZID=Australia/Sydney:20240702T180000
DTEND;TZID=Australia/Sydney:20240702T180000
DTSTAMP:20260422T074746
CREATED:20230918T000604Z
LAST-MODIFIED:20251007T045542Z
UID:10005250-1719943200-1719943200@hoeymoey.com.au
SUMMARY:Musical Bingo!
DESCRIPTION:Join us for a fun night of Musical Bingo every Tuesday night from 6pm! \nIt’ll be heaps of fun\, with music galore\, and prizes to be won!
URL:https://hoeymoey.com.au/event/musical-bingo-2-2-2/2024-07-02/
LOCATION:The Hoey Moey\, 84 Ocean Parade\, Coffs Harbour\, NSW\, 2450\, Australia
CATEGORIES:Entertainment,Whats On
ATTACH;FMTTYPE=image/jpeg:https://hoeymoey.com.au/wp-content/uploads/2023/09/HM_MusicalBingo_APR2025_WEB.jpg
END:VEVENT
BEGIN:VEVENT
DTSTART;TZID=Australia/Sydney:20240701T183000
DTEND;TZID=Australia/Sydney:20240701T203000
DTSTAMP:20260422T074746
CREATED:20230802T053937Z
LAST-MODIFIED:20240813T012723Z
UID:10004982-1719858600-1719865800@hoeymoey.com.au
SUMMARY:Trivia Mondays
DESCRIPTION:Brainiacs unite for Trivia on Monday Nights at the Hoey Moey! \nIt is from 6.30pm with great prizes to be won.
URL:https://hoeymoey.com.au/event/trivia-mondays-2-2/2024-07-01/
LOCATION:The Hoey Moey\, 84 Ocean Parade\, Coffs Harbour\, NSW\, 2450\, Australia
CATEGORIES:Entertainment,Whats On
ATTACH;FMTTYPE=image/jpeg:https://hoeymoey.com.au/wp-content/uploads/2022/02/HM_TriviaMondays_FEB2022_WEB.jpg
END:VEVENT
BEGIN:VEVENT
DTSTART;TZID=Australia/Sydney:20240630T160000
DTEND;TZID=Australia/Sydney:20240630T233000
DTSTAMP:20260422T074746
CREATED:20240129T025520Z
LAST-MODIFIED:20240507T013416Z
UID:10005490-1719763200-1719790200@hoeymoey.com.au
SUMMARY:Sunday Session with Hayley Grace & The Bay Collective!
DESCRIPTION:Hayley Grace & The Bay Collective are keeping the fires of funk stoked this winter and the Hoey Moey is set to host one dynamic diverse funk explosion of the year! \nA fully stacked 7-piece ensemble with some of South East QLD/Northern NSW’s most exciting performers. Don’t miss this incredible collective of formidable melodic mavens weaving between funk\, soul and reggae … a night not to be missed!
URL:https://hoeymoey.com.au/event/sunday-session-with-hayley-grace-the-bay-collective/
LOCATION:The Hoey Moey\, 84 Ocean Parade\, Coffs Harbour\, NSW\, 2450\, Australia
CATEGORIES:Entertainment,Whats On
ATTACH;FMTTYPE=image/jpeg:https://hoeymoey.com.au/wp-content/uploads/2024/01/hayley-grace-the-bay-collective-hoey-moey-park-beach-hotel-motel-free-live-music-concert-coffs-harbour-coffs-coast-mid-north-coast-accommodation-bar-pub-bistro-restaurant-1.jpg
END:VEVENT
BEGIN:VEVENT
DTSTART;VALUE=DATE:20240630
DTEND;VALUE=DATE:20240701
DTSTAMP:20260422T074746
CREATED:20230717T030640Z
LAST-MODIFIED:20230717T030640Z
UID:10004222-1719705600-1719791999@hoeymoey.com.au
SUMMARY:Open late on Friday\, Saturday and Sunday nights!
DESCRIPTION:The Hoey Moey is open late on Friday and Saturday nights until 2am and Sunday nights until 12am!
URL:https://hoeymoey.com.au/event/open-late-on-friday-saturday-and-sunday-nights/2024-06-30/
LOCATION:The Hoey Moey\, 84 Ocean Parade\, Coffs Harbour\, NSW\, 2450\, Australia
CATEGORIES:Entertainment
ATTACH;FMTTYPE=image/jpeg:https://hoeymoey.com.au/wp-content/uploads/2023/07/Open-late-Friday-Saturday-and-Sunday-Nights-Hoey-Moey-Pub-Bar-Restaurant-Hotel-Coffs-Harbour.jpg
END:VEVENT
BEGIN:VEVENT
DTSTART;TZID=Australia/Sydney:20240629T183000
DTEND;TZID=Australia/Sydney:20240630T013000
DTSTAMP:20260422T074746
CREATED:20240404T230004Z
LAST-MODIFIED:20240628T051036Z
UID:10005573-1719685800-1719711000@hoeymoey.com.au
SUMMARY:BALTER BREWING PRESENTS - THUNDER FOX AT THE HOEY!
DESCRIPTION:BALTER BREWING COMPANY proudly presents… \nMBA & Offbeat\nTHUNDER FOX\n+ Special Guests: Loons\nTHE HOEY MOEY\nSAT 29TH JUNE\nFROM 6:30PM\nFREE ENTRY! \nThunder Fox are bringing their best show ever to the Coffs Coast! \nIn support of their single “The Best” which is due for release on May 1st 2024\, the boys will be hitting venues across Australia\, treating fans with their signature brand of razor-sharp live music madness. \nFresh from a 2023 tour in Europe\, Thunder Fox’s “The Best Tour” promises to be the hottest ticket down under!
URL:https://hoeymoey.com.au/event/balter-brewing-presents-thunder-fox-at-the-hoey/
CATEGORIES:Entertainment,Whats On
ATTACH;FMTTYPE=image/jpeg:https://hoeymoey.com.au/wp-content/uploads/2024/04/thunder-fox-june-2024-hoey-moey-park-beach-hotel-motel-free-live-music-concert-coffs-harbour-coffs-coast-mid-north-coast-accommodation-bar-pub-bistro-restaurant.jpg
END:VEVENT
BEGIN:VEVENT
DTSTART;VALUE=DATE:20240629
DTEND;VALUE=DATE:20240630
DTSTAMP:20260422T074746
CREATED:20230717T030640Z
LAST-MODIFIED:20230717T030640Z
UID:10004221-1719619200-1719705599@hoeymoey.com.au
SUMMARY:Open late on Friday\, Saturday and Sunday nights!
DESCRIPTION:The Hoey Moey is open late on Friday and Saturday nights until 2am and Sunday nights until 12am!
URL:https://hoeymoey.com.au/event/open-late-on-friday-saturday-and-sunday-nights/2024-06-29/
LOCATION:The Hoey Moey\, 84 Ocean Parade\, Coffs Harbour\, NSW\, 2450\, Australia
CATEGORIES:Entertainment
ATTACH;FMTTYPE=image/jpeg:https://hoeymoey.com.au/wp-content/uploads/2023/07/Open-late-Friday-Saturday-and-Sunday-Nights-Hoey-Moey-Pub-Bar-Restaurant-Hotel-Coffs-Harbour.jpg
END:VEVENT
BEGIN:VEVENT
DTSTART;VALUE=DATE:20240628
DTEND;VALUE=DATE:20240629
DTSTAMP:20260422T074746
CREATED:20230717T030640Z
LAST-MODIFIED:20230717T030640Z
UID:10004220-1719532800-1719619199@hoeymoey.com.au
SUMMARY:Open late on Friday\, Saturday and Sunday nights!
DESCRIPTION:The Hoey Moey is open late on Friday and Saturday nights until 2am and Sunday nights until 12am!
URL:https://hoeymoey.com.au/event/open-late-on-friday-saturday-and-sunday-nights/2024-06-28/
LOCATION:The Hoey Moey\, 84 Ocean Parade\, Coffs Harbour\, NSW\, 2450\, Australia
CATEGORIES:Entertainment
ATTACH;FMTTYPE=image/jpeg:https://hoeymoey.com.au/wp-content/uploads/2023/07/Open-late-Friday-Saturday-and-Sunday-Nights-Hoey-Moey-Pub-Bar-Restaurant-Hotel-Coffs-Harbour.jpg
END:VEVENT
BEGIN:VEVENT
DTSTART;TZID=Australia/Sydney:20240627T190000
DTEND;TZID=Australia/Sydney:20240627T223000
DTSTAMP:20260422T074746
CREATED:20231119T233203Z
LAST-MODIFIED:20250522T030010Z
UID:10006232-1719514800-1719527400@hoeymoey.com.au
SUMMARY:Byron Bay Premium Lager's Thursday Pool Comp!
DESCRIPTION:Thursday Night Pool Comp – Don’t Miss Out!\nRain or shine\, the game is on! Come down and show off your skills at our weekly pool competition every Thursday night. \n🕢 Sign-up from 7:15 PM | Comp starts at 7:30 PM sharp\n💵 Just $5 to enter\n🏆 $100 Guaranteed Cash Prize for the winner\n🍻 5 Drink Tickets for the runner-up! \nWhether you’re a seasoned player or just in it for fun\, it’s a great night out. Grab your cue and join us!
URL:https://hoeymoey.com.au/event/pool-comp-2/2024-06-27/
LOCATION:The Hoey Moey\, 84 Ocean Parade\, Coffs Harbour\, NSW\, 2450\, Australia
CATEGORIES:Entertainment,Whats On
ATTACH;FMTTYPE=image/jpeg:https://hoeymoey.com.au/wp-content/uploads/2023/07/Thursday-Pool-Competition-Hoey-Moey-Park-Beach-Hotel-Motel-Pub-Bar-Accommodation-Bistro-Restaurant-Coffs-Harbour-Coffs-Coast-Mid-North-Coast.jpg
END:VEVENT
BEGIN:VEVENT
DTSTART;TZID=Australia/Sydney:20240626T200000
DTEND;TZID=Australia/Sydney:20240626T223000
DTSTAMP:20260422T074746
CREATED:20240524T004635Z
LAST-MODIFIED:20240524T004635Z
UID:10005604-1719432000-1719441000@hoeymoey.com.au
SUMMARY:State of Origin Game Two Live & Loud!
DESCRIPTION:GAME TWO – WEDNESDAY JUNE 26TH\nKICK-OFF 8PM \n\nLIVE & LOUD ON THE MASSIVE SCREEN!\nNEW SMOKEHOUSE MENU FROM 5PM\nBAR SPECIALS!
URL:https://hoeymoey.com.au/event/state-of-origin-game-two-live-loud/
CATEGORIES:Whats On
ATTACH;FMTTYPE=image/jpeg:https://hoeymoey.com.au/wp-content/uploads/2024/05/HM_StateOfOrigin_JUN2024_WEB2-1.jpg
END:VEVENT
BEGIN:VEVENT
DTSTART;TZID=Australia/Sydney:20240626T200000
DTEND;TZID=Australia/Sydney:20240626T223000
DTSTAMP:20260422T074746
CREATED:20240506T052045Z
LAST-MODIFIED:20240514T023144Z
UID:10005584-1719432000-1719441000@hoeymoey.com.au
SUMMARY:State Of Origin Game 2 Live & Loud!
DESCRIPTION:State Of Origin Game 2 will be live & loud at the Hoey Moey Beer Garden! \nFeel like you are at the game with our massive TV screen\, there will be bar specials during the game and grab a bite before the game – featuring our new Smokehouse selections! \n 
URL:https://hoeymoey.com.au/event/state-of-origin-game-2-live-loud-2/
LOCATION:The Hoey Moey\, 84 Ocean Parade\, Coffs Harbour\, NSW\, 2450\, Australia
CATEGORIES:Entertainment,Whats On
ATTACH;FMTTYPE=image/jpeg:https://hoeymoey.com.au/wp-content/uploads/2024/05/HM_StateOfOrigin_JUN2024_WEB2.jpg
END:VEVENT
BEGIN:VEVENT
DTSTART;TZID=Australia/Sydney:20240626T193000
DTEND;TZID=Australia/Sydney:20240626T223000
DTSTAMP:20260422T074746
CREATED:20240423T065123Z
LAST-MODIFIED:20240611T041045Z
UID:10005580-1719430200-1719441000@hoeymoey.com.au
SUMMARY:The Hoey Moey's Byron Bay Premium Lager Monthly 9 Ball Pool Comp!
DESCRIPTION:WEDNESDAY 26TH JUNE FROM 7:30PM \n\nLast Wednesday of each month\n$10 Entry fee\n1st Prize: Entry money + Venue contribution\n2nd Prize: 5 x drink tickets\n3rd Prize: $20 Venue voucher\nMaximum participants: 32\n$15 Buyback spots if available for those knocked out\n\nProudly brought to you by Byron Bay Premium Lager.
URL:https://hoeymoey.com.au/event/the-hoey-moeys-byron-bay-premium-lager-monthly-9-ball-pool-comp-2/
CATEGORIES:Entertainment,Whats On
ATTACH;FMTTYPE=image/jpeg:https://hoeymoey.com.au/wp-content/uploads/2024/04/9-ball-pool-competition-hoey-moey-last-wednesday-of-each-month-bar-pub-hotel-motel-bistro-park-beach-coffs-harbour.jpg
END:VEVENT
BEGIN:VEVENT
DTSTART;TZID=Australia/Sydney:20240625T193000
DTEND;TZID=Australia/Sydney:20240625T193000
DTSTAMP:20260422T074746
CREATED:20231119T232915Z
LAST-MODIFIED:20231119T232917Z
UID:10004778-1719343800-1719343800@hoeymoey.com.au
SUMMARY:Byron Bay Premium Lager's Tuesday Pinball Comp!
DESCRIPTION:Join us on Tuesdays for our popular Pinball Comp (register from 7.30pm) with great prizes on offer! \nThis event is proudly sponsored by Byron Bay Premium Lager!
URL:https://hoeymoey.com.au/event/pinball-comp-2/2024-06-25/
LOCATION:The Hoey Moey\, 84 Ocean Parade\, Coffs Harbour\, NSW\, 2450\, Australia
CATEGORIES:Entertainment
ATTACH;FMTTYPE=image/jpeg:https://hoeymoey.com.au/wp-content/uploads/2023/07/Pinball-Competition-Hoey-Moey-Park-Beach-Hotel-Motel-Pub-Bar-Accommodation-Bistro-Restaurant-Coffs-Harbour-Coffs-Coast-Mid-North-Coast.jpg
END:VEVENT
BEGIN:VEVENT
DTSTART;TZID=Australia/Sydney:20240625T180000
DTEND;TZID=Australia/Sydney:20240625T180000
DTSTAMP:20260422T074746
CREATED:20230918T000604Z
LAST-MODIFIED:20251007T045542Z
UID:10005249-1719338400-1719338400@hoeymoey.com.au
SUMMARY:Musical Bingo!
DESCRIPTION:Join us for a fun night of Musical Bingo every Tuesday night from 6pm! \nIt’ll be heaps of fun\, with music galore\, and prizes to be won!
URL:https://hoeymoey.com.au/event/musical-bingo-2-2-2/2024-06-25/
LOCATION:The Hoey Moey\, 84 Ocean Parade\, Coffs Harbour\, NSW\, 2450\, Australia
CATEGORIES:Entertainment,Whats On
ATTACH;FMTTYPE=image/jpeg:https://hoeymoey.com.au/wp-content/uploads/2023/09/HM_MusicalBingo_APR2025_WEB.jpg
END:VEVENT
BEGIN:VEVENT
DTSTART;TZID=Australia/Sydney:20240624T183000
DTEND;TZID=Australia/Sydney:20240624T203000
DTSTAMP:20260422T074746
CREATED:20231221T003127Z
LAST-MODIFIED:20231221T010517Z
UID:10005216-1719253800-1719261000@hoeymoey.com.au
SUMMARY:Shrek Themed Trivia!
DESCRIPTION:Tonight\, We’re Makin’ Waffles – It’s Shrek-Themed Trivia on Monday\, 24th June from 6.30pm!
URL:https://hoeymoey.com.au/event/shrek-themed-trivia/
LOCATION:The Hoey Moey\, 84 Ocean Parade\, Coffs Harbour\, NSW\, 2450\, Australia
CATEGORIES:Entertainment,Whats On
ATTACH;FMTTYPE=image/jpeg:https://hoeymoey.com.au/wp-content/uploads/2023/12/HM_TriviaMondays_SHREK_JUN2024_WEB.jpg
END:VEVENT
BEGIN:VEVENT
DTSTART;TZID=Australia/Sydney:20240623T160000
DTEND;TZID=Australia/Sydney:20240623T233000
DTSTAMP:20260422T074746
CREATED:20240507T012951Z
LAST-MODIFIED:20240507T012951Z
UID:10005590-1719158400-1719185400@hoeymoey.com.au
SUMMARY:Sunday Sesh with Satisvibes!
DESCRIPTION:SATISVIBES is a reggae band from Gold Coast that since 2017 has been creating music to transcend mere entertainment\, fostering unity and spreading positive vibrations throughout the world. \nWith their roots firmly planted in the heart of reggae\, and their sound set on the future\, their live shows are legendary affairs\, navigating through melodies and lyrics that speak to the soul\, infectious get-downs and feelgood melodies that won’t leave your head. \nTheir sound is truly an international sound\, with the members representing Aotearoa\, Brazil\, Japan and Australia.  At the forefront of the band is Joseph Brown an electrifying frontman whose powerful vocals and insightful lyrics effortlessly command the stage\, captivating audiences with his natural charisma.  Matt Aitchison (producer\, drummer and originator of world beat legends OKA) is the rhythmic backbone\, infusing every beat with irresistible energy.  Juan\, the emotive lead guitarist\, masterfully weaves intricate melodies\, and trumpet player Aya adds a touch of divine brilliance to their music. \nWith a series of single releases in 2023 and a soon-to-come live EP\, Satisvibes has festival performances firmly in their sights in 2024.  Their music is destined for the big stage\, and their star is on the rise.
URL:https://hoeymoey.com.au/event/sunday-sesh-with-satisvibes/
LOCATION:The Hoey Moey\, 84 Ocean Parade\, Coffs Harbour\, NSW\, 2450\, Australia
CATEGORIES:Entertainment,Whats On
ATTACH;FMTTYPE=image/jpeg:https://hoeymoey.com.au/wp-content/uploads/2024/05/satisvibes-hoey-moey-park-beach-hotel-motel-free-live-music-concert-coffs-harbour-coffs-coast-mid-north-coast-accommodation-bar-pub-bistro-restaurant.jpg
END:VEVENT
BEGIN:VEVENT
DTSTART;VALUE=DATE:20240623
DTEND;VALUE=DATE:20240624
DTSTAMP:20260422T074746
CREATED:20230717T030640Z
LAST-MODIFIED:20230717T030640Z
UID:10004219-1719100800-1719187199@hoeymoey.com.au
SUMMARY:Open late on Friday\, Saturday and Sunday nights!
DESCRIPTION:The Hoey Moey is open late on Friday and Saturday nights until 2am and Sunday nights until 12am!
URL:https://hoeymoey.com.au/event/open-late-on-friday-saturday-and-sunday-nights/2024-06-23/
LOCATION:The Hoey Moey\, 84 Ocean Parade\, Coffs Harbour\, NSW\, 2450\, Australia
CATEGORIES:Entertainment
ATTACH;FMTTYPE=image/jpeg:https://hoeymoey.com.au/wp-content/uploads/2023/07/Open-late-Friday-Saturday-and-Sunday-Nights-Hoey-Moey-Pub-Bar-Restaurant-Hotel-Coffs-Harbour.jpg
END:VEVENT
BEGIN:VEVENT
DTSTART;TZID=Australia/Sydney:20240622T183000
DTEND;TZID=Australia/Sydney:20240623T013000
DTSTAMP:20260422T074746
CREATED:20240508T220017Z
LAST-MODIFIED:20240616T235812Z
UID:10005598-1719081000-1719106200@hoeymoey.com.au
SUMMARY:BALTER'S 3 BAND NIGHT AT THE HOEY - Nana's Pie + Blind Pretty + The Jam Jar!
DESCRIPTION:BALTER BREWING COMPANY proudly presents… \n3 BANDS\, 1 GREAT NIGHT – FREE ENTRY! \nNana’s Pie\, Blind Pretty & The Jam Jar\, followed by DJ Richard Gear until late. \nNana’s Pie – the electrifying sensation sweeping across the East Coast’s music scene! Meet Tyler and the dynamic twins\, Adam and Nash\, the brilliant minds weaving magic into every song. \nThey don’t just play music; they craft an experience\, blending their laid-back coastal vibes with captivating storytelling. Their melodies scream passion that infects your soul. Gaining over 240\,000+ streams online\, they’ve pushed the boundaries of their craft to exciting heights with further success on the horizon. Catching them live is like stumbling upon a hidden gem\, leaving you electrified and hungry for more. \nTheir mission? Simple – to spread love across all listeners and leave a trail of smiles with every chord they strike!
URL:https://hoeymoey.com.au/event/balters-3-band-night-at-the-hoey-nanas-pie-blind-pretty-monstera/
CATEGORIES:Entertainment,Whats On
ATTACH;FMTTYPE=image/jpeg:https://hoeymoey.com.au/wp-content/uploads/2024/05/nanas-pie-june-2024-hoey-moey-park-beach-hotel-motel-free-live-music-concert-coffs-harbour-coffs-coast-mid-north-coast-accommodation-bar-pub-bistro-restaurant.jpg
END:VEVENT
BEGIN:VEVENT
DTSTART;VALUE=DATE:20240622
DTEND;VALUE=DATE:20240623
DTSTAMP:20260422T074746
CREATED:20230717T030640Z
LAST-MODIFIED:20230717T030640Z
UID:10004218-1719014400-1719100799@hoeymoey.com.au
SUMMARY:Open late on Friday\, Saturday and Sunday nights!
DESCRIPTION:The Hoey Moey is open late on Friday and Saturday nights until 2am and Sunday nights until 12am!
URL:https://hoeymoey.com.au/event/open-late-on-friday-saturday-and-sunday-nights/2024-06-22/
LOCATION:The Hoey Moey\, 84 Ocean Parade\, Coffs Harbour\, NSW\, 2450\, Australia
CATEGORIES:Entertainment
ATTACH;FMTTYPE=image/jpeg:https://hoeymoey.com.au/wp-content/uploads/2023/07/Open-late-Friday-Saturday-and-Sunday-Nights-Hoey-Moey-Pub-Bar-Restaurant-Hotel-Coffs-Harbour.jpg
END:VEVENT
BEGIN:VEVENT
DTSTART;TZID=Australia/Sydney:20240621T210000
DTEND;TZID=Australia/Sydney:20240622T010000
DTSTAMP:20260422T074746
CREATED:20240409T060320Z
LAST-MODIFIED:20240409T060321Z
UID:10005576-1719003600-1719018000@hoeymoey.com.au
SUMMARY:Get ready to party like it’s ancient Rome - Join us for the Hoey's Toga Party!
DESCRIPTION:Embrace your inner Greek god or goddess at our Toga Party\, and party like it’s 99 (A.D.) \nFRIDAY 21ST JUNE\nFROM 9PM WITH FREE ENTRY\n+ DJ SIM_OHHH!\n+ PRIZES FOR BEST DRESSED!
URL:https://hoeymoey.com.au/event/get-ready-to-party-like-its-ancient-rome-join-us-for-the-hoeys-toga-party/
CATEGORIES:Entertainment,Whats On
ATTACH;FMTTYPE=image/jpeg:https://hoeymoey.com.au/wp-content/uploads/2024/04/HM_TogaParty_JUN2024_WEB.jpg
END:VEVENT
BEGIN:VEVENT
DTSTART;VALUE=DATE:20240621
DTEND;VALUE=DATE:20240622
DTSTAMP:20260422T074747
CREATED:20230717T030640Z
LAST-MODIFIED:20230717T030640Z
UID:10004217-1718928000-1719014399@hoeymoey.com.au
SUMMARY:Open late on Friday\, Saturday and Sunday nights!
DESCRIPTION:The Hoey Moey is open late on Friday and Saturday nights until 2am and Sunday nights until 12am!
URL:https://hoeymoey.com.au/event/open-late-on-friday-saturday-and-sunday-nights/2024-06-21/
LOCATION:The Hoey Moey\, 84 Ocean Parade\, Coffs Harbour\, NSW\, 2450\, Australia
CATEGORIES:Entertainment
ATTACH;FMTTYPE=image/jpeg:https://hoeymoey.com.au/wp-content/uploads/2023/07/Open-late-Friday-Saturday-and-Sunday-Nights-Hoey-Moey-Pub-Bar-Restaurant-Hotel-Coffs-Harbour.jpg
END:VEVENT
BEGIN:VEVENT
DTSTART;TZID=Australia/Sydney:20240620T190000
DTEND;TZID=Australia/Sydney:20240620T223000
DTSTAMP:20260422T074747
CREATED:20231119T233203Z
LAST-MODIFIED:20250522T030010Z
UID:10006231-1718910000-1718922600@hoeymoey.com.au
SUMMARY:Byron Bay Premium Lager's Thursday Pool Comp!
DESCRIPTION:Thursday Night Pool Comp – Don’t Miss Out!\nRain or shine\, the game is on! Come down and show off your skills at our weekly pool competition every Thursday night. \n🕢 Sign-up from 7:15 PM | Comp starts at 7:30 PM sharp\n💵 Just $5 to enter\n🏆 $100 Guaranteed Cash Prize for the winner\n🍻 5 Drink Tickets for the runner-up! \nWhether you’re a seasoned player or just in it for fun\, it’s a great night out. Grab your cue and join us!
URL:https://hoeymoey.com.au/event/pool-comp-2/2024-06-20/
LOCATION:The Hoey Moey\, 84 Ocean Parade\, Coffs Harbour\, NSW\, 2450\, Australia
CATEGORIES:Entertainment,Whats On
ATTACH;FMTTYPE=image/jpeg:https://hoeymoey.com.au/wp-content/uploads/2023/07/Thursday-Pool-Competition-Hoey-Moey-Park-Beach-Hotel-Motel-Pub-Bar-Accommodation-Bistro-Restaurant-Coffs-Harbour-Coffs-Coast-Mid-North-Coast.jpg
END:VEVENT
BEGIN:VEVENT
DTSTART;TZID=Australia/Sydney:20240620T180000
DTEND;TZID=Australia/Sydney:20240620T210000
DTSTAMP:20260422T074747
CREATED:20231116T044856Z
LAST-MODIFIED:20240507T015622Z
UID:10004915-1718906400-1718917200@hoeymoey.com.au
SUMMARY:Live music with Jamel Boukabou!
DESCRIPTION:Boukabou was born and bred in Sydney. He is a seasoned showman/vocalist/guitarist. He has performed solo and in bands all over the world since high school.
URL:https://hoeymoey.com.au/event/live-music-with-jamel-boukabou-3/
LOCATION:The Hoey Moey\, 84 Ocean Parade\, Coffs Harbour\, NSW\, 2450\, Australia
CATEGORIES:Entertainment,Whats On
ATTACH;FMTTYPE=image/jpeg:https://hoeymoey.com.au/wp-content/uploads/2023/03/Jamel-Boukaou-live-music-Hoey-Moey-pub-hotel-bar-Coffs-Harbour-e1679361568934.jpeg
END:VEVENT
BEGIN:VEVENT
DTSTART;TZID=Australia/Sydney:20240619T180000
DTEND;TZID=Australia/Sydney:20240619T210000
DTSTAMP:20260422T074747
CREATED:20231218T053652Z
LAST-MODIFIED:20240617T003109Z
UID:10004953-1718820000-1718830800@hoeymoey.com.au
SUMMARY:Live music with Charlie Davis!
DESCRIPTION:Charlie Davis is a solo artist living on the Coffs Coast with an eclectic range of covers including Coldplay\, the Beatles\, and Twenty One Pilots. \nEnjoy the dynamic sliding vocals and warm tones of this up-and-coming performer.
URL:https://hoeymoey.com.au/event/live-music-with-charlie-davis-5/
LOCATION:The Hoey Moey\, 84 Ocean Parade\, Coffs Harbour\, NSW\, 2450\, Australia
CATEGORIES:Entertainment,Whats On
ATTACH;FMTTYPE=image/jpeg:https://hoeymoey.com.au/wp-content/uploads/2023/07/Charlie-Davis-live-music-Hoey-Moey-Pub-Bar-Restaurant-Coffs-Harbour-e1689562329761.jpg
END:VEVENT
BEGIN:VEVENT
DTSTART;TZID=Australia/Sydney:20240618T193000
DTEND;TZID=Australia/Sydney:20240618T193000
DTSTAMP:20260422T074747
CREATED:20231119T232915Z
LAST-MODIFIED:20231119T232917Z
UID:10004777-1718739000-1718739000@hoeymoey.com.au
SUMMARY:Byron Bay Premium Lager's Tuesday Pinball Comp!
DESCRIPTION:Join us on Tuesdays for our popular Pinball Comp (register from 7.30pm) with great prizes on offer! \nThis event is proudly sponsored by Byron Bay Premium Lager!
URL:https://hoeymoey.com.au/event/pinball-comp-2/2024-06-18/
LOCATION:The Hoey Moey\, 84 Ocean Parade\, Coffs Harbour\, NSW\, 2450\, Australia
CATEGORIES:Entertainment
ATTACH;FMTTYPE=image/jpeg:https://hoeymoey.com.au/wp-content/uploads/2023/07/Pinball-Competition-Hoey-Moey-Park-Beach-Hotel-Motel-Pub-Bar-Accommodation-Bistro-Restaurant-Coffs-Harbour-Coffs-Coast-Mid-North-Coast.jpg
END:VEVENT
END:VCALENDAR