BEGIN:VCALENDAR
VERSION:2.0
PRODID:-//Hoey Moey - ECPv6.3.3.1//NONSGML v1.0//EN
CALSCALE:GREGORIAN
METHOD:PUBLISH
X-WR-CALNAME:Hoey Moey
X-ORIGINAL-URL:https://hoeymoey.com.au
X-WR-CALDESC:Events for Hoey Moey
REFRESH-INTERVAL;VALUE=DURATION:PT1H
X-Robots-Tag:noindex
X-PUBLISHED-TTL:PT1H
BEGIN:VTIMEZONE
TZID:Australia/Sydney
BEGIN:STANDARD
TZOFFSETFROM:+1100
TZOFFSETTO:+1000
TZNAME:AEST
DTSTART:20220402T160000
END:STANDARD
BEGIN:DAYLIGHT
TZOFFSETFROM:+1000
TZOFFSETTO:+1100
TZNAME:AEDT
DTSTART:20221001T160000
END:DAYLIGHT
BEGIN:STANDARD
TZOFFSETFROM:+1100
TZOFFSETTO:+1000
TZNAME:AEST
DTSTART:20230401T160000
END:STANDARD
BEGIN:DAYLIGHT
TZOFFSETFROM:+1000
TZOFFSETTO:+1100
TZNAME:AEDT
DTSTART:20230930T160000
END:DAYLIGHT
TZID:Australia/Melbourne
BEGIN:STANDARD
TZOFFSETFROM:+1100
TZOFFSETTO:+1000
TZNAME:AEST
DTSTART:20220402T160000
END:STANDARD
BEGIN:DAYLIGHT
TZOFFSETFROM:+1000
TZOFFSETTO:+1100
TZNAME:AEDT
DTSTART:20221001T160000
END:DAYLIGHT
END:VTIMEZONE
BEGIN:VEVENT
DTSTART;VALUE=DATE:20221215
DTEND;VALUE=DATE:20221216
DTSTAMP:20260426T113524
CREATED:20190820T031634Z
LAST-MODIFIED:20230214T073522Z
UID:10002333-1671062400-1671148799@hoeymoey.com.au
SUMMARY:Thursday Offer - $16 Chicken Parmi!*
DESCRIPTION:On Thursdays\, you can enjoy a chicken parmi\, with chips and salad for just $16 for members! \n* $19.50 for non members. \nSupersize it and get an additional parmi for $6.50!
URL:https://hoeymoey.com.au/event/thursday-chicken-parmi/2022-12-15/
LOCATION:The Hoey Moey\, 84 Ocean Parade\, Coffs Harbour\, NSW\, 2450\, Australia
CATEGORIES:Meal Deal,Whats On
ATTACH;FMTTYPE=image/jpeg:https://hoeymoey.com.au/wp-content/uploads/2019/08/HM_NewDailyFeeds_NOV2022_WEB3.jpg
END:VEVENT
BEGIN:VEVENT
DTSTART;TZID=Australia/Sydney:20221214T190000
DTEND;TZID=Australia/Sydney:20221214T190000
DTSTAMP:20260426T113524
CREATED:20221207T051655Z
LAST-MODIFIED:20221215T014131Z
UID:10001158-1671044400-1671044400@hoeymoey.com.au
SUMMARY:The Hoey Moey's Member's Draw!
DESCRIPTION:The Hoey Moey’s Members Draw is Wednesdays at 7pm!\n\nScan your membership card with each purchase during the week to receive an entry into the weekly draw.\n\nThe jackpot starts at $300 and increases by $100 per week if not won.\n\n* Terms and conditions apply.
URL:https://hoeymoey.com.au/event/the-hoey-moeys-members-draw/2022-12-14/
LOCATION:The Hoey Moey\, 84 Ocean Parade\, Coffs Harbour\, NSW\, 2450\, Australia
CATEGORIES:Weekly Events
ATTACH;FMTTYPE=image/jpeg:https://hoeymoey.com.au/wp-content/uploads/2022/12/HM_MembersDraw_DEC2022_WEB.jpg
END:VEVENT
BEGIN:VEVENT
DTSTART;TZID=Australia/Sydney:20221214T180000
DTEND;TZID=Australia/Sydney:20221214T210000
DTSTAMP:20260426T113524
CREATED:20221201T031542Z
LAST-MODIFIED:20221201T031634Z
UID:10002413-1671040800-1671051600@hoeymoey.com.au
SUMMARY:Live music Wednesday with Shmoné!
DESCRIPTION:Shmoné is a Multi-Instrumentalist and Singer-Songwriter from Israel. Now fortunate to call Australia home. \nCombining Sax/Beats/Vocals/Guitar and looping\, Shmoné’s live shows are jam-packed full of energy and emotion … definitely not a show you want to miss!
URL:https://hoeymoey.com.au/event/live-music-wednesday-with-shmone/
LOCATION:The Hoey Moey\, 84 Ocean Parade\, Coffs Harbour\, NSW\, 2450\, Australia
CATEGORIES:Entertainment
ATTACH;FMTTYPE=image/jpeg:https://hoeymoey.com.au/wp-content/uploads/2022/12/HM_LiveMusicWednesdays_DEC2022_WEB2.jpg
END:VEVENT
BEGIN:VEVENT
DTSTART;VALUE=DATE:20221214
DTEND;VALUE=DATE:20221215
DTSTAMP:20260426T113524
CREATED:20190820T030800Z
LAST-MODIFIED:20230321T022622Z
UID:10002197-1670976000-1671062399@hoeymoey.com.au
SUMMARY:Wednesday Offer - $16 Chicken Schnitzel!*
DESCRIPTION:On Wednesdays\, members can enjoy a chicken schnitzel served with chips\, fresh salad and gravy for $16. \n* $19.50 for non members. \nPlus\, get premium topper blackboard upgrades!
URL:https://hoeymoey.com.au/event/wednesday-members-chicken-schnitzel/2022-12-14/
LOCATION:The Hoey Moey\, 84 Ocean Parade\, Coffs Harbour\, NSW\, 2450\, Australia
CATEGORIES:Meal Deal
ATTACH;FMTTYPE=image/jpeg:https://hoeymoey.com.au/wp-content/uploads/2019/08/HM_NewDailyFeeds_NOV2022_WEB2.jpg
END:VEVENT
BEGIN:VEVENT
DTSTART;TZID=Australia/Sydney:20221213T190000
DTEND;TZID=Australia/Sydney:20221213T190000
DTSTAMP:20260426T113524
CREATED:20220207T114253Z
LAST-MODIFIED:20221018T045338Z
UID:10000871-1670958000-1670958000@hoeymoey.com.au
SUMMARY:Pinball Comp!
DESCRIPTION:Join us on Tuesdays for a Pinball comp from 7pm!
URL:https://hoeymoey.com.au/event/pinball/2022-12-13/
LOCATION:The Hoey Moey\, 84 Ocean Parade\, Coffs Harbour\, NSW\, 2450\, Australia
CATEGORIES:Entertainment
ATTACH;FMTTYPE=image/jpeg:https://hoeymoey.com.au/wp-content/uploads/2022/02/HM_TuesdayPinballComp_2022_WEB.jpg
END:VEVENT
BEGIN:VEVENT
DTSTART;TZID=Australia/Sydney:20221213T180000
DTEND;TZID=Australia/Sydney:20221213T180000
DTSTAMP:20260426T113524
CREATED:20220814T092552Z
LAST-MODIFIED:20230317T043332Z
UID:10001093-1670954400-1670954400@hoeymoey.com.au
SUMMARY:Musical Bingo!
DESCRIPTION:Join us for a fun night of Musical Bingo every Tuesday night from 6pm! \nIt’ll be heaps of fun\, with music galore\, and prizes to be won!
URL:https://hoeymoey.com.au/event/musical-bingo-2/2022-12-13/
LOCATION:The Hoey Moey\, 84 Ocean Parade\, Coffs Harbour\, NSW\, 2450\, Australia
CATEGORIES:Entertainment
ATTACH;FMTTYPE=image/jpeg:https://hoeymoey.com.au/wp-content/uploads/2022/08/HM_MusicalBingo_SEPT2022_WEB.jpg
END:VEVENT
BEGIN:VEVENT
DTSTART;TZID=Australia/Sydney:20221212T183000
DTEND;TZID=Australia/Sydney:20230114T183000
DTSTAMP:20260426T113524
CREATED:20220210T225041Z
LAST-MODIFIED:20230508T054726Z
UID:10000475-1670869800-1673721000@hoeymoey.com.au
SUMMARY:Trivia Mondays
DESCRIPTION:Brainiacs unite for Trivia on Monday Nights at the Hoey Moey! \nIt is from 6.30pm with great prizes to be won.
URL:https://hoeymoey.com.au/event/trivia-mondays/2022-12-12/
LOCATION:The Hoey Moey\, 84 Ocean Parade\, Coffs Harbour\, NSW\, 2450\, Australia
CATEGORIES:Entertainment
ATTACH;FMTTYPE=image/jpeg:https://hoeymoey.com.au/wp-content/uploads/2022/02/HM_TriviaMondays_FEB2022_WEB.jpg
END:VEVENT
BEGIN:VEVENT
DTSTART;VALUE=DATE:20221212
DTEND;VALUE=DATE:20221213
DTSTAMP:20260426T113524
CREATED:20220427T005548Z
LAST-MODIFIED:20221215T075933Z
UID:10002599-1670803200-1670889599@hoeymoey.com.au
SUMMARY:Monday Madness!
DESCRIPTION:It’s Monday Madness! \nEnjoy our mystery Monday dish for just $14.50 for members or $19 for non members! \nSee the blackboard for today’s selection.
URL:https://hoeymoey.com.au/event/monday-madness/2022-12-12/
LOCATION:The Hoey Moey\, 84 Ocean Parade\, Coffs Harbour\, NSW\, 2450\, Australia
CATEGORIES:Meal Deal,Whats On
ATTACH;FMTTYPE=image/jpeg:https://hoeymoey.com.au/wp-content/uploads/2022/04/HM_NewDailyFeeds_2022_WEB.jpg
END:VEVENT
BEGIN:VEVENT
DTSTART;TZID=Australia/Melbourne:20221211T160000
DTEND;TZID=Australia/Melbourne:20221211T193000
DTSTAMP:20260426T113524
CREATED:20221028T093750Z
LAST-MODIFIED:20221028T093805Z
UID:10002419-1670774400-1670787000@hoeymoey.com.au
SUMMARY:Sunday Session featuring the Jacks Band!
DESCRIPTION:The Jacks Band formed a little over 4 years ago by accident\, after 1 jam night\, where they knew a total of 3 songs\, they performed the next night at a family function playing for about 3hrs. \nSince then they have gathered a large repertoire of songs from rock\, blues\, funk\, soul\, RnB\, country and a few other random genres. \nMusical influences come from everywhere and we can enjoy any music that is “Real”. \nThe Jacks are now a staple on the Northern Rivers music scene and have entertained crowds in\, pubs\, schools\, parties\, weddings\, funerals (yes Funerals)\, Surf competitions\, footy ovals\, festivals and much more. \nFingal locals with traditional roots and a white brother ring in\, The Jacks Band play for the thrill and enjoyment\, hopefully you will have a great time and find a new favourite local band!
URL:https://hoeymoey.com.au/event/sunday-session-featuring-the-jacks-band-111222/
LOCATION:The Hoey Moey\, 84 Ocean Parade\, Coffs Harbour\, NSW\, 2450\, Australia
CATEGORIES:Entertainment
ATTACH;FMTTYPE=image/jpeg:https://hoeymoey.com.au/wp-content/uploads/2022/06/HM_SuperSundaySesh_JUL2022_WEB2.jpg
END:VEVENT
BEGIN:VEVENT
DTSTART;VALUE=DATE:20221211
DTEND;VALUE=DATE:20221212
DTSTAMP:20260426T113524
CREATED:20221102T013157Z
LAST-MODIFIED:20230214T072545Z
UID:10001132-1670716800-1670803199@hoeymoey.com.au
SUMMARY:Super Sunday Cutlets!
DESCRIPTION:On Sundays\, enjoy crumbed lamb cutlets served with chips\, salad and gravy for just $16 for members or $19.50 for non members!
URL:https://hoeymoey.com.au/event/super-sunday-cutlets/2022-12-11/
LOCATION:The Hoey Moey\, 84 Ocean Parade\, Coffs Harbour\, NSW\, 2450\, Australia
CATEGORIES:Meal Deal,Whats On
ATTACH;FMTTYPE=image/jpeg:https://hoeymoey.com.au/wp-content/uploads/2022/11/HM_NewDailyFeeds_NOV2022_WEB6.jpg
END:VEVENT
BEGIN:VEVENT
DTSTART;TZID=Australia/Sydney:20221210T210000
DTEND;TZID=Australia/Sydney:20221210T230000
DTSTAMP:20260426T113524
CREATED:20221028T093535Z
LAST-MODIFIED:20221028T093642Z
UID:10002418-1670706000-1670713200@hoeymoey.com.au
SUMMARY:DJ Kyle James!
DESCRIPTION:It is time to hit the dance floor with DJ Kyle James spinning tunes to late!
URL:https://hoeymoey.com.au/event/dj-raven-101222/
LOCATION:The Hoey Moey\, 84 Ocean Parade\, Coffs Harbour\, NSW\, 2450\, Australia
CATEGORIES:Entertainment
ATTACH;FMTTYPE=image/jpeg:https://hoeymoey.com.au/wp-content/uploads/2019/08/DJ-at-the-Hoey-Moey-beer-garden-Coffs-Harbour.jpeg
END:VEVENT
BEGIN:VEVENT
DTSTART;TZID=Australia/Sydney:20221210T180000
DTEND;TZID=Australia/Sydney:20221210T180000
DTSTAMP:20260426T113524
CREATED:20220719T000015Z
LAST-MODIFIED:20220809T091310Z
UID:10001070-1670695200-1670695200@hoeymoey.com.au
SUMMARY:Skegss!
DESCRIPTION:Space 44\, Select Music & Offbeat present Skegss! \nThey’ll be playing at the Hoey Moey on Saturday\, 10 December!  Doors open at 6pm and this is a 18+ event. \nTickets are $60 + booking fee at Get Tickets Here! \nIn the six years since their inception\, Skegss (singer/guitarist Ben Reed\, bassist/guitarist/vocalist Toby Cregan\, and drummer Jonny Lani) emerged from their laid-back\, Australian small town roots as unlikely anti-heroes of the country’s vibrant rock scene.  \nTheir riotous releases have sparked circle pits and stage dives all over—from dingy pubs and skate parks\, to 20K capacity festival stages—and led the three lads on countless world tours. They’ve even topped the Australian Recording Industry Association (ARIA) singles charts numerous times and\, more recently\, their debut LP My Own Mess reached number two on the album charts and earned an ARIA Award nomination for ‘Best Rock Album.’ Australia’s coastal sensation never lost their underdog flair despite their achievements\, and it’s that same spirit that defines their second studio album\, Rehearsal—a 13-track thrill ride through modern disillusioned youth. \nReleased late March 2021 via Loma Vista Recordings Rehearsal debuted at #1 on Australia’s ARIA Album and Vinyl sales chart with first week sales and was the triple j feature record. In addition- Rehearsal earned the trio of Toby\, Ben Reed (vocals\, guitar)\, and Jonny Lani (drums) their first cover story at NME Australia\, while its singles collectively earned early praise and support from Consequence\, DIY\, Rolling Stone Australia (Song You Need to Know) and had 2 tracks place in the triple j Hottest 100 voted singles of the year. (Under the Thunder (#27) and Fantasising (#66). \nRehearsal was recorded at The Grove Studios with Grammy-award winning producer Catherine Marks (Foals\, Wolf Alice)\, who added a veteran’s finesse and expanded upon the rustic charm of demos the band tracked at The Music Farm using vintage gear from the ‘60s and ‘70s. From Reed’s self-made lyrical philosophies inspired by his favourite stand-up comedians to Toby Cregan’s reflections on life and his dog\, Rehearsal is the most candid and electrifying snapshot we’ve seen of Skegss yet.
URL:https://hoeymoey.com.au/event/skegss/
LOCATION:The Hoey Moey\, 84 Ocean Parade\, Coffs Harbour\, NSW\, 2450\, Australia
CATEGORIES:Entertainment,Ticketed Entertainment
ATTACH;FMTTYPE=image/jpeg:https://hoeymoey.com.au/wp-content/uploads/2022/07/HM_Skegss_DEC2022_WEB.jpg
END:VEVENT
BEGIN:VEVENT
DTSTART;VALUE=DATE:20221210
DTEND;VALUE=DATE:20221211
DTSTAMP:20260426T113524
CREATED:20190820T031837Z
LAST-MODIFIED:20230214T072628Z
UID:10002385-1670630400-1670716799@hoeymoey.com.au
SUMMARY:Saturday Seafood!
DESCRIPTION:On Saturdays\, you can enjoy fish and chips with salad\, lemon and tartare sauce for just $16 for members or $19.50 for non members! \nPlus there are premium blackboard upgrades.
URL:https://hoeymoey.com.au/event/saturday-seafood/2022-12-10/
LOCATION:The Hoey Moey\, 84 Ocean Parade\, Coffs Harbour\, NSW\, 2450\, Australia
CATEGORIES:Meal Deal,Whats On
ATTACH;FMTTYPE=image/jpeg:https://hoeymoey.com.au/wp-content/uploads/2019/08/HM_NewDailyFeeds_NOV2022_WEB5.jpg
END:VEVENT
BEGIN:VEVENT
DTSTART;TZID=Australia/Sydney:20221209T203000
DTEND;TZID=Australia/Sydney:20221209T230000
DTSTAMP:20260426T113524
CREATED:20221028T093020Z
LAST-MODIFIED:20221028T093444Z
UID:10002416-1670617800-1670626800@hoeymoey.com.au
SUMMARY:DJ Raven!
DESCRIPTION:It is time to hit the dance floor with DJ Raven spinning tunes to late!
URL:https://hoeymoey.com.au/event/dj-raven-91222/
LOCATION:The Hoey Moey\, 84 Ocean Parade\, Coffs Harbour\, NSW\, 2450\, Australia
CATEGORIES:Entertainment
ATTACH;FMTTYPE=image/jpeg:https://hoeymoey.com.au/wp-content/uploads/2019/08/DJ-at-the-Hoey-Moey-beer-garden-Coffs-Harbour.jpeg
END:VEVENT
BEGIN:VEVENT
DTSTART;TZID=Australia/Melbourne:20221209T170000
DTEND;TZID=Australia/Melbourne:20221209T200000
DTSTAMP:20260426T113524
CREATED:20221028T092806Z
LAST-MODIFIED:20221028T092906Z
UID:10002415-1670605200-1670616000@hoeymoey.com.au
SUMMARY:Live music with Sam Dyball!
DESCRIPTION:Enjoy live music in the Hoey Moey beer garden featuring Sam Dyball!\n \n\n\nSam Dyball is a 19 year old singer songwriter from the small town of Nana Glen. For the past 5 years he has been performing with family trio “D’boyzos” and has now decided to try out the world of solo performance!\n\n\n \n\n\nIn this span of 5 years he has performed over 450 shows including performances supporting bands and artists such as The Black Sorrows\, Wendy Matthews\, Kasey Chambers\, Troy Cassar-Daley and Reece Mastin\, just to name a few!
URL:https://hoeymoey.com.au/event/live-music-with-sam-dyball-91222/
LOCATION:The Hoey Moey\, 84 Ocean Parade\, Coffs Harbour\, NSW\, 2450\, Australia
CATEGORIES:Entertainment
ATTACH;FMTTYPE=image/jpeg:https://hoeymoey.com.au/wp-content/uploads/2020/09/Sam-Dyball.jpg
END:VEVENT
BEGIN:VEVENT
DTSTART;VALUE=DATE:20221209
DTEND;VALUE=DATE:20221210
DTSTAMP:20260426T113524
CREATED:20190815T234137Z
LAST-MODIFIED:20230214T073012Z
UID:10000884-1670544000-1670630399@hoeymoey.com.au
SUMMARY:Friday offer - $16 Friday Steak Fest!*
DESCRIPTION:On Fridays at the Hoey Moey\, you can enjoy a 200 gram rump steak\, chips and salad for just $16 for members or $19.50 for non members! \nPlus get premium blackboard upgrades.
URL:https://hoeymoey.com.au/event/friday-steak-fest/2022-12-09/
LOCATION:The Hoey Moey\, 84 Ocean Parade\, Coffs Harbour\, NSW\, 2450\, Australia
CATEGORIES:Meal Deal,Whats On
ATTACH;FMTTYPE=image/jpeg:https://hoeymoey.com.au/wp-content/uploads/2019/08/HM_NewDailyFeeds_NOV2022_WEB4.jpg
END:VEVENT
BEGIN:VEVENT
DTSTART;TZID=Australia/Sydney:20221208T180000
DTEND;TZID=Australia/Sydney:20221208T210000
DTSTAMP:20260426T113524
CREATED:20221028T083836Z
LAST-MODIFIED:20221028T084241Z
UID:10001155-1670522400-1670533200@hoeymoey.com.au
SUMMARY:Live music with Matty Devitt!
DESCRIPTION:Matty Devitt has been writing songs and performing for the past 12 years in and around the Coffs Harbour\, Byron Bay\, and Fraser coast areas. \nMatty also spent 2 years in Brighton\, UK\, enjoying much success on the local circuit. \nDuring this time Matty linked up with two amazingly talented unknown guitarists\, Wes DeWitt of Canada\, and Richard Atherton of England and proceeded to take out the “Best Original Musician” Category at the 2008 Bunderburg Rum\, Blues over Byron Busking Competition\, after which Matty took out the Best Song in the indigenous category at the 2008 Q Song Awards. \nThey have performed at the 2008 and 2009 Eastcoast Blues and Roots festival to a captive audience\, the 2008 Caloundra Music festival and 2009 Dreaming festival\, Recorded their Debut Album “Chosen This Life” @ Studio 301 in Byron Bay\, and independently released it earlier this year.
URL:https://hoeymoey.com.au/event/live-music-with-matty-devitt-81222/
LOCATION:The Hoey Moey\, 84 Ocean Parade\, Coffs Harbour\, NSW\, 2450\, Australia
CATEGORIES:Entertainment
ATTACH;FMTTYPE=image/jpeg:https://hoeymoey.com.au/wp-content/uploads/2020/09/Matty-Devitt-Duo.jpg
END:VEVENT
BEGIN:VEVENT
DTSTART;VALUE=DATE:20221208
DTEND;VALUE=DATE:20221209
DTSTAMP:20260426T113524
CREATED:20190820T031634Z
LAST-MODIFIED:20230214T073522Z
UID:10002332-1670457600-1670543999@hoeymoey.com.au
SUMMARY:Thursday Offer - $16 Chicken Parmi!*
DESCRIPTION:On Thursdays\, you can enjoy a chicken parmi\, with chips and salad for just $16 for members! \n* $19.50 for non members. \nSupersize it and get an additional parmi for $6.50!
URL:https://hoeymoey.com.au/event/thursday-chicken-parmi/2022-12-08/
LOCATION:The Hoey Moey\, 84 Ocean Parade\, Coffs Harbour\, NSW\, 2450\, Australia
CATEGORIES:Meal Deal,Whats On
ATTACH;FMTTYPE=image/jpeg:https://hoeymoey.com.au/wp-content/uploads/2019/08/HM_NewDailyFeeds_NOV2022_WEB3.jpg
END:VEVENT
BEGIN:VEVENT
DTSTART;TZID=Australia/Sydney:20221207T190000
DTEND;TZID=Australia/Sydney:20221207T190000
DTSTAMP:20260426T113524
CREATED:20221207T051655Z
LAST-MODIFIED:20221215T014131Z
UID:10001157-1670439600-1670439600@hoeymoey.com.au
SUMMARY:The Hoey Moey's Member's Draw!
DESCRIPTION:The Hoey Moey’s Members Draw is Wednesdays at 7pm!\n\nScan your membership card with each purchase during the week to receive an entry into the weekly draw.\n\nThe jackpot starts at $300 and increases by $100 per week if not won.\n\n* Terms and conditions apply.
URL:https://hoeymoey.com.au/event/the-hoey-moeys-members-draw/2022-12-07/
LOCATION:The Hoey Moey\, 84 Ocean Parade\, Coffs Harbour\, NSW\, 2450\, Australia
CATEGORIES:Weekly Events
ATTACH;FMTTYPE=image/jpeg:https://hoeymoey.com.au/wp-content/uploads/2022/12/HM_MembersDraw_DEC2022_WEB.jpg
END:VEVENT
BEGIN:VEVENT
DTSTART;TZID=Australia/Sydney:20221207T180000
DTEND;TZID=Australia/Sydney:20221207T210000
DTSTAMP:20260426T113524
CREATED:20221201T031017Z
LAST-MODIFIED:20221201T031450Z
UID:10002414-1670436000-1670446800@hoeymoey.com.au
SUMMARY:Live music Wednesday with Nathan Beretta!
DESCRIPTION:Nathan Beretta has made his mark in the Australian blues scene with multiple award winning blues band Blue Eyes Cry. Touring and playing just about every Blues festival and venue in the country Nathan has earned respect from blues lover’s all over. \nNathan has shared the stage with many Australian Legends such as Robert Susz ( Mighty Reapers) Shane Pacey ( Bondi Cigars)\, Geoff Achison \, Lloyd Spiegel \, and Chris Wilson just to name a few. When it comes to festivals Nathan has performed though out Australia opening up for international acts such as\, Anne Popovich\, Jon Cleary\, and Joe Louis Walker. \nGrowing up with Blues jazz and soul in the household\, Nathan has brought his own unique style to the table. Influenced by artist such as Ronnie Earl\, Albert Collins\, Guy King and Jimmie Vaughn Nathan plays from the soul with an “all killer no filler” approach. Nathans first band Blue Eyes cry was signed to Australia’s premier record company Black Market Music\, Nathan manage to hit no 1 on the Australian Blues and Roots Charts in the year of 2015\, also winning best new Talent at the Chain awards the same year. In 2019 Nathan topped the charts again with his debut release “Where I Belong”. \nNathan Beretta is an act not to be missed if Fender guitar Tones and a traditional feel is your thing!
URL:https://hoeymoey.com.au/event/live-music-wednesday-with-nathan-beretta/
LOCATION:The Hoey Moey\, 84 Ocean Parade\, Coffs Harbour\, NSW\, 2450\, Australia
CATEGORIES:Entertainment
ATTACH;FMTTYPE=image/jpeg:https://hoeymoey.com.au/wp-content/uploads/2022/12/HM_LiveMusicWednesdays_DEC2022_WEB.jpg
END:VEVENT
BEGIN:VEVENT
DTSTART;VALUE=DATE:20221207
DTEND;VALUE=DATE:20221208
DTSTAMP:20260426T113524
CREATED:20190820T030800Z
LAST-MODIFIED:20230321T022622Z
UID:10002196-1670371200-1670457599@hoeymoey.com.au
SUMMARY:Wednesday Offer - $16 Chicken Schnitzel!*
DESCRIPTION:On Wednesdays\, members can enjoy a chicken schnitzel served with chips\, fresh salad and gravy for $16. \n* $19.50 for non members. \nPlus\, get premium topper blackboard upgrades!
URL:https://hoeymoey.com.au/event/wednesday-members-chicken-schnitzel/2022-12-07/
LOCATION:The Hoey Moey\, 84 Ocean Parade\, Coffs Harbour\, NSW\, 2450\, Australia
CATEGORIES:Meal Deal
ATTACH;FMTTYPE=image/jpeg:https://hoeymoey.com.au/wp-content/uploads/2019/08/HM_NewDailyFeeds_NOV2022_WEB2.jpg
END:VEVENT
BEGIN:VEVENT
DTSTART;TZID=Australia/Sydney:20221206T190000
DTEND;TZID=Australia/Sydney:20221206T190000
DTSTAMP:20260426T113524
CREATED:20220207T114253Z
LAST-MODIFIED:20221018T045338Z
UID:10000870-1670353200-1670353200@hoeymoey.com.au
SUMMARY:Pinball Comp!
DESCRIPTION:Join us on Tuesdays for a Pinball comp from 7pm!
URL:https://hoeymoey.com.au/event/pinball/2022-12-06/
LOCATION:The Hoey Moey\, 84 Ocean Parade\, Coffs Harbour\, NSW\, 2450\, Australia
CATEGORIES:Entertainment
ATTACH;FMTTYPE=image/jpeg:https://hoeymoey.com.au/wp-content/uploads/2022/02/HM_TuesdayPinballComp_2022_WEB.jpg
END:VEVENT
BEGIN:VEVENT
DTSTART;TZID=Australia/Sydney:20221206T180000
DTEND;TZID=Australia/Sydney:20221206T180000
DTSTAMP:20260426T113524
CREATED:20220814T092552Z
LAST-MODIFIED:20230317T043332Z
UID:10001092-1670349600-1670349600@hoeymoey.com.au
SUMMARY:Musical Bingo!
DESCRIPTION:Join us for a fun night of Musical Bingo every Tuesday night from 6pm! \nIt’ll be heaps of fun\, with music galore\, and prizes to be won!
URL:https://hoeymoey.com.au/event/musical-bingo-2/2022-12-06/
LOCATION:The Hoey Moey\, 84 Ocean Parade\, Coffs Harbour\, NSW\, 2450\, Australia
CATEGORIES:Entertainment
ATTACH;FMTTYPE=image/jpeg:https://hoeymoey.com.au/wp-content/uploads/2022/08/HM_MusicalBingo_SEPT2022_WEB.jpg
END:VEVENT
BEGIN:VEVENT
DTSTART;TZID=Australia/Sydney:20221205T183000
DTEND;TZID=Australia/Sydney:20230107T183000
DTSTAMP:20260426T113524
CREATED:20220210T225041Z
LAST-MODIFIED:20230508T054726Z
UID:10000474-1670265000-1673116200@hoeymoey.com.au
SUMMARY:Trivia Mondays
DESCRIPTION:Brainiacs unite for Trivia on Monday Nights at the Hoey Moey! \nIt is from 6.30pm with great prizes to be won.
URL:https://hoeymoey.com.au/event/trivia-mondays/2022-12-05/
LOCATION:The Hoey Moey\, 84 Ocean Parade\, Coffs Harbour\, NSW\, 2450\, Australia
CATEGORIES:Entertainment
ATTACH;FMTTYPE=image/jpeg:https://hoeymoey.com.au/wp-content/uploads/2022/02/HM_TriviaMondays_FEB2022_WEB.jpg
END:VEVENT
BEGIN:VEVENT
DTSTART;VALUE=DATE:20221205
DTEND;VALUE=DATE:20221206
DTSTAMP:20260426T113524
CREATED:20220427T005548Z
LAST-MODIFIED:20221215T075933Z
UID:10002598-1670198400-1670284799@hoeymoey.com.au
SUMMARY:Monday Madness!
DESCRIPTION:It’s Monday Madness! \nEnjoy our mystery Monday dish for just $14.50 for members or $19 for non members! \nSee the blackboard for today’s selection.
URL:https://hoeymoey.com.au/event/monday-madness/2022-12-05/
LOCATION:The Hoey Moey\, 84 Ocean Parade\, Coffs Harbour\, NSW\, 2450\, Australia
CATEGORIES:Meal Deal,Whats On
ATTACH;FMTTYPE=image/jpeg:https://hoeymoey.com.au/wp-content/uploads/2022/04/HM_NewDailyFeeds_2022_WEB.jpg
END:VEVENT
BEGIN:VEVENT
DTSTART;TZID=Australia/Sydney:20221204T160000
DTEND;TZID=Australia/Sydney:20221204T193000
DTSTAMP:20260426T113524
CREATED:20221024T070553Z
LAST-MODIFIED:20221028T083747Z
UID:10001125-1670169600-1670182200@hoeymoey.com.au
SUMMARY:Live music with Fiesta Fiasco!
DESCRIPTION:Fiesta Fiasco will be playing live on Sunday\, 4 December at the Hoey Moey! \nFiesta Fiasco is a 9 piece band from Brisbane\, Australia that plays high energy Ska/Reggae/Soul music guaranteed to have you on your feet dancing! Combining musicians fromsome of Brisbane’s best loved Ska bands past and present\, with talented fresh faces to the scene\, this is Fiesta Fiasco! \nForming at the beginning of 2020 and gig ready by March\, the Fi-Fi’s shifted focus during the ‘Covid lockdowns’ to begin the process of a series of lockdown EPs which have slowly being released since\, resulting in the ‘FI-FIs’ gaining a loyal following on social media. Fiesta Fiasco has also contributed a song to an overseas fundraising release\, resulting in further positive attention from UK and USA .\nDespite all the closures in 2021-2022\, Fiesta Fiasco have managed to performin some of SEQs best loved venues including HOTA (Gold Coast)\, The Triffid and The Zoo (Brisbane) and Aussieworld (Sunny Coast). With infectious grooves and frivolous stage antics\, the live audiences have been building and coming along specifically to dance and enjoy themselves. \nNow with a swag of quality songs in the catalogue\, a new 5 track EP ready for release\, and a growing local and International following on social media\, Fiesta Fiasco are eager to embrace the world opening up post covid\, perform in more venues\, and festivals\, and bring their brand of sizzling Soul/Ska to the wider community.
URL:https://hoeymoey.com.au/event/fiesta-fiasco/
LOCATION:The Hoey Moey\, 84 Ocean Parade\, Coffs Harbour\, NSW\, 2450\, Australia
CATEGORIES:Entertainment
ATTACH;FMTTYPE=image/jpeg:https://hoeymoey.com.au/wp-content/uploads/2022/10/20210912FiestaFiasco0009-2.jpg
END:VEVENT
BEGIN:VEVENT
DTSTART;VALUE=DATE:20221204
DTEND;VALUE=DATE:20221205
DTSTAMP:20260426T113524
CREATED:20221102T013157Z
LAST-MODIFIED:20230214T072545Z
UID:10001131-1670112000-1670198399@hoeymoey.com.au
SUMMARY:Super Sunday Cutlets!
DESCRIPTION:On Sundays\, enjoy crumbed lamb cutlets served with chips\, salad and gravy for just $16 for members or $19.50 for non members!
URL:https://hoeymoey.com.au/event/super-sunday-cutlets/2022-12-04/
LOCATION:The Hoey Moey\, 84 Ocean Parade\, Coffs Harbour\, NSW\, 2450\, Australia
CATEGORIES:Meal Deal,Whats On
ATTACH;FMTTYPE=image/jpeg:https://hoeymoey.com.au/wp-content/uploads/2022/11/HM_NewDailyFeeds_NOV2022_WEB6.jpg
END:VEVENT
BEGIN:VEVENT
DTSTART;TZID=Australia/Sydney:20221203T210000
DTEND;TZID=Australia/Sydney:20221203T230000
DTSTAMP:20260426T113524
CREATED:20221028T080349Z
LAST-MODIFIED:20221028T080349Z
UID:10000393-1670101200-1670108400@hoeymoey.com.au
SUMMARY:DJ Danger Waves!
DESCRIPTION:It is time to hit the dance floor with DJ Danger Waves spinning tunes to late!
URL:https://hoeymoey.com.au/event/dj-danger-waves-31222/
LOCATION:The Hoey Moey\, 84 Ocean Parade\, Coffs Harbour\, NSW\, 2450\, Australia
CATEGORIES:Entertainment
ATTACH;FMTTYPE=image/jpeg:https://hoeymoey.com.au/wp-content/uploads/2019/08/DJ-at-the-Hoey-Moey-beer-garden-Coffs-Harbour.jpeg
END:VEVENT
BEGIN:VEVENT
DTSTART;VALUE=DATE:20221203
DTEND;VALUE=DATE:20221204
DTSTAMP:20260426T113524
CREATED:20190820T031837Z
LAST-MODIFIED:20230214T072628Z
UID:10002384-1670025600-1670111999@hoeymoey.com.au
SUMMARY:Saturday Seafood!
DESCRIPTION:On Saturdays\, you can enjoy fish and chips with salad\, lemon and tartare sauce for just $16 for members or $19.50 for non members! \nPlus there are premium blackboard upgrades.
URL:https://hoeymoey.com.au/event/saturday-seafood/2022-12-03/
LOCATION:The Hoey Moey\, 84 Ocean Parade\, Coffs Harbour\, NSW\, 2450\, Australia
CATEGORIES:Meal Deal,Whats On
ATTACH;FMTTYPE=image/jpeg:https://hoeymoey.com.au/wp-content/uploads/2019/08/HM_NewDailyFeeds_NOV2022_WEB5.jpg
END:VEVENT
BEGIN:VEVENT
DTSTART;TZID=Australia/Sydney:20221202T203000
DTEND;TZID=Australia/Sydney:20221202T230000
DTSTAMP:20260426T113524
CREATED:20221028T071516Z
LAST-MODIFIED:20221028T071534Z
UID:10001063-1670013000-1670022000@hoeymoey.com.au
SUMMARY:DJ Ibex Switch!
DESCRIPTION:It is time to hit the dance floor with DJ Ibex Switch spinning tunes to late!
URL:https://hoeymoey.com.au/event/dj-ibex-switch-21222/
LOCATION:The Hoey Moey\, 84 Ocean Parade\, Coffs Harbour\, NSW\, 2450\, Australia
CATEGORIES:Entertainment
ATTACH;FMTTYPE=image/jpeg:https://hoeymoey.com.au/wp-content/uploads/2019/08/DJ-at-the-Hoey-Moey-beer-garden-Coffs-Harbour.jpeg
END:VEVENT
END:VCALENDAR