BEGIN:VCALENDAR
VERSION:2.0
PRODID:-//Hoey Moey - ECPv6.3.3.1//NONSGML v1.0//EN
CALSCALE:GREGORIAN
METHOD:PUBLISH
X-WR-CALNAME:Hoey Moey
X-ORIGINAL-URL:https://hoeymoey.com.au
X-WR-CALDESC:Events for Hoey Moey
REFRESH-INTERVAL;VALUE=DURATION:PT1H
X-Robots-Tag:noindex
X-PUBLISHED-TTL:PT1H
BEGIN:VTIMEZONE
TZID:Australia/Sydney
BEGIN:STANDARD
TZOFFSETFROM:+1100
TZOFFSETTO:+1000
TZNAME:AEST
DTSTART:20240406T160000
END:STANDARD
BEGIN:DAYLIGHT
TZOFFSETFROM:+1000
TZOFFSETTO:+1100
TZNAME:AEDT
DTSTART:20241005T160000
END:DAYLIGHT
END:VTIMEZONE
BEGIN:VEVENT
DTSTART;TZID=Australia/Sydney:20240402T180000
DTEND;TZID=Australia/Sydney:20240402T180000
DTSTAMP:20260422T163502
CREATED:20230918T000604Z
LAST-MODIFIED:20251007T045542Z
UID:10005237-1712080800-1712080800@hoeymoey.com.au
SUMMARY:Musical Bingo!
DESCRIPTION:Join us for a fun night of Musical Bingo every Tuesday night from 6pm! \nIt’ll be heaps of fun\, with music galore\, and prizes to be won!
URL:https://hoeymoey.com.au/event/musical-bingo-2-2-2/2024-04-02/
LOCATION:The Hoey Moey\, 84 Ocean Parade\, Coffs Harbour\, NSW\, 2450\, Australia
CATEGORIES:Entertainment,Whats On
ATTACH;FMTTYPE=image/jpeg:https://hoeymoey.com.au/wp-content/uploads/2023/09/HM_MusicalBingo_APR2025_WEB.jpg
END:VEVENT
BEGIN:VEVENT
DTSTART;TZID=Australia/Sydney:20240401T183000
DTEND;TZID=Australia/Sydney:20240401T203000
DTSTAMP:20260422T163502
CREATED:20230802T053937Z
LAST-MODIFIED:20240813T012723Z
UID:10004969-1711996200-1712003400@hoeymoey.com.au
SUMMARY:Trivia Mondays
DESCRIPTION:Brainiacs unite for Trivia on Monday Nights at the Hoey Moey! \nIt is from 6.30pm with great prizes to be won.
URL:https://hoeymoey.com.au/event/trivia-mondays-2-2/2024-04-01/
LOCATION:The Hoey Moey\, 84 Ocean Parade\, Coffs Harbour\, NSW\, 2450\, Australia
CATEGORIES:Entertainment,Whats On
ATTACH;FMTTYPE=image/jpeg:https://hoeymoey.com.au/wp-content/uploads/2022/02/HM_TriviaMondays_FEB2022_WEB.jpg
END:VEVENT
BEGIN:VEVENT
DTSTART;VALUE=DATE:20240331
DTEND;VALUE=DATE:20240401
DTSTAMP:20260422T163502
CREATED:20230717T030640Z
LAST-MODIFIED:20230717T030640Z
UID:10004183-1711843200-1711929599@hoeymoey.com.au
SUMMARY:Open late on Friday\, Saturday and Sunday nights!
DESCRIPTION:The Hoey Moey is open late on Friday and Saturday nights until 2am and Sunday nights until 12am!
URL:https://hoeymoey.com.au/event/open-late-on-friday-saturday-and-sunday-nights/2024-03-31/
LOCATION:The Hoey Moey\, 84 Ocean Parade\, Coffs Harbour\, NSW\, 2450\, Australia
CATEGORIES:Entertainment
ATTACH;FMTTYPE=image/jpeg:https://hoeymoey.com.au/wp-content/uploads/2023/07/Open-late-Friday-Saturday-and-Sunday-Nights-Hoey-Moey-Pub-Bar-Restaurant-Hotel-Coffs-Harbour.jpg
END:VEVENT
BEGIN:VEVENT
DTSTART;TZID=Australia/Sydney:20240330T190000
DTEND;TZID=Australia/Sydney:20240330T213000
DTSTAMP:20260422T163502
CREATED:20240227T232602Z
LAST-MODIFIED:20240325T033426Z
UID:10005520-1711825200-1711834200@hoeymoey.com.au
SUMMARY:Balter Brewing presents... The Moving Stills & Temperate Live & Free at the Hoey this Easter Long Weekend!
DESCRIPTION:Four Tone Artists\, Sureshaker & Offbeat presents… \nThe Moving Stills “Wabi Sabi After Party” Tour\nwith SPECIAL GUESTS: TEMPERATE\nSat 30th March @ Hoey Moey\nFREE ENTRY from 7pm \nThe Moving Stills are continuing the summer party vibes on The Wabi Sabi After Party. \nThey’ve been keeping the party going since mid-2023. Appearing on Triple J’s Like A Version covering Ladyhawke’s “My Delirium”\, supporting good friends Teenage Dads on a national tour\, and dropping their second record that made it #2 on the ARIA vinyl charts and #6 on the Aus Albums charts. \nThey brought their signature sea breeze charm to the Rolling Set and Changing Tides Festival in December last year. \nThey’re keeping the party going. Don’t miss out on this after-party.
URL:https://hoeymoey.com.au/event/moving-stills-live-free-at-the-hoey-this-easter-long-weekend/
CATEGORIES:Entertainment,Whats On
ATTACH;FMTTYPE=image/jpeg:https://hoeymoey.com.au/wp-content/uploads/2024/02/moving-stills-hoey-moey-park-beach-hotel-motel-free-live-music-concert-coffs-harbour-coffs-coast-mid-north-coast-accommodation-bar-pub-bistro-restaurant.jpg
END:VEVENT
BEGIN:VEVENT
DTSTART;VALUE=DATE:20240330
DTEND;VALUE=DATE:20240331
DTSTAMP:20260422T163502
CREATED:20230717T030640Z
LAST-MODIFIED:20230717T030640Z
UID:10004182-1711756800-1711843199@hoeymoey.com.au
SUMMARY:Open late on Friday\, Saturday and Sunday nights!
DESCRIPTION:The Hoey Moey is open late on Friday and Saturday nights until 2am and Sunday nights until 12am!
URL:https://hoeymoey.com.au/event/open-late-on-friday-saturday-and-sunday-nights/2024-03-30/
LOCATION:The Hoey Moey\, 84 Ocean Parade\, Coffs Harbour\, NSW\, 2450\, Australia
CATEGORIES:Entertainment
ATTACH;FMTTYPE=image/jpeg:https://hoeymoey.com.au/wp-content/uploads/2023/07/Open-late-Friday-Saturday-and-Sunday-Nights-Hoey-Moey-Pub-Bar-Restaurant-Hotel-Coffs-Harbour.jpg
END:VEVENT
BEGIN:VEVENT
DTSTART;VALUE=DATE:20240329
DTEND;VALUE=DATE:20240330
DTSTAMP:20260422T163502
CREATED:20240318T000301Z
LAST-MODIFIED:20240318T000301Z
UID:10005545-1711670400-1711756799@hoeymoey.com.au
SUMMARY:HAPPY EASTER - THE HOEY MOEY WILL BE CLOSED GOOD FRIDAY
DESCRIPTION:
URL:https://hoeymoey.com.au/event/happy-easter-the-hoey-moey-will-be-closed-good-friday/
CATEGORIES:Entertainment,Whats On
ATTACH;FMTTYPE=image/jpeg:https://hoeymoey.com.au/wp-content/uploads/2024/03/Hoey_EasterTrading_ClosedGoodFriday_WEB.jpg
END:VEVENT
BEGIN:VEVENT
DTSTART;VALUE=DATE:20240329
DTEND;VALUE=DATE:20240330
DTSTAMP:20260422T163502
CREATED:20230717T030640Z
LAST-MODIFIED:20230717T030640Z
UID:10004181-1711670400-1711756799@hoeymoey.com.au
SUMMARY:Open late on Friday\, Saturday and Sunday nights!
DESCRIPTION:The Hoey Moey is open late on Friday and Saturday nights until 2am and Sunday nights until 12am!
URL:https://hoeymoey.com.au/event/open-late-on-friday-saturday-and-sunday-nights/2024-03-29/
LOCATION:The Hoey Moey\, 84 Ocean Parade\, Coffs Harbour\, NSW\, 2450\, Australia
CATEGORIES:Entertainment
ATTACH;FMTTYPE=image/jpeg:https://hoeymoey.com.au/wp-content/uploads/2023/07/Open-late-Friday-Saturday-and-Sunday-Nights-Hoey-Moey-Pub-Bar-Restaurant-Hotel-Coffs-Harbour.jpg
END:VEVENT
BEGIN:VEVENT
DTSTART;TZID=Australia/Sydney:20240328T190000
DTEND;TZID=Australia/Sydney:20240328T223000
DTSTAMP:20260422T163502
CREATED:20231119T233203Z
LAST-MODIFIED:20250522T030010Z
UID:10006219-1711652400-1711665000@hoeymoey.com.au
SUMMARY:Byron Bay Premium Lager's Thursday Pool Comp!
DESCRIPTION:Thursday Night Pool Comp – Don’t Miss Out!\nRain or shine\, the game is on! Come down and show off your skills at our weekly pool competition every Thursday night. \n🕢 Sign-up from 7:15 PM | Comp starts at 7:30 PM sharp\n💵 Just $5 to enter\n🏆 $100 Guaranteed Cash Prize for the winner\n🍻 5 Drink Tickets for the runner-up! \nWhether you’re a seasoned player or just in it for fun\, it’s a great night out. Grab your cue and join us!
URL:https://hoeymoey.com.au/event/pool-comp-2/2024-03-28/
LOCATION:The Hoey Moey\, 84 Ocean Parade\, Coffs Harbour\, NSW\, 2450\, Australia
CATEGORIES:Entertainment,Whats On
ATTACH;FMTTYPE=image/jpeg:https://hoeymoey.com.au/wp-content/uploads/2023/07/Thursday-Pool-Competition-Hoey-Moey-Park-Beach-Hotel-Motel-Pub-Bar-Accommodation-Bistro-Restaurant-Coffs-Harbour-Coffs-Coast-Mid-North-Coast.jpg
END:VEVENT
BEGIN:VEVENT
DTSTART;TZID=Australia/Sydney:20240327T180000
DTEND;TZID=Australia/Sydney:20240327T210000
DTSTAMP:20260422T163503
CREATED:20240212T232724Z
LAST-MODIFIED:20240212T232745Z
UID:10005503-1711562400-1711573200@hoeymoey.com.au
SUMMARY:SEA SHEPHERD FUNDRAISING EVENT
DESCRIPTION:
URL:https://hoeymoey.com.au/event/sea-shepherd-fundraising-event/
CATEGORIES:Entertainment,Whats On
ATTACH;FMTTYPE=image/jpeg:https://hoeymoey.com.au/wp-content/uploads/2024/02/HM_SeaShepherdEvent_MAR2024_WEB.jpg
END:VEVENT
BEGIN:VEVENT
DTSTART;TZID=Australia/Sydney:20240326T193000
DTEND;TZID=Australia/Sydney:20240326T193000
DTSTAMP:20260422T163503
CREATED:20231119T232915Z
LAST-MODIFIED:20231119T232917Z
UID:10004765-1711481400-1711481400@hoeymoey.com.au
SUMMARY:Byron Bay Premium Lager's Tuesday Pinball Comp!
DESCRIPTION:Join us on Tuesdays for our popular Pinball Comp (register from 7.30pm) with great prizes on offer! \nThis event is proudly sponsored by Byron Bay Premium Lager!
URL:https://hoeymoey.com.au/event/pinball-comp-2/2024-03-26/
LOCATION:The Hoey Moey\, 84 Ocean Parade\, Coffs Harbour\, NSW\, 2450\, Australia
CATEGORIES:Entertainment
ATTACH;FMTTYPE=image/jpeg:https://hoeymoey.com.au/wp-content/uploads/2023/07/Pinball-Competition-Hoey-Moey-Park-Beach-Hotel-Motel-Pub-Bar-Accommodation-Bistro-Restaurant-Coffs-Harbour-Coffs-Coast-Mid-North-Coast.jpg
END:VEVENT
BEGIN:VEVENT
DTSTART;TZID=Australia/Sydney:20240326T180000
DTEND;TZID=Australia/Sydney:20240326T180000
DTSTAMP:20260422T163503
CREATED:20230918T000604Z
LAST-MODIFIED:20251007T045542Z
UID:10005236-1711476000-1711476000@hoeymoey.com.au
SUMMARY:Musical Bingo!
DESCRIPTION:Join us for a fun night of Musical Bingo every Tuesday night from 6pm! \nIt’ll be heaps of fun\, with music galore\, and prizes to be won!
URL:https://hoeymoey.com.au/event/musical-bingo-2-2-2/2024-03-26/
LOCATION:The Hoey Moey\, 84 Ocean Parade\, Coffs Harbour\, NSW\, 2450\, Australia
CATEGORIES:Entertainment,Whats On
ATTACH;FMTTYPE=image/jpeg:https://hoeymoey.com.au/wp-content/uploads/2023/09/HM_MusicalBingo_APR2025_WEB.jpg
END:VEVENT
BEGIN:VEVENT
DTSTART;TZID=Australia/Sydney:20240324T160000
DTEND;TZID=Australia/Sydney:20240325T000000
DTSTAMP:20260422T163503
CREATED:20240306T030751Z
LAST-MODIFIED:20240317T235528Z
UID:10005541-1711296000-1711324800@hoeymoey.com.au
SUMMARY:CRIKEY BEER PRESENTS.... SUPER SUNDAY SESH AT THE HOEY!
DESCRIPTION:
URL:https://hoeymoey.com.au/event/oztag-championships-sunday-sesh-afterparty/
CATEGORIES:Entertainment,Whats On
ATTACH;FMTTYPE=image/jpeg:https://hoeymoey.com.au/wp-content/uploads/2024/03/HM_SuperSundaySession_MAR2024_WEB.jpg
END:VEVENT
BEGIN:VEVENT
DTSTART;TZID=Australia/Sydney:20240324T160000
DTEND;TZID=Australia/Sydney:20240324T233000
DTSTAMP:20260422T163503
CREATED:20240129T032111Z
LAST-MODIFIED:20240129T032215Z
UID:10005493-1711296000-1711323000@hoeymoey.com.au
SUMMARY:Sunday Session with La Boum + DJ Richard Gear!
DESCRIPTION:LA BOUM is an immaculate\, hard-hitting throwdown of club-friendly bangers with strong attention to detail and a general good-time vibe. LA BOUM are from Brisbane. An energetic live-house/pop music act with live vocals\, keyboards/synthesizers\, live drums and bass guitar. Musical director and show creator Stephen Anning has walked the red carpet at the ARIAs\, been signed to record labels in the UK\, USA and recently co-produced the hit song for the winner of Japan Idol. LA BOUM frequently travelled up and down the east coast of Australia and held a residency at the luxurious nightclub Cloudland for 7 years every Saturday night. \nLA BOUM will be followed by DJ Richard Gear until late.
URL:https://hoeymoey.com.au/event/sunday-session-with-la-boum-dj-richard-gear/
LOCATION:The Hoey Moey\, 84 Ocean Parade\, Coffs Harbour\, NSW\, 2450\, Australia
CATEGORIES:Entertainment,Whats On
ATTACH;FMTTYPE=image/jpeg:https://hoeymoey.com.au/wp-content/uploads/2023/10/laboum-free-live-music-hoey-moey-hotel-motel-coffs-harbour-coffs-coast-mid-north-coast-pub-bar-accommodation-bistro-restaurant-park-beach.jpg
END:VEVENT
BEGIN:VEVENT
DTSTART;VALUE=DATE:20240324
DTEND;VALUE=DATE:20240325
DTSTAMP:20260422T163503
CREATED:20230717T030640Z
LAST-MODIFIED:20230717T030640Z
UID:10004180-1711238400-1711324799@hoeymoey.com.au
SUMMARY:Open late on Friday\, Saturday and Sunday nights!
DESCRIPTION:The Hoey Moey is open late on Friday and Saturday nights until 2am and Sunday nights until 12am!
URL:https://hoeymoey.com.au/event/open-late-on-friday-saturday-and-sunday-nights/2024-03-24/
LOCATION:The Hoey Moey\, 84 Ocean Parade\, Coffs Harbour\, NSW\, 2450\, Australia
CATEGORIES:Entertainment
ATTACH;FMTTYPE=image/jpeg:https://hoeymoey.com.au/wp-content/uploads/2023/07/Open-late-Friday-Saturday-and-Sunday-Nights-Hoey-Moey-Pub-Bar-Restaurant-Hotel-Coffs-Harbour.jpg
END:VEVENT
BEGIN:VEVENT
DTSTART;TZID=Australia/Sydney:20240323T150000
DTEND;TZID=Australia/Sydney:20240323T190000
DTSTAMP:20260422T163503
CREATED:20240226T045946Z
LAST-MODIFIED:20240226T045946Z
UID:10005508-1711206000-1711220400@hoeymoey.com.au
SUMMARY:The Hoey Moey's Byron Bay Premium Lager Monthly Pool Tournament!
DESCRIPTION:SATURDAY 23RD MARCH FROM 3PM \n\n$10 Entry fee\n1st Prize: $300\n2nd Prize: $100\n3rd Prize: $40 Hoey Venue Voucher\nMaximum participants (32)\n$15 Buyback spots if available for those knocked out\n\nProudly brought to you by Byron Bay Premium Lager.
URL:https://hoeymoey.com.au/event/the-hoey-moeys-byron-bay-premium-lager-monthly-pool-tournament/
CATEGORIES:Entertainment,Whats On
ATTACH;FMTTYPE=image/jpeg:https://hoeymoey.com.au/wp-content/uploads/2024/02/monthly-pool-tournament-hoey-moey-cash-prizes-bar-pub-bistro-restaurant-hotel-motel-accommodation-backpackers-coffs-harbour-coffs-coast-mid-north-coast-live-music.jpg
END:VEVENT
BEGIN:VEVENT
DTSTART;VALUE=DATE:20240323
DTEND;VALUE=DATE:20240324
DTSTAMP:20260422T163503
CREATED:20230717T030640Z
LAST-MODIFIED:20230717T030640Z
UID:10004179-1711152000-1711238399@hoeymoey.com.au
SUMMARY:Open late on Friday\, Saturday and Sunday nights!
DESCRIPTION:The Hoey Moey is open late on Friday and Saturday nights until 2am and Sunday nights until 12am!
URL:https://hoeymoey.com.au/event/open-late-on-friday-saturday-and-sunday-nights/2024-03-23/
LOCATION:The Hoey Moey\, 84 Ocean Parade\, Coffs Harbour\, NSW\, 2450\, Australia
CATEGORIES:Entertainment
ATTACH;FMTTYPE=image/jpeg:https://hoeymoey.com.au/wp-content/uploads/2023/07/Open-late-Friday-Saturday-and-Sunday-Nights-Hoey-Moey-Pub-Bar-Restaurant-Hotel-Coffs-Harbour.jpg
END:VEVENT
BEGIN:VEVENT
DTSTART;TZID=Australia/Sydney:20240322T180000
DTEND;TZID=Australia/Sydney:20240322T233000
DTSTAMP:20260422T163503
CREATED:20230517T080855Z
LAST-MODIFIED:20240202T003939Z
UID:10003854-1711130400-1711150200@hoeymoey.com.au
SUMMARY:Live music by Hayden Ashton + DJ Reti!
DESCRIPTION:Haydo Ashton will be taking the stage to deliver a performance you won’t want to miss. \nAfter recently wrapping up a 50-show tour around Australia\, Haydo has been featured on the Today Show\, Channel 7\, ABC and many more media outlets and joins us right here. \nWith a setlist that includes sing-along hits from legendary artists such as Paul Kelly\, Choir Boys\, Bon Jovi\, Red Hot Chilli Peppers and many more\, Haydo Ashton has proven to be a master of bringing the house down with his incredible live performances. Whether you’re a fan of rock\, pop\, or classic hits\, Haydo has something for everyone. \nHayden will be followed by DJ Reti until late.
URL:https://hoeymoey.com.au/event/live-music-by-hayden-ashton-dj-dangerwaves/
LOCATION:The Hoey Moey\, 84 Ocean Parade\, Coffs Harbour\, NSW\, 2450\, Australia
CATEGORIES:Entertainment,Whats On
ATTACH;FMTTYPE=image/jpeg:https://hoeymoey.com.au/wp-content/uploads/2023/05/Hayden-Ashton-Live-music-Hoey-Moey-Pub-Hotel-Bar-Coffs-Harbour.jpg
END:VEVENT
BEGIN:VEVENT
DTSTART;VALUE=DATE:20240322
DTEND;VALUE=DATE:20240323
DTSTAMP:20260422T163503
CREATED:20230717T030640Z
LAST-MODIFIED:20230717T030640Z
UID:10004178-1711065600-1711151999@hoeymoey.com.au
SUMMARY:Open late on Friday\, Saturday and Sunday nights!
DESCRIPTION:The Hoey Moey is open late on Friday and Saturday nights until 2am and Sunday nights until 12am!
URL:https://hoeymoey.com.au/event/open-late-on-friday-saturday-and-sunday-nights/2024-03-22/
LOCATION:The Hoey Moey\, 84 Ocean Parade\, Coffs Harbour\, NSW\, 2450\, Australia
CATEGORIES:Entertainment
ATTACH;FMTTYPE=image/jpeg:https://hoeymoey.com.au/wp-content/uploads/2023/07/Open-late-Friday-Saturday-and-Sunday-Nights-Hoey-Moey-Pub-Bar-Restaurant-Hotel-Coffs-Harbour.jpg
END:VEVENT
BEGIN:VEVENT
DTSTART;TZID=Australia/Sydney:20240321T190000
DTEND;TZID=Australia/Sydney:20240321T223000
DTSTAMP:20260422T163503
CREATED:20231119T233203Z
LAST-MODIFIED:20250522T030010Z
UID:10006218-1711047600-1711060200@hoeymoey.com.au
SUMMARY:Byron Bay Premium Lager's Thursday Pool Comp!
DESCRIPTION:Thursday Night Pool Comp – Don’t Miss Out!\nRain or shine\, the game is on! Come down and show off your skills at our weekly pool competition every Thursday night. \n🕢 Sign-up from 7:15 PM | Comp starts at 7:30 PM sharp\n💵 Just $5 to enter\n🏆 $100 Guaranteed Cash Prize for the winner\n🍻 5 Drink Tickets for the runner-up! \nWhether you’re a seasoned player or just in it for fun\, it’s a great night out. Grab your cue and join us!
URL:https://hoeymoey.com.au/event/pool-comp-2/2024-03-21/
LOCATION:The Hoey Moey\, 84 Ocean Parade\, Coffs Harbour\, NSW\, 2450\, Australia
CATEGORIES:Entertainment,Whats On
ATTACH;FMTTYPE=image/jpeg:https://hoeymoey.com.au/wp-content/uploads/2023/07/Thursday-Pool-Competition-Hoey-Moey-Park-Beach-Hotel-Motel-Pub-Bar-Accommodation-Bistro-Restaurant-Coffs-Harbour-Coffs-Coast-Mid-North-Coast.jpg
END:VEVENT
BEGIN:VEVENT
DTSTART;TZID=Australia/Sydney:20240321T180000
DTEND;TZID=Australia/Sydney:20240321T210000
DTSTAMP:20260422T163503
CREATED:20230802T044517Z
LAST-MODIFIED:20240202T003818Z
UID:10004620-1711044000-1711054800@hoeymoey.com.au
SUMMARY:Live music with Tim Stokes!
DESCRIPTION:In this crazy world of increasing distraction walks Tim Stokes\, a big-hearted man with a pocket full of songs\, reminding us of who we are and what really matters. \nA combination of the swoon of Elvis’ ‘Can’t Help Falling in Love With You’ and the party starter vibe of ‘Dumb Things’ Paul Kelly. \nTim Stokes’ music can open your heart\, expand your mind and get your body grooving with songs that branch the bridges between ages\, generations and walks of life. He shares songs sewn with hope\, love and light\, reminding us the “cracks are there for the light to shine in.”
URL:https://hoeymoey.com.au/event/live-music-with-tim-stokes/
LOCATION:The Hoey Moey\, 84 Ocean Parade\, Coffs Harbour\, NSW\, 2450\, Australia
CATEGORIES:Entertainment
ATTACH;FMTTYPE=image/webp:https://hoeymoey.com.au/wp-content/uploads/2023/05/Tim-Stokes-e1684232769121.webp
END:VEVENT
BEGIN:VEVENT
DTSTART;TZID=Australia/Sydney:20240319T193000
DTEND;TZID=Australia/Sydney:20240319T193000
DTSTAMP:20260422T163503
CREATED:20231119T232915Z
LAST-MODIFIED:20231119T232917Z
UID:10004764-1710876600-1710876600@hoeymoey.com.au
SUMMARY:Byron Bay Premium Lager's Tuesday Pinball Comp!
DESCRIPTION:Join us on Tuesdays for our popular Pinball Comp (register from 7.30pm) with great prizes on offer! \nThis event is proudly sponsored by Byron Bay Premium Lager!
URL:https://hoeymoey.com.au/event/pinball-comp-2/2024-03-19/
LOCATION:The Hoey Moey\, 84 Ocean Parade\, Coffs Harbour\, NSW\, 2450\, Australia
CATEGORIES:Entertainment
ATTACH;FMTTYPE=image/jpeg:https://hoeymoey.com.au/wp-content/uploads/2023/07/Pinball-Competition-Hoey-Moey-Park-Beach-Hotel-Motel-Pub-Bar-Accommodation-Bistro-Restaurant-Coffs-Harbour-Coffs-Coast-Mid-North-Coast.jpg
END:VEVENT
BEGIN:VEVENT
DTSTART;TZID=Australia/Sydney:20240319T180000
DTEND;TZID=Australia/Sydney:20240319T180000
DTSTAMP:20260422T163503
CREATED:20230918T000604Z
LAST-MODIFIED:20251007T045542Z
UID:10005235-1710871200-1710871200@hoeymoey.com.au
SUMMARY:Musical Bingo!
DESCRIPTION:Join us for a fun night of Musical Bingo every Tuesday night from 6pm! \nIt’ll be heaps of fun\, with music galore\, and prizes to be won!
URL:https://hoeymoey.com.au/event/musical-bingo-2-2-2/2024-03-19/
LOCATION:The Hoey Moey\, 84 Ocean Parade\, Coffs Harbour\, NSW\, 2450\, Australia
CATEGORIES:Entertainment,Whats On
ATTACH;FMTTYPE=image/jpeg:https://hoeymoey.com.au/wp-content/uploads/2023/09/HM_MusicalBingo_APR2025_WEB.jpg
END:VEVENT
BEGIN:VEVENT
DTSTART;TZID=Australia/Sydney:20240318T183000
DTEND;TZID=Australia/Sydney:20240318T203000
DTSTAMP:20260422T163503
CREATED:20230802T053937Z
LAST-MODIFIED:20240813T012723Z
UID:10004967-1710786600-1710793800@hoeymoey.com.au
SUMMARY:Trivia Mondays
DESCRIPTION:Brainiacs unite for Trivia on Monday Nights at the Hoey Moey! \nIt is from 6.30pm with great prizes to be won.
URL:https://hoeymoey.com.au/event/trivia-mondays-2-2/2024-03-18/
LOCATION:The Hoey Moey\, 84 Ocean Parade\, Coffs Harbour\, NSW\, 2450\, Australia
CATEGORIES:Entertainment,Whats On
ATTACH;FMTTYPE=image/jpeg:https://hoeymoey.com.au/wp-content/uploads/2022/02/HM_TriviaMondays_FEB2022_WEB.jpg
END:VEVENT
BEGIN:VEVENT
DTSTART;VALUE=DATE:20240317
DTEND;VALUE=DATE:20240318
DTSTAMP:20260422T163503
CREATED:20230717T030640Z
LAST-MODIFIED:20230717T030640Z
UID:10004177-1710633600-1710719999@hoeymoey.com.au
SUMMARY:Open late on Friday\, Saturday and Sunday nights!
DESCRIPTION:The Hoey Moey is open late on Friday and Saturday nights until 2am and Sunday nights until 12am!
URL:https://hoeymoey.com.au/event/open-late-on-friday-saturday-and-sunday-nights/2024-03-17/
LOCATION:The Hoey Moey\, 84 Ocean Parade\, Coffs Harbour\, NSW\, 2450\, Australia
CATEGORIES:Entertainment
ATTACH;FMTTYPE=image/jpeg:https://hoeymoey.com.au/wp-content/uploads/2023/07/Open-late-Friday-Saturday-and-Sunday-Nights-Hoey-Moey-Pub-Bar-Restaurant-Hotel-Coffs-Harbour.jpg
END:VEVENT
BEGIN:VEVENT
DTSTART;VALUE=DATE:20240316
DTEND;VALUE=DATE:20240317
DTSTAMP:20260422T163503
CREATED:20230717T030640Z
LAST-MODIFIED:20230717T030640Z
UID:10004176-1710547200-1710633599@hoeymoey.com.au
SUMMARY:Open late on Friday\, Saturday and Sunday nights!
DESCRIPTION:The Hoey Moey is open late on Friday and Saturday nights until 2am and Sunday nights until 12am!
URL:https://hoeymoey.com.au/event/open-late-on-friday-saturday-and-sunday-nights/2024-03-16/
LOCATION:The Hoey Moey\, 84 Ocean Parade\, Coffs Harbour\, NSW\, 2450\, Australia
CATEGORIES:Entertainment
ATTACH;FMTTYPE=image/jpeg:https://hoeymoey.com.au/wp-content/uploads/2023/07/Open-late-Friday-Saturday-and-Sunday-Nights-Hoey-Moey-Pub-Bar-Restaurant-Hotel-Coffs-Harbour.jpg
END:VEVENT
BEGIN:VEVENT
DTSTART;TZID=Australia/Sydney:20240315T203000
DTEND;TZID=Australia/Sydney:20240315T233000
DTSTAMP:20260422T163503
CREATED:20231212T000002Z
LAST-MODIFIED:20240105T050025Z
UID:10004935-1710534600-1710545400@hoeymoey.com.au
SUMMARY:YOU AM I LIVE AT THE HOEY!
DESCRIPTION:Premier Artists & Offbeat Present \nYOU AM I\nThe You’s Pull Up Their Troos Tour\nFriday 15th March 2024\nThe Hoey Moey\nDoors 8:30pm \nSupported by Screamfeeder + Son of Jaguar \nTickets $50.00 + BF pre-sold\nBUY YOUR TICKETS NOW!\n \nYOU AM I\, a beloved Australian rock band with enough runs on the board\, awards\, stats\, and shows under their belt to enter legend status has announced show dates nationally. After a quiet year\, and with some cities having not seen a You Am I headline show for over 3 years these shows are well overdue and much anticipated.
URL:https://hoeymoey.com.au/event/you-am-i-live-at-the-hoey/
CATEGORIES:Entertainment,Ticketed Entertainment,Whats On
ATTACH;FMTTYPE=image/jpeg:https://hoeymoey.com.au/wp-content/uploads/2023/12/HM_YouAmI_MAR2024_WEB.jpg
END:VEVENT
BEGIN:VEVENT
DTSTART;VALUE=DATE:20240315
DTEND;VALUE=DATE:20240316
DTSTAMP:20260422T163504
CREATED:20230717T030640Z
LAST-MODIFIED:20230717T030640Z
UID:10004175-1710460800-1710547199@hoeymoey.com.au
SUMMARY:Open late on Friday\, Saturday and Sunday nights!
DESCRIPTION:The Hoey Moey is open late on Friday and Saturday nights until 2am and Sunday nights until 12am!
URL:https://hoeymoey.com.au/event/open-late-on-friday-saturday-and-sunday-nights/2024-03-15/
LOCATION:The Hoey Moey\, 84 Ocean Parade\, Coffs Harbour\, NSW\, 2450\, Australia
CATEGORIES:Entertainment
ATTACH;FMTTYPE=image/jpeg:https://hoeymoey.com.au/wp-content/uploads/2023/07/Open-late-Friday-Saturday-and-Sunday-Nights-Hoey-Moey-Pub-Bar-Restaurant-Hotel-Coffs-Harbour.jpg
END:VEVENT
BEGIN:VEVENT
DTSTART;TZID=Australia/Sydney:20240314T190000
DTEND;TZID=Australia/Sydney:20240314T223000
DTSTAMP:20260422T163504
CREATED:20231119T233203Z
LAST-MODIFIED:20250522T030010Z
UID:10006217-1710442800-1710455400@hoeymoey.com.au
SUMMARY:Byron Bay Premium Lager's Thursday Pool Comp!
DESCRIPTION:Thursday Night Pool Comp – Don’t Miss Out!\nRain or shine\, the game is on! Come down and show off your skills at our weekly pool competition every Thursday night. \n🕢 Sign-up from 7:15 PM | Comp starts at 7:30 PM sharp\n💵 Just $5 to enter\n🏆 $100 Guaranteed Cash Prize for the winner\n🍻 5 Drink Tickets for the runner-up! \nWhether you’re a seasoned player or just in it for fun\, it’s a great night out. Grab your cue and join us!
URL:https://hoeymoey.com.au/event/pool-comp-2/2024-03-14/
LOCATION:The Hoey Moey\, 84 Ocean Parade\, Coffs Harbour\, NSW\, 2450\, Australia
CATEGORIES:Entertainment,Whats On
ATTACH;FMTTYPE=image/jpeg:https://hoeymoey.com.au/wp-content/uploads/2023/07/Thursday-Pool-Competition-Hoey-Moey-Park-Beach-Hotel-Motel-Pub-Bar-Accommodation-Bistro-Restaurant-Coffs-Harbour-Coffs-Coast-Mid-North-Coast.jpg
END:VEVENT
BEGIN:VEVENT
DTSTART;TZID=Australia/Sydney:20240314T180000
DTEND;TZID=Australia/Sydney:20240314T210000
DTSTAMP:20260422T163504
CREATED:20231218T050541Z
LAST-MODIFIED:20240202T003224Z
UID:10004943-1710439200-1710450000@hoeymoey.com.au
SUMMARY:Live music with Glen Price!
DESCRIPTION:Glen Price is an accomplished solo singer-guitarist based in Grafton and Coffs Harbour. \nGlen’s stamp on popular hits from the last six decades will bring back memories of a far-off time and place.
URL:https://hoeymoey.com.au/event/live-music-with-nathan-beretta-2/
LOCATION:The Hoey Moey\, 84 Ocean Parade\, Coffs Harbour\, NSW\, 2450\, Australia
CATEGORIES:Entertainment,Whats On
ATTACH;FMTTYPE=image/jpeg:https://hoeymoey.com.au/wp-content/uploads/2023/12/glen-price-hoey-moey-park-beach-hotel-motel-free-live-music-concert-coffs-harbour-coffs-coast-mid-north-coast-accommodation-bar-pub-bistro-restaurant.jpg
END:VEVENT
BEGIN:VEVENT
DTSTART;TZID=Australia/Sydney:20240313T180000
DTEND;TZID=Australia/Sydney:20240313T210000
DTSTAMP:20260422T163504
CREATED:20231019T031732Z
LAST-MODIFIED:20240202T003133Z
UID:10004894-1710352800-1710363600@hoeymoey.com.au
SUMMARY:Live music with Nathan Beretta!
DESCRIPTION:Nathan Beretta has made his mark in the Australian blues scene with multiple award-winning blues band Blue Eyes Cry. Touring and playing just about every Blues festival and venue in the country Nathan has earned respect from blues lovers all over. \nNathan has shared the stage with many Australian Legends such as Robert Susz ( Mighty Reapers) Shane Pacey ( Bondi Cigars)\, Geoff Achison\, Lloyd Spiegel \, and Chris Wilson just to name a few. When it comes to festivals Nathan has performed throughout Australia opening up for international acts such as Anne Popovich\, Jon Cleary\, and Joe Louis Walker. \nGrowing up with Blues jazz and soul in the household\, Nathan has brought his own unique style to the table. Influenced by artists such as Ronnie Earl\, Albert Collins\, Guy King and Jimmie Vaughn Nathan plays from the soul with an “all killer no filler” approach. Nathan’s first band Blue Eyes Cry was signed to Australia’s premier record company Black Market Music\, Nathan managed to hit no 1 on the Australian Blues and Roots Charts in the year of 2015\, also winning Best New Talent at the Chain Awards in the same year. In 2019 Nathan topped the charts again with his debut release “Where I Belong”. \nNathan Beretta is an act not to be missed if Fender guitar tones and a traditional feel are your thing!
URL:https://hoeymoey.com.au/event/live-music-with-nathan-beretta/
LOCATION:The Hoey Moey\, 84 Ocean Parade\, Coffs Harbour\, NSW\, 2450\, Australia
CATEGORIES:Entertainment,Whats On
ATTACH;FMTTYPE=image/jpeg:https://hoeymoey.com.au/wp-content/uploads/2023/07/nathan-beretta-web.jpg
END:VEVENT
END:VCALENDAR