BEGIN:VCALENDAR
VERSION:2.0
PRODID:-//Hoey Moey - ECPv6.3.3.1//NONSGML v1.0//EN
CALSCALE:GREGORIAN
METHOD:PUBLISH
X-ORIGINAL-URL:https://hoeymoey.com.au
X-WR-CALDESC:Events for Hoey Moey
REFRESH-INTERVAL;VALUE=DURATION:PT1H
X-Robots-Tag:noindex
X-PUBLISHED-TTL:PT1H
BEGIN:VTIMEZONE
TZID:Australia/Sydney
BEGIN:STANDARD
TZOFFSETFROM:+1100
TZOFFSETTO:+1000
TZNAME:AEST
DTSTART:20230401T160000
END:STANDARD
BEGIN:DAYLIGHT
TZOFFSETFROM:+1000
TZOFFSETTO:+1100
TZNAME:AEDT
DTSTART:20230930T160000
END:DAYLIGHT
TZID:Australia/Melbourne
BEGIN:STANDARD
TZOFFSETFROM:+1100
TZOFFSETTO:+1000
TZNAME:AEST
DTSTART:20230401T160000
END:STANDARD
BEGIN:DAYLIGHT
TZOFFSETFROM:+1000
TZOFFSETTO:+1100
TZNAME:AEDT
DTSTART:20230930T160000
END:DAYLIGHT
END:VTIMEZONE
BEGIN:VEVENT
DTSTART;VALUE=DATE:20230329
DTEND;VALUE=DATE:20230330
DTSTAMP:20260426T092753
CREATED:20190820T030800Z
LAST-MODIFIED:20230321T022622Z
UID:10002212-1680048000-1680134399@hoeymoey.com.au
SUMMARY:Wednesday Offer - $16 Chicken Schnitzel!*
DESCRIPTION:On Wednesdays\, members can enjoy a chicken schnitzel served with chips\, fresh salad and gravy for $16. \n* $19.50 for non members. \nPlus\, get premium topper blackboard upgrades!
URL:https://hoeymoey.com.au/event/wednesday-members-chicken-schnitzel/2023-03-29/
LOCATION:The Hoey Moey\, 84 Ocean Parade\, Coffs Harbour\, NSW\, 2450\, Australia
CATEGORIES:Meal Deal
ATTACH;FMTTYPE=image/jpeg:https://hoeymoey.com.au/wp-content/uploads/2019/08/HM_NewDailyFeeds_NOV2022_WEB2.jpg
END:VEVENT
BEGIN:VEVENT
DTSTART;TZID=Australia/Sydney:20230328T180000
DTEND;TZID=Australia/Sydney:20230328T180000
DTSTAMP:20260426T092753
CREATED:20220814T092552Z
LAST-MODIFIED:20230317T043332Z
UID:10001108-1680026400-1680026400@hoeymoey.com.au
SUMMARY:Musical Bingo!
DESCRIPTION:Join us for a fun night of Musical Bingo every Tuesday night from 6pm! \nIt’ll be heaps of fun\, with music galore\, and prizes to be won!
URL:https://hoeymoey.com.au/event/musical-bingo-2/2023-03-28/
LOCATION:The Hoey Moey\, 84 Ocean Parade\, Coffs Harbour\, NSW\, 2450\, Australia
CATEGORIES:Entertainment
ATTACH;FMTTYPE=image/jpeg:https://hoeymoey.com.au/wp-content/uploads/2022/08/HM_MusicalBingo_SEPT2022_WEB.jpg
END:VEVENT
BEGIN:VEVENT
DTSTART;VALUE=DATE:20230328
DTEND;VALUE=DATE:20230329
DTSTAMP:20260426T092753
CREATED:20190820T025709Z
LAST-MODIFIED:20230321T022652Z
UID:10000211-1679961600-1680047999@hoeymoey.com.au
SUMMARY:Tuesday Offer - $16 Lamb Cutlets!*
DESCRIPTION:On Tuesdays\, you can enjoy lamb cutlets\, chips\, and salad for just $16 for members! \n* $19.50 for non-members. \nSupersize it and get an extra cutlet for an additional $6.50.
URL:https://hoeymoey.com.au/event/tuesday-lamb-cutlets/2023-03-28/
LOCATION:The Hoey Moey\, 84 Ocean Parade\, Coffs Harbour\, NSW\, 2450\, Australia
CATEGORIES:Meal Deal
ATTACH;FMTTYPE=image/jpeg:https://hoeymoey.com.au/wp-content/uploads/2019/08/HM_NewDailyFeeds_NOV2022_WEB.jpg
END:VEVENT
BEGIN:VEVENT
DTSTART;TZID=Australia/Sydney:20230326T160000
DTEND;TZID=Australia/Sydney:20230326T193000
DTSTAMP:20260426T092753
CREATED:20230214T055442Z
LAST-MODIFIED:20230214T055442Z
UID:10000299-1679846400-1679859000@hoeymoey.com.au
SUMMARY:Sunday Session with Kurilpa Reach!
DESCRIPTION:Enjoy a Sunday Session with Kurilpa Reach! \nKurilpa Reach are a contemporary roots 5-piece based in Brisbane’s inner-south suburb of West End. \nTraditionally a melting pot of ethnic communities\, traditional owners and artists\, West End has carved out a distinct identity and attitude that sets it apart from other surrounding areas.
URL:https://hoeymoey.com.au/event/sunday-session-with-kurilpa-reach-260323/
LOCATION:The Hoey Moey\, 84 Ocean Parade\, Coffs Harbour\, NSW\, 2450\, Australia
CATEGORIES:Entertainment
ATTACH;FMTTYPE=image/jpeg:https://hoeymoey.com.au/wp-content/uploads/2021/06/Kirilpa-Reach-Live-music-Hoey-Moey-Pub-Hotel-Bar-Restaurant-Park-Beach-Coffs-Harbour.jpg
END:VEVENT
BEGIN:VEVENT
DTSTART;VALUE=DATE:20230326
DTEND;VALUE=DATE:20230327
DTSTAMP:20260426T092753
CREATED:20221102T013157Z
LAST-MODIFIED:20230214T072545Z
UID:10001147-1679788800-1679875199@hoeymoey.com.au
SUMMARY:Super Sunday Cutlets!
DESCRIPTION:On Sundays\, enjoy crumbed lamb cutlets served with chips\, salad and gravy for just $16 for members or $19.50 for non members!
URL:https://hoeymoey.com.au/event/super-sunday-cutlets/2023-03-26/
LOCATION:The Hoey Moey\, 84 Ocean Parade\, Coffs Harbour\, NSW\, 2450\, Australia
CATEGORIES:Meal Deal,Whats On
ATTACH;FMTTYPE=image/jpeg:https://hoeymoey.com.au/wp-content/uploads/2022/11/HM_NewDailyFeeds_NOV2022_WEB6.jpg
END:VEVENT
BEGIN:VEVENT
DTSTART;TZID=Australia/Sydney:20230325T190000
DTEND;TZID=Australia/Sydney:20230325T190000
DTSTAMP:20260426T092753
CREATED:20230118T071625Z
LAST-MODIFIED:20230118T072339Z
UID:10001064-1679770800-1679770800@hoeymoey.com.au
SUMMARY:Xposure
DESCRIPTION:Don’t miss Xposure on the 25th of March live at the Hoey Moey! \nLennox Groove are proud to present Brixton Alley from the Gold Coast and The Colliflowers from Byron Bay.  They will be supported by a local band that is to be confirmed. \nIt is from 7pm and entry is free!
URL:https://hoeymoey.com.au/event/xposure/
LOCATION:The Hoey Moey\, 84 Ocean Parade\, Coffs Harbour\, NSW\, 2450\, Australia
CATEGORIES:Entertainment
ATTACH;FMTTYPE=image/jpeg:https://hoeymoey.com.au/wp-content/uploads/2023/01/HM_Xposure_MAR2023_WEB.jpg
END:VEVENT
BEGIN:VEVENT
DTSTART;VALUE=DATE:20230325
DTEND;VALUE=DATE:20230326
DTSTAMP:20260426T092753
CREATED:20190820T031837Z
LAST-MODIFIED:20230214T072628Z
UID:10002400-1679702400-1679788799@hoeymoey.com.au
SUMMARY:Saturday Seafood!
DESCRIPTION:On Saturdays\, you can enjoy fish and chips with salad\, lemon and tartare sauce for just $16 for members or $19.50 for non members! \nPlus there are premium blackboard upgrades.
URL:https://hoeymoey.com.au/event/saturday-seafood/2023-03-25/
LOCATION:The Hoey Moey\, 84 Ocean Parade\, Coffs Harbour\, NSW\, 2450\, Australia
CATEGORIES:Meal Deal,Whats On
ATTACH;FMTTYPE=image/jpeg:https://hoeymoey.com.au/wp-content/uploads/2019/08/HM_NewDailyFeeds_NOV2022_WEB5.jpg
END:VEVENT
BEGIN:VEVENT
DTSTART;TZID=Australia/Sydney:20230324T203000
DTEND;TZID=Australia/Sydney:20230324T230000
DTSTAMP:20260426T092753
CREATED:20230214T064438Z
LAST-MODIFIED:20230322T034318Z
UID:10000912-1679689800-1679698800@hoeymoey.com.au
SUMMARY:DJ Dangerwaves!
DESCRIPTION:It is time to hit the dance floor with DJ Dangerwaves spinning tunes to late!
URL:https://hoeymoey.com.au/event/dj-dangerwaves-240323/
LOCATION:The Hoey Moey\, 84 Ocean Parade\, Coffs Harbour\, NSW\, 2450\, Australia
CATEGORIES:Entertainment
ATTACH;FMTTYPE=image/jpeg:https://hoeymoey.com.au/wp-content/uploads/2023/02/DJdangerWaves.jpg
END:VEVENT
BEGIN:VEVENT
DTSTART;TZID=Australia/Sydney:20230324T203000
DTEND;TZID=Australia/Sydney:20230324T203000
DTSTAMP:20260426T092753
CREATED:20221122T010059Z
LAST-MODIFIED:20230322T032703Z
UID:10002408-1679689800-1679689800@hoeymoey.com.au
SUMMARY:Frenchy and his Judgement Day Tour!
DESCRIPTION:New World Artists & Offbeat presents Frenchy and his Judgement Day Tour in the Hoey Moey Backroom on Friday\, 24th March 2023! \nBeware Sinners\, Judgement Day is upon us! Yes\, Father Frenchy is back for another ridiculous comedy show & nothing is off limits. \nSome people believe that the world will end soon & God will judge how everyone lived. WHY WAIT FOR THAT?! Frenchy is ready to judge now\, whether you’re ready or not. \nStocked full of ALL NEW MATERIAL\, Frenchy promises 1 thing from his shows – laughs. And seats. And shoeys. Okay\, he promises a few things. \nEdgy\, dark & absurd\, Frenchy’s brand of comedy aint for everyone but that’s how comedy is supposed to be. Frenchy’s shows are always an epic night but just be careful if you sit in the front row… Amen. \nGet your tickets now at Frenchy Tickets!
URL:https://hoeymoey.com.au/event/frenchy-and-his-judgement-day-tour/
LOCATION:The Hoey Moey\, 84 Ocean Parade\, Coffs Harbour\, NSW\, 2450\, Australia
CATEGORIES:Entertainment,Ticketed Entertainment
ATTACH;FMTTYPE=image/jpeg:https://hoeymoey.com.au/wp-content/uploads/2022/11/HM_FrenchyComedyNight_MAR2023_WEB-1.jpg
END:VEVENT
BEGIN:VEVENT
DTSTART;TZID=Australia/Sydney:20230324T180000
DTEND;TZID=Australia/Sydney:20230324T210000
DTSTAMP:20260426T092753
CREATED:20230214T064720Z
LAST-MODIFIED:20230214T064720Z
UID:10000913-1679680800-1679691600@hoeymoey.com.au
SUMMARY:Live music with Jess Swilks!
DESCRIPTION:Enjoy live music in the Hoey Moey beer garden by Jess Swilks! \nJess Swilks is a talented acoustic guitarist and soulful singer from the sunny Coffs Coast who turns the most current pop songs into a chilled summer afternoon delight. \nJess has performed at a number of weddings and local venues and in 2013 brought home the win at the prestigious Sawtell Talent Competition. She has experience creating majestic sounds with the lovely Renae Gayer\, the renowned Richard Clapton and the up and coming Sydney talent Sam Evans. \nTo hear some of the magic be sure to check out her YouTube channel Jess Swilks where you can enjoy covers of various artitis including Ed Sheeran\, Vance Joy\, The 1975\, The Weekends latest Starboy and from Adele’s most recent album Send My Love.
URL:https://hoeymoey.com.au/event/live-music-with-jess-swilks-240323/
LOCATION:The Hoey Moey\, 84 Ocean Parade\, Coffs Harbour\, NSW\, 2450\, Australia
CATEGORIES:Entertainment
ATTACH;FMTTYPE=image/jpeg:https://hoeymoey.com.au/wp-content/uploads/2022/12/JessSwilksPR-21-smaller.jpg
END:VEVENT
BEGIN:VEVENT
DTSTART;VALUE=DATE:20230324
DTEND;VALUE=DATE:20230325
DTSTAMP:20260426T092753
CREATED:20190815T234137Z
LAST-MODIFIED:20230214T073012Z
UID:10000899-1679616000-1679702399@hoeymoey.com.au
SUMMARY:Friday offer - $16 Friday Steak Fest!*
DESCRIPTION:On Fridays at the Hoey Moey\, you can enjoy a 200 gram rump steak\, chips and salad for just $16 for members or $19.50 for non members! \nPlus get premium blackboard upgrades.
URL:https://hoeymoey.com.au/event/friday-steak-fest/2023-03-24/
LOCATION:The Hoey Moey\, 84 Ocean Parade\, Coffs Harbour\, NSW\, 2450\, Australia
CATEGORIES:Meal Deal,Whats On
ATTACH;FMTTYPE=image/jpeg:https://hoeymoey.com.au/wp-content/uploads/2019/08/HM_NewDailyFeeds_NOV2022_WEB4.jpg
END:VEVENT
BEGIN:VEVENT
DTSTART;TZID=Australia/Sydney:20230323T180000
DTEND;TZID=Australia/Sydney:20230323T210000
DTSTAMP:20260426T092753
CREATED:20230214T070911Z
LAST-MODIFIED:20230214T070945Z
UID:10001215-1679594400-1679605200@hoeymoey.com.au
SUMMARY:Live music with Lucy Gallant!
DESCRIPTION:Bright\, colourful\, and brilliant\, Lucy Gallant has been gracing audiences with her bohemian indie-pop for more than a decade. Anchored in folk-roots yet fiercely original\, experimental\, and avant-garde\, the British-born songstress has been hailed as one of the most talented rising artists on the global circuit. \nHer multicultural heritage is eclectically reflected in Lucy’s craft. A multi-instrumentalist she produces high-energy rhythms on the Cajón\, while simultaneously singing and playing guitar\, drums\, and chimes. Her Burmese\, Russian\, Irish and Australian roots inspire genre-blended tunes and her unique voice soars with rhapsodic range\, conveying a full spectrum of emotion. A prolific songwriter\, she has written over 1000 songs since childhood. \nWith no live set ever the same\, Lucy’s performances convey a pure and undeniable magic. Her mission is to inspire a global movement of love and liberation\, uplifting her audience to feel free and celebrate their uniqueness. This is the reason she awakens with a smile each day and precisely why her fans are following suit. \nHaving toured the USA\, South and Central America\, Japan\, Australia\, UK\, and much of Europe\, she has dazzled audiences at both intimate venues and major festivals such as Glastonbury Festival (UK)\, Beautiful Days (UK)\, Art Basel (US) and Australia’s largest music festivals\, Splendour in the Grass\, Woodford Folk Festival and Byron Bay Bluesfest. \nLucy’s nomadic heart enticed her to a life on the road in her early teens. Starting with a hitchhiking tour of Australia\, she then embarked on a wild pilgrimage to more than 50 countries around the world. She traveled on horseback through Brazil\, camped with Bedouin tribes in Egypt\, and stayed with families on Indian reserves. Her lust for freedom and adventure has influenced her worldly musical style\, creating a distinctly tropical flavor. \nAfter tragically losing both parents just 6 months apart as the global pandemic was unfolding\, Lucy’s world seemed to be falling apart. To ease her heartache she adopted a chihuahua puppy. Enter Lola. Sassy little Lola has filled her heart with happiness and became an integral part of her act. They have already completed two tours of Australia together. Lola has a huge personality\, loves to travel\, and is a star in her own right. Positioned proudly by Lucy’s side\, she cracks her doggie smile and wins hearts at every show. \nSurrounded by rainforests\, ancient volcanic mountains and craters\, and crystal blue oceans in the sub-tropical paradise of Northern New South Wales\, Lucy is writing\, recording\, and performing. She is currently releasing a series of singles and visually stunning film clips leading up to the release of her 6-track EP in April. Produced by Aria Award winner Govinda Doyle; he has masterfully captured the essence of Lucy’s raw\, stripped back sound\, revealing an endearing vulnerability in her art. \n“I’ve met many kind people from around the world\, which has given me much more faith in humanity and positive change. With my music\, I aim to inspire people and help them remember who they are\, the true person inside\, not what they feel they are expected to be by others! We are all individually beautiful and unique and if you truly just be yourself then you are free and happy and the more free and happy you are the more you will inspire other people to do the same.” \n“It is only a matter of time before she is a household name in Australia\, on a major record label and headlining festivals here and around the world.” \n– Peter Noble\, Festival Director\, Bluesfest \n“Lucy’s a talented songwriter\, singer\, and musician. Her songs are smart\, intelligent\, and funny… her voice is beautiful and unique.” \n– Malcolm Haynes\, Glastonbury Festival \n“A rich tapestry of genres\, unique sounds\, and expert storytelling.” – Happy Mag \n“A powerful force on stage.” – Sunshine Coast News \n“A star on the rise…” – The Echo
URL:https://hoeymoey.com.au/event/live-music-with-lucy-gallant/
LOCATION:The Hoey Moey\, 84 Ocean Parade\, Coffs Harbour\, NSW\, 2450\, Australia
CATEGORIES:Entertainment
ATTACH;FMTTYPE=image/jpeg:https://hoeymoey.com.au/wp-content/uploads/2023/02/Lucy-Gallant-live-music-at-Hoey-Moey-pub-hotel-bar-Coffs-Harbour.jpg
END:VEVENT
BEGIN:VEVENT
DTSTART;VALUE=DATE:20230323
DTEND;VALUE=DATE:20230324
DTSTAMP:20260426T092753
CREATED:20190820T031634Z
LAST-MODIFIED:20230214T073522Z
UID:10002347-1679529600-1679615999@hoeymoey.com.au
SUMMARY:Thursday Offer - $16 Chicken Parmi!*
DESCRIPTION:On Thursdays\, you can enjoy a chicken parmi\, with chips and salad for just $16 for members! \n* $19.50 for non members. \nSupersize it and get an additional parmi for $6.50!
URL:https://hoeymoey.com.au/event/thursday-chicken-parmi/2023-03-23/
LOCATION:The Hoey Moey\, 84 Ocean Parade\, Coffs Harbour\, NSW\, 2450\, Australia
CATEGORIES:Meal Deal,Whats On
ATTACH;FMTTYPE=image/jpeg:https://hoeymoey.com.au/wp-content/uploads/2019/08/HM_NewDailyFeeds_NOV2022_WEB3.jpg
END:VEVENT
BEGIN:VEVENT
DTSTART;VALUE=DATE:20230322
DTEND;VALUE=DATE:20230323
DTSTAMP:20260426T092753
CREATED:20190820T030800Z
LAST-MODIFIED:20230321T022622Z
UID:10002211-1679443200-1679529599@hoeymoey.com.au
SUMMARY:Wednesday Offer - $16 Chicken Schnitzel!*
DESCRIPTION:On Wednesdays\, members can enjoy a chicken schnitzel served with chips\, fresh salad and gravy for $16. \n* $19.50 for non members. \nPlus\, get premium topper blackboard upgrades!
URL:https://hoeymoey.com.au/event/wednesday-members-chicken-schnitzel/2023-03-22/
LOCATION:The Hoey Moey\, 84 Ocean Parade\, Coffs Harbour\, NSW\, 2450\, Australia
CATEGORIES:Meal Deal
ATTACH;FMTTYPE=image/jpeg:https://hoeymoey.com.au/wp-content/uploads/2019/08/HM_NewDailyFeeds_NOV2022_WEB2.jpg
END:VEVENT
BEGIN:VEVENT
DTSTART;TZID=Australia/Sydney:20230321T180000
DTEND;TZID=Australia/Sydney:20230321T180000
DTSTAMP:20260426T092753
CREATED:20220814T092552Z
LAST-MODIFIED:20230317T043332Z
UID:10001107-1679421600-1679421600@hoeymoey.com.au
SUMMARY:Musical Bingo!
DESCRIPTION:Join us for a fun night of Musical Bingo every Tuesday night from 6pm! \nIt’ll be heaps of fun\, with music galore\, and prizes to be won!
URL:https://hoeymoey.com.au/event/musical-bingo-2/2023-03-21/
LOCATION:The Hoey Moey\, 84 Ocean Parade\, Coffs Harbour\, NSW\, 2450\, Australia
CATEGORIES:Entertainment
ATTACH;FMTTYPE=image/jpeg:https://hoeymoey.com.au/wp-content/uploads/2022/08/HM_MusicalBingo_SEPT2022_WEB.jpg
END:VEVENT
BEGIN:VEVENT
DTSTART;VALUE=DATE:20230321
DTEND;VALUE=DATE:20230322
DTSTAMP:20260426T092753
CREATED:20190820T025709Z
LAST-MODIFIED:20230321T022652Z
UID:10000210-1679356800-1679443199@hoeymoey.com.au
SUMMARY:Tuesday Offer - $16 Lamb Cutlets!*
DESCRIPTION:On Tuesdays\, you can enjoy lamb cutlets\, chips\, and salad for just $16 for members! \n* $19.50 for non-members. \nSupersize it and get an extra cutlet for an additional $6.50.
URL:https://hoeymoey.com.au/event/tuesday-lamb-cutlets/2023-03-21/
LOCATION:The Hoey Moey\, 84 Ocean Parade\, Coffs Harbour\, NSW\, 2450\, Australia
CATEGORIES:Meal Deal
ATTACH;FMTTYPE=image/jpeg:https://hoeymoey.com.au/wp-content/uploads/2019/08/HM_NewDailyFeeds_NOV2022_WEB.jpg
END:VEVENT
BEGIN:VEVENT
DTSTART;TZID=Australia/Sydney:20230320T183000
DTEND;TZID=Australia/Sydney:20230422T173000
DTSTAMP:20260426T092753
CREATED:20220210T225041Z
LAST-MODIFIED:20230508T054726Z
UID:10000487-1679337000-1682184600@hoeymoey.com.au
SUMMARY:Trivia Mondays
DESCRIPTION:Brainiacs unite for Trivia on Monday Nights at the Hoey Moey! \nIt is from 6.30pm with great prizes to be won.
URL:https://hoeymoey.com.au/event/trivia-mondays/2023-03-20/
LOCATION:The Hoey Moey\, 84 Ocean Parade\, Coffs Harbour\, NSW\, 2450\, Australia
CATEGORIES:Entertainment
ATTACH;FMTTYPE=image/jpeg:https://hoeymoey.com.au/wp-content/uploads/2022/02/HM_TriviaMondays_FEB2022_WEB.jpg
END:VEVENT
BEGIN:VEVENT
DTSTART;TZID=Australia/Sydney:20230319T210000
DTEND;TZID=Australia/Sydney:20230319T230000
DTSTAMP:20260426T092753
CREATED:20230214T063732Z
LAST-MODIFIED:20230214T064333Z
UID:10000911-1679259600-1679266800@hoeymoey.com.au
SUMMARY:DJ Raven!
DESCRIPTION:It is time to hit the dance floor with DJ Raven spinning tunes to late!
URL:https://hoeymoey.com.au/event/dj-raven-190323/
LOCATION:The Hoey Moey\, 84 Ocean Parade\, Coffs Harbour\, NSW\, 2450\, Australia
CATEGORIES:Entertainment
ATTACH;FMTTYPE=image/jpeg:https://hoeymoey.com.au/wp-content/uploads/2019/08/DJ-at-the-Hoey-Moey-beer-garden-Coffs-Harbour.jpeg
END:VEVENT
BEGIN:VEVENT
DTSTART;TZID=Australia/Sydney:20230319T160000
DTEND;TZID=Australia/Sydney:20230319T193000
DTSTAMP:20260426T092753
CREATED:20230214T065226Z
LAST-MODIFIED:20230214T065227Z
UID:10000914-1679241600-1679254200@hoeymoey.com.au
SUMMARY:The Blues Brothers Rebooted!
DESCRIPTION:The “Blues Brothers Rebooted” show is an exciting hyperactive production that pays tribute to both the unforgettable and infectious style of soul music and a faithful recreation of those 2 soul brothers who donned the Black hats\, dark shades and created what is now a musical institution “The Blues Brothers” Rebooted. \nThis High energy\, fun and polished presentation features the finest soul\, rhythm and blues classics by such artists as Solomon Burke\, Sam & Dave and Wilson Pickett. \nBlues Brothers Rebooted have played sold out shows in some of Sydney’s finest venues including The Basement\, The Vanguard\, Lizottes\, Auditoriums across NSW and multiple cruise liners around the world. \nBacked by some of Sydney’s top musicians Shane Peters (Jake) and Christian Clackson (Elwood) take to the stage and recreate an authentic tribute to the Blues Brothers featuring all the songs\, all the moves and all that energy and excitement that you will love and remember from that classic 1980 film which has cemented their music\, look and legacy for over 30 years. \nBlues Brothers Rebooted are performers that deliver a highly entertaining experience that will satisfy people of all ages and musical tastes.
URL:https://hoeymoey.com.au/event/the-blues-brothers-rebooted/
LOCATION:The Hoey Moey\, 84 Ocean Parade\, Coffs Harbour\, NSW\, 2450\, Australia
CATEGORIES:Entertainment
ATTACH;FMTTYPE=image/jpeg:https://hoeymoey.com.au/wp-content/uploads/2023/02/HM_SundaySessions_MAR2023_NL3-e1676357345144.jpg
END:VEVENT
BEGIN:VEVENT
DTSTART;VALUE=DATE:20230319
DTEND;VALUE=DATE:20230320
DTSTAMP:20260426T092753
CREATED:20221102T013157Z
LAST-MODIFIED:20230214T072545Z
UID:10001146-1679184000-1679270399@hoeymoey.com.au
SUMMARY:Super Sunday Cutlets!
DESCRIPTION:On Sundays\, enjoy crumbed lamb cutlets served with chips\, salad and gravy for just $16 for members or $19.50 for non members!
URL:https://hoeymoey.com.au/event/super-sunday-cutlets/2023-03-19/
LOCATION:The Hoey Moey\, 84 Ocean Parade\, Coffs Harbour\, NSW\, 2450\, Australia
CATEGORIES:Meal Deal,Whats On
ATTACH;FMTTYPE=image/jpeg:https://hoeymoey.com.au/wp-content/uploads/2022/11/HM_NewDailyFeeds_NOV2022_WEB6.jpg
END:VEVENT
BEGIN:VEVENT
DTSTART;TZID=Australia/Sydney:20230318T210000
DTEND;TZID=Australia/Sydney:20230318T230000
DTSTAMP:20260426T092753
CREATED:20230214T063631Z
LAST-MODIFIED:20230214T063631Z
UID:10000909-1679173200-1679180400@hoeymoey.com.au
SUMMARY:DJ Ibex Switch!
DESCRIPTION:It is time to hit the dance floor with DJ Ibex Switch spinning tunes to late!
URL:https://hoeymoey.com.au/event/dj-ibex-switch-180323/
LOCATION:The Hoey Moey\, 84 Ocean Parade\, Coffs Harbour\, NSW\, 2450\, Australia
CATEGORIES:Entertainment
ATTACH;FMTTYPE=image/jpeg:https://hoeymoey.com.au/wp-content/uploads/2019/08/DJ-at-the-Hoey-Moey-beer-garden-Coffs-Harbour.jpeg
END:VEVENT
BEGIN:VEVENT
DTSTART;TZID=Australia/Sydney:20230318T180000
DTEND;TZID=Australia/Sydney:20230318T210000
DTSTAMP:20260426T092753
CREATED:20230214T063530Z
LAST-MODIFIED:20230214T063539Z
UID:10000908-1679162400-1679173200@hoeymoey.com.au
SUMMARY:Live music with Brody Ireland!
DESCRIPTION:Combining acoustic guitar\, vocals\, stompbox\, and looping into a huge sound\, Brody will be playing hits from the 60’s till now.
URL:https://hoeymoey.com.au/event/live-music-with-brody-ireland-180323/
LOCATION:The Hoey Moey\, 84 Ocean Parade\, Coffs Harbour\, NSW\, 2450\, Australia
CATEGORIES:Entertainment
ATTACH;FMTTYPE=image/png:https://hoeymoey.com.au/wp-content/uploads/2022/03/Brody-Ireland.png
END:VEVENT
BEGIN:VEVENT
DTSTART;VALUE=DATE:20230318
DTEND;VALUE=DATE:20230319
DTSTAMP:20260426T092753
CREATED:20190820T031837Z
LAST-MODIFIED:20230214T072628Z
UID:10002399-1679097600-1679183999@hoeymoey.com.au
SUMMARY:Saturday Seafood!
DESCRIPTION:On Saturdays\, you can enjoy fish and chips with salad\, lemon and tartare sauce for just $16 for members or $19.50 for non members! \nPlus there are premium blackboard upgrades.
URL:https://hoeymoey.com.au/event/saturday-seafood/2023-03-18/
LOCATION:The Hoey Moey\, 84 Ocean Parade\, Coffs Harbour\, NSW\, 2450\, Australia
CATEGORIES:Meal Deal,Whats On
ATTACH;FMTTYPE=image/jpeg:https://hoeymoey.com.au/wp-content/uploads/2019/08/HM_NewDailyFeeds_NOV2022_WEB5.jpg
END:VEVENT
BEGIN:VEVENT
DTSTART;TZID=Australia/Sydney:20230317T203000
DTEND;TZID=Australia/Sydney:20230317T230000
DTSTAMP:20260426T092753
CREATED:20221215T091723Z
LAST-MODIFIED:20221215T091723Z
UID:10000931-1679085000-1679094000@hoeymoey.com.au
SUMMARY:DJ Raven!
DESCRIPTION:It is time to hit the dance floor with DJ Raven spinning tunes to late!
URL:https://hoeymoey.com.au/event/dj-raven-170322/
LOCATION:The Hoey Moey\, 84 Ocean Parade\, Coffs Harbour\, NSW\, 2450\, Australia
CATEGORIES:Entertainment
ATTACH;FMTTYPE=image/jpeg:https://hoeymoey.com.au/wp-content/uploads/2019/08/DJ-at-the-Hoey-Moey-beer-garden-Coffs-Harbour.jpeg
END:VEVENT
BEGIN:VEVENT
DTSTART;VALUE=DATE:20230317
DTEND;VALUE=DATE:20230318
DTSTAMP:20260426T092753
CREATED:20190815T234137Z
LAST-MODIFIED:20230214T073012Z
UID:10000898-1679011200-1679097599@hoeymoey.com.au
SUMMARY:Friday offer - $16 Friday Steak Fest!*
DESCRIPTION:On Fridays at the Hoey Moey\, you can enjoy a 200 gram rump steak\, chips and salad for just $16 for members or $19.50 for non members! \nPlus get premium blackboard upgrades.
URL:https://hoeymoey.com.au/event/friday-steak-fest/2023-03-17/
LOCATION:The Hoey Moey\, 84 Ocean Parade\, Coffs Harbour\, NSW\, 2450\, Australia
CATEGORIES:Meal Deal,Whats On
ATTACH;FMTTYPE=image/jpeg:https://hoeymoey.com.au/wp-content/uploads/2019/08/HM_NewDailyFeeds_NOV2022_WEB4.jpg
END:VEVENT
BEGIN:VEVENT
DTSTART;TZID=Australia/Melbourne:20230316T180000
DTEND;TZID=Australia/Melbourne:20230316T210000
DTSTAMP:20260426T092753
CREATED:20230214T055948Z
LAST-MODIFIED:20230214T055948Z
UID:10000959-1678989600-1679000400@hoeymoey.com.au
SUMMARY:Live music with Mitch Burgess!
DESCRIPTION:Mitch Burgess will be playing live at the Hoey Moey beer garden! \nMitch Burgess is a solo musician with a very fond admiration for the blues. Featured in his set are some well known blues classics as well as a collection of more popular songs. Acoustic guitar\, vocals and the occasional harmonica are all used within Mitch’s performance.
URL:https://hoeymoey.com.au/event/live-music-with-mitch-burgess-160323/
LOCATION:The Hoey Moey\, 84 Ocean Parade\, Coffs Harbour\, NSW\, 2450\, Australia
CATEGORIES:Entertainment
ATTACH;FMTTYPE=image/png:https://hoeymoey.com.au/wp-content/uploads/2019/10/Mitch-burgess-live-music-Hoey-Moey-Pub-and-Hotel-Coffs-Harbour.png
END:VEVENT
BEGIN:VEVENT
DTSTART;VALUE=DATE:20230316
DTEND;VALUE=DATE:20230317
DTSTAMP:20260426T092753
CREATED:20190820T031634Z
LAST-MODIFIED:20230214T073522Z
UID:10002346-1678924800-1679011199@hoeymoey.com.au
SUMMARY:Thursday Offer - $16 Chicken Parmi!*
DESCRIPTION:On Thursdays\, you can enjoy a chicken parmi\, with chips and salad for just $16 for members! \n* $19.50 for non members. \nSupersize it and get an additional parmi for $6.50!
URL:https://hoeymoey.com.au/event/thursday-chicken-parmi/2023-03-16/
LOCATION:The Hoey Moey\, 84 Ocean Parade\, Coffs Harbour\, NSW\, 2450\, Australia
CATEGORIES:Meal Deal,Whats On
ATTACH;FMTTYPE=image/jpeg:https://hoeymoey.com.au/wp-content/uploads/2019/08/HM_NewDailyFeeds_NOV2022_WEB3.jpg
END:VEVENT
BEGIN:VEVENT
DTSTART;TZID=Australia/Sydney:20230315T180000
DTEND;TZID=Australia/Sydney:20230315T210000
DTSTAMP:20260426T092753
CREATED:20230214T055755Z
LAST-MODIFIED:20230214T055852Z
UID:10001223-1678903200-1678914000@hoeymoey.com.au
SUMMARY:Live music with Matty Devitt!
DESCRIPTION:Matty Devitt has been writing songs and performing for the past 12 years in and around the Coffs Harbour\, Byron Bay\, and Fraser coast areas. \nMatty also spent 2 years in Brighton\, UK\, enjoying much success on the local circuit. \nDuring this time Matty linked up with two amazingly talented unknown guitarists\, Wes DeWitt of Canada\, and Richard Atherton of England and proceeded to take out the “Best Original Musician” Category at the 2008 Bunderburg Rum\, Blues over Byron Busking Competition\, after which Matty took out the Best Song in the indigenous category at the 2008 Q Song Awards. \nThey have performed at the 2008 and 2009 Eastcoast Blues and Roots festival to a captive audience\, the 2008 Caloundra Music festival and 2009 Dreaming festival\, Recorded their Debut Album “Chosen This Life” @ Studio 301 in Byron Bay\, and independently released it earlier this year.
URL:https://hoeymoey.com.au/event/live-music-with-matty-devitt-150323/
LOCATION:The Hoey Moey\, 84 Ocean Parade\, Coffs Harbour\, NSW\, 2450\, Australia
CATEGORIES:Entertainment
ATTACH;FMTTYPE=image/jpeg:https://hoeymoey.com.au/wp-content/uploads/2020/09/Matty-Devitt-Duo.jpg
END:VEVENT
BEGIN:VEVENT
DTSTART;VALUE=DATE:20230315
DTEND;VALUE=DATE:20230316
DTSTAMP:20260426T092753
CREATED:20190820T030800Z
LAST-MODIFIED:20230321T022622Z
UID:10002210-1678838400-1678924799@hoeymoey.com.au
SUMMARY:Wednesday Offer - $16 Chicken Schnitzel!*
DESCRIPTION:On Wednesdays\, members can enjoy a chicken schnitzel served with chips\, fresh salad and gravy for $16. \n* $19.50 for non members. \nPlus\, get premium topper blackboard upgrades!
URL:https://hoeymoey.com.au/event/wednesday-members-chicken-schnitzel/2023-03-15/
LOCATION:The Hoey Moey\, 84 Ocean Parade\, Coffs Harbour\, NSW\, 2450\, Australia
CATEGORIES:Meal Deal
ATTACH;FMTTYPE=image/jpeg:https://hoeymoey.com.au/wp-content/uploads/2019/08/HM_NewDailyFeeds_NOV2022_WEB2.jpg
END:VEVENT
BEGIN:VEVENT
DTSTART;TZID=Australia/Sydney:20230314T180000
DTEND;TZID=Australia/Sydney:20230314T180000
DTSTAMP:20260426T092753
CREATED:20220814T092552Z
LAST-MODIFIED:20230317T043332Z
UID:10001106-1678816800-1678816800@hoeymoey.com.au
SUMMARY:Musical Bingo!
DESCRIPTION:Join us for a fun night of Musical Bingo every Tuesday night from 6pm! \nIt’ll be heaps of fun\, with music galore\, and prizes to be won!
URL:https://hoeymoey.com.au/event/musical-bingo-2/2023-03-14/
LOCATION:The Hoey Moey\, 84 Ocean Parade\, Coffs Harbour\, NSW\, 2450\, Australia
CATEGORIES:Entertainment
ATTACH;FMTTYPE=image/jpeg:https://hoeymoey.com.au/wp-content/uploads/2022/08/HM_MusicalBingo_SEPT2022_WEB.jpg
END:VEVENT
END:VCALENDAR