BEGIN:VCALENDAR
VERSION:2.0
PRODID:-//Hoey Moey - ECPv6.3.3.1//NONSGML v1.0//EN
CALSCALE:GREGORIAN
METHOD:PUBLISH
X-ORIGINAL-URL:https://hoeymoey.com.au
X-WR-CALDESC:Events for Hoey Moey
REFRESH-INTERVAL;VALUE=DURATION:PT1H
X-Robots-Tag:noindex
X-PUBLISHED-TTL:PT1H
BEGIN:VTIMEZONE
TZID:Australia/Sydney
BEGIN:STANDARD
TZOFFSETFROM:+1100
TZOFFSETTO:+1000
TZNAME:AEST
DTSTART:20230401T160000
END:STANDARD
BEGIN:DAYLIGHT
TZOFFSETFROM:+1000
TZOFFSETTO:+1100
TZNAME:AEDT
DTSTART:20230930T160000
END:DAYLIGHT
END:VTIMEZONE
BEGIN:VEVENT
DTSTART;VALUE=DATE:20230314
DTEND;VALUE=DATE:20230315
DTSTAMP:20260426T105501
CREATED:20190820T025709Z
LAST-MODIFIED:20230321T022652Z
UID:10000209-1678752000-1678838399@hoeymoey.com.au
SUMMARY:Tuesday Offer - $16 Lamb Cutlets!*
DESCRIPTION:On Tuesdays\, you can enjoy lamb cutlets\, chips\, and salad for just $16 for members! \n* $19.50 for non-members. \nSupersize it and get an extra cutlet for an additional $6.50.
URL:https://hoeymoey.com.au/event/tuesday-lamb-cutlets/2023-03-14/
LOCATION:The Hoey Moey\, 84 Ocean Parade\, Coffs Harbour\, NSW\, 2450\, Australia
CATEGORIES:Meal Deal
ATTACH;FMTTYPE=image/jpeg:https://hoeymoey.com.au/wp-content/uploads/2019/08/HM_NewDailyFeeds_NOV2022_WEB.jpg
END:VEVENT
BEGIN:VEVENT
DTSTART;TZID=Australia/Sydney:20230313T183000
DTEND;TZID=Australia/Sydney:20230415T173000
DTSTAMP:20260426T105501
CREATED:20220210T225041Z
LAST-MODIFIED:20230508T054726Z
UID:10000486-1678732200-1681579800@hoeymoey.com.au
SUMMARY:Trivia Mondays
DESCRIPTION:Brainiacs unite for Trivia on Monday Nights at the Hoey Moey! \nIt is from 6.30pm with great prizes to be won.
URL:https://hoeymoey.com.au/event/trivia-mondays/2023-03-13/
LOCATION:The Hoey Moey\, 84 Ocean Parade\, Coffs Harbour\, NSW\, 2450\, Australia
CATEGORIES:Entertainment
ATTACH;FMTTYPE=image/jpeg:https://hoeymoey.com.au/wp-content/uploads/2022/02/HM_TriviaMondays_FEB2022_WEB.jpg
END:VEVENT
BEGIN:VEVENT
DTSTART;TZID=Australia/Sydney:20230312T160000
DTEND;TZID=Australia/Sydney:20230312T193000
DTSTAMP:20260426T105501
CREATED:20230214T063419Z
LAST-MODIFIED:20230219T035028Z
UID:10003105-1678636800-1678649400@hoeymoey.com.au
SUMMARY:Sunday Session with Fella Falafel!
DESCRIPTION:Introducing Fella Felafel\, a 3 piece grunge/rock covers band from coastal Port Macquarie\, NSW. \nDe-bunking the traditional cover band template and resurfacing the songs that navigated us through our acne – the songs that made us who we are. \nA salute to all the great tunes that hit the air-waves through the nineties\, naughties and onwards. Tunes that charted and captured the hearts of the thinkers\, but weren’t murdered by radio or exploited by television… well\, maybe a few for good measure – but even they won’t make you vom in your mouth. \nThe trio – Dusty\, Ash & Jordan – rock punters back to another time\, a time before smart phones\, the Kardashians\, and when cargo shorts were acceptable to wear in public…. ahh\, what a time to be alive! \nA reconnection to the greatest bands\, music + anthems of the 90s and 2000s – inspiring plenty of nostalgia\, sing- alongs and a whole lot of dancing. \nThick\, punching bass lines weaving in and out of soaring guitar solos\, wrapped in amazing melodic vocal harmonies combine for a show that always leaves a chanting crowd at “last drinks” – just like the real deal – we are the alternative. \nIt’s not dinner music though\, so leave ‘ya hearing aids at home if you’re under any illusion that drums have volume dials!
URL:https://hoeymoey.com.au/event/sunday-session-with-fella-falafel/
LOCATION:The Hoey Moey\, 84 Ocean Parade\, Coffs Harbour\, NSW\, 2450\, Australia
CATEGORIES:Entertainment
ATTACH;FMTTYPE=image/jpeg:https://hoeymoey.com.au/wp-content/uploads/2023/02/HM_SundaySessions_MAR2023_NL2-e1676356329247.jpg
END:VEVENT
BEGIN:VEVENT
DTSTART;VALUE=DATE:20230312
DTEND;VALUE=DATE:20230313
DTSTAMP:20260426T105501
CREATED:20221102T013157Z
LAST-MODIFIED:20230214T072545Z
UID:10001145-1678579200-1678665599@hoeymoey.com.au
SUMMARY:Super Sunday Cutlets!
DESCRIPTION:On Sundays\, enjoy crumbed lamb cutlets served with chips\, salad and gravy for just $16 for members or $19.50 for non members!
URL:https://hoeymoey.com.au/event/super-sunday-cutlets/2023-03-12/
LOCATION:The Hoey Moey\, 84 Ocean Parade\, Coffs Harbour\, NSW\, 2450\, Australia
CATEGORIES:Meal Deal,Whats On
ATTACH;FMTTYPE=image/jpeg:https://hoeymoey.com.au/wp-content/uploads/2022/11/HM_NewDailyFeeds_NOV2022_WEB6.jpg
END:VEVENT
BEGIN:VEVENT
DTSTART;TZID=Australia/Sydney:20230311T210000
DTEND;TZID=Australia/Sydney:20230311T230000
DTSTAMP:20260426T105501
CREATED:20230214T061451Z
LAST-MODIFIED:20230214T061944Z
UID:10003016-1678568400-1678575600@hoeymoey.com.au
SUMMARY:DJ Salty!
DESCRIPTION:It is time to hit the dance floor with DJ Salty spinning tunes to late!
URL:https://hoeymoey.com.au/event/dj-salty-110323/
LOCATION:The Hoey Moey\, 84 Ocean Parade\, Coffs Harbour\, NSW\, 2450\, Australia
CATEGORIES:Entertainment
ATTACH;FMTTYPE=image/jpeg:https://hoeymoey.com.au/wp-content/uploads/2019/08/DJ-at-the-Hoey-Moey-beer-garden-Coffs-Harbour.jpeg
END:VEVENT
BEGIN:VEVENT
DTSTART;TZID=Australia/Sydney:20230311T180000
DTEND;TZID=Australia/Sydney:20230311T210000
DTSTAMP:20260426T105501
CREATED:20230214T062057Z
LAST-MODIFIED:20230214T062057Z
UID:10000905-1678557600-1678568400@hoeymoey.com.au
SUMMARY:Live music with Billie-Jo Porter!
DESCRIPTION:For country girl Billie-Jo Porter the journey into music has been a natural one. Neighbouring the nation’s country music capital Tamworth\, it seems appropriate that Billie-Jo felt drawn to country music. \nBillie-Jo is no stranger to songwriting success. She co-wrote ‘Head Full of Honey’ with Andrew Swift\, which peaked at No.7 on The Music Network’s Hot 50 airplay charts. Prior to this\, Billie-Jo cut her teeth supporting artists including Hussy Hicks\, Gretta Ziller & Riley Catherall and has frequented festivals including Tamworth Country Music Festival and Bello Winter Music Festival\, delighting audiences and generating a strong industry buzz. \nHer rising success captured the attention of multiple Golden Guitar and Aria Award winner Shane Nicholson\, who produced her latest releases at The Sound Hole studios on The Central Coast. \nBillie-Jo’s debut single ‘Feels Like Us’ an upbeat\, heart-warming love song co-written with Andrew Blyth at the Dag Sheep Station Songwriters Retreat debut at No.2 on the Itunes Singer/Songwriter chart\, No.1 on AMRAP Regional Chart\, No.15 on The Countrytown Music Network Chart and reached the dizzy heights of No.2 on Tamworth own 2TM’s Australian Country Music Chart. \nBillie-Jo’s follow up single ‘Eyes Wide Open’ is a happy beach-boho\, live-and-let-live anthem that will make you want to take off your shoes and enjoy the sunshine with friends. \nNow living on the North Coast of NSW\, Billie-Jo Porter offers a unique sound by infusing a laid back beach lifestyle and her country roots. With her sentimental and energetic song writing\, Billie-Jo Porter is a fresh talent ascending new heights\, sprinkling joy into the ears of her listeners\, taking them on a high spirited journey of delight\, music and love.
URL:https://hoeymoey.com.au/event/live-music-with-billie-jo-porter-110323/
LOCATION:The Hoey Moey\, 84 Ocean Parade\, Coffs Harbour\, NSW\, 2450\, Australia
CATEGORIES:Entertainment
ATTACH;FMTTYPE=image/jpeg:https://hoeymoey.com.au/wp-content/uploads/2022/01/MG_2358-2-smaller-e1642550675502.jpg
END:VEVENT
BEGIN:VEVENT
DTSTART;VALUE=DATE:20230311
DTEND;VALUE=DATE:20230312
DTSTAMP:20260426T105501
CREATED:20190820T031837Z
LAST-MODIFIED:20230214T072628Z
UID:10002398-1678492800-1678579199@hoeymoey.com.au
SUMMARY:Saturday Seafood!
DESCRIPTION:On Saturdays\, you can enjoy fish and chips with salad\, lemon and tartare sauce for just $16 for members or $19.50 for non members! \nPlus there are premium blackboard upgrades.
URL:https://hoeymoey.com.au/event/saturday-seafood/2023-03-11/
LOCATION:The Hoey Moey\, 84 Ocean Parade\, Coffs Harbour\, NSW\, 2450\, Australia
CATEGORIES:Meal Deal,Whats On
ATTACH;FMTTYPE=image/jpeg:https://hoeymoey.com.au/wp-content/uploads/2019/08/HM_NewDailyFeeds_NOV2022_WEB5.jpg
END:VEVENT
BEGIN:VEVENT
DTSTART;TZID=Australia/Sydney:20230310T170000
DTEND;TZID=Australia/Sydney:20230310T200000
DTSTAMP:20260426T105501
CREATED:20230214T062151Z
LAST-MODIFIED:20230214T062151Z
UID:10000916-1678467600-1678478400@hoeymoey.com.au
SUMMARY:Live music with T’Larmon!
DESCRIPTION:Tom Mwanza – also known as Tlarmon is a Zambian born music composer\, producer and performer with a Bachelor of Music from Southern Cross University. \nTom has a rich and diverse musical heritage. He has worked across Zambia\, Mozambique\, South Africa and Australia specializing in music arrangement\, performing and production. He has worked with various musicians and bands on tour and in the studio. \nHe has produced music for Chief-Michael Mweemba\, BOP\, The Cherubz and toured with leading Zambian Gospel artist Racheal in Zambia. Tom was also a finalist at the 2014-2019 North Coast Entertainment Industry Awards Dolphin Music Australian Songwriting Awards. \nTlarmon brings a mix of originals and covers music from artists like Florida Georgia Line\, Chris Stapleton’s famous Tennessee Whiskey to RnB’s finest like Joe Thomas and Musiq Soul Child. Also not forgetting the world of Pop with the likes of Tom Gregory and Sam Fischer. This solo performance involves one musician on guitar (acoustic sets).
URL:https://hoeymoey.com.au/event/live-music-with-tlarmon-100323/
CATEGORIES:Entertainment
ATTACH;FMTTYPE=image/jpeg:https://hoeymoey.com.au/wp-content/uploads/2022/10/thumbnail_TLarmon-photo-e1688785296863.jpg
END:VEVENT
BEGIN:VEVENT
DTSTART;VALUE=DATE:20230310
DTEND;VALUE=DATE:20230311
DTSTAMP:20260426T105501
CREATED:20190815T234137Z
LAST-MODIFIED:20230214T073012Z
UID:10000897-1678406400-1678492799@hoeymoey.com.au
SUMMARY:Friday offer - $16 Friday Steak Fest!*
DESCRIPTION:On Fridays at the Hoey Moey\, you can enjoy a 200 gram rump steak\, chips and salad for just $16 for members or $19.50 for non members! \nPlus get premium blackboard upgrades.
URL:https://hoeymoey.com.au/event/friday-steak-fest/2023-03-10/
LOCATION:The Hoey Moey\, 84 Ocean Parade\, Coffs Harbour\, NSW\, 2450\, Australia
CATEGORIES:Meal Deal,Whats On
ATTACH;FMTTYPE=image/jpeg:https://hoeymoey.com.au/wp-content/uploads/2019/08/HM_NewDailyFeeds_NOV2022_WEB4.jpg
END:VEVENT
BEGIN:VEVENT
DTSTART;TZID=Australia/Sydney:20230309T180000
DTEND;TZID=Australia/Sydney:20230309T210000
DTSTAMP:20260426T105501
CREATED:20230214T062301Z
LAST-MODIFIED:20230214T062546Z
UID:10003155-1678384800-1678395600@hoeymoey.com.au
SUMMARY:Live music with Nathan Beretta!
DESCRIPTION:Nathan Beretta has made his mark in the Australian blues scene with multiple award winning blues band Blue Eyes Cry. Touring and playing just about every Blues festival and venue in the country Nathan has earned respect from blues lover’s all over. \nNathan has shared the stage with many Australian Legends such as Robert Susz ( Mighty Reapers) Shane Pacey ( Bondi Cigars)\, Geoff Achison \, Lloyd Spiegel \, and Chris Wilson just to name a few. When it comes to festivals Nathan has performed though out Australia opening up for international acts such as\, Anne Popovich\, Jon Cleary\, and Joe Louis Walker. \nGrowing up with Blues jazz and soul in the household\, Nathan has brought his own unique style to the table. Influenced by artist such as Ronnie Earl\, Albert Collins\, Guy King and Jimmie Vaughn Nathan plays from the soul with an “all killer no filler” approach. Nathans first band Blue Eyes cry was signed to Australia’s premier record company Black Market Music\, Nathan manage to hit no 1 on the Australian Blues and Roots Charts in the year of 2015\, also winning best new Talent at the Chain awards the same year. In 2019 Nathan topped the charts again with his debut release “Where I Belong”. \nNathan Beretta is an act not to be missed if Fender guitar Tones and a traditional feel is your thing!
URL:https://hoeymoey.com.au/event/live-music-wednesday-with-nathan-beretta-90323/
LOCATION:The Hoey Moey\, 84 Ocean Parade\, Coffs Harbour\, NSW\, 2450\, Australia
CATEGORIES:Entertainment
ATTACH;FMTTYPE=image/jpeg:https://hoeymoey.com.au/wp-content/uploads/2022/12/Nathan-Beretta-live-music-Coffs-Harbour-Hoey-Moey-e1679362308356.jpg
END:VEVENT
BEGIN:VEVENT
DTSTART;VALUE=DATE:20230309
DTEND;VALUE=DATE:20230310
DTSTAMP:20260426T105501
CREATED:20190820T031634Z
LAST-MODIFIED:20230214T073522Z
UID:10002345-1678320000-1678406399@hoeymoey.com.au
SUMMARY:Thursday Offer - $16 Chicken Parmi!*
DESCRIPTION:On Thursdays\, you can enjoy a chicken parmi\, with chips and salad for just $16 for members! \n* $19.50 for non members. \nSupersize it and get an additional parmi for $6.50!
URL:https://hoeymoey.com.au/event/thursday-chicken-parmi/2023-03-09/
LOCATION:The Hoey Moey\, 84 Ocean Parade\, Coffs Harbour\, NSW\, 2450\, Australia
CATEGORIES:Meal Deal,Whats On
ATTACH;FMTTYPE=image/jpeg:https://hoeymoey.com.au/wp-content/uploads/2019/08/HM_NewDailyFeeds_NOV2022_WEB3.jpg
END:VEVENT
BEGIN:VEVENT
DTSTART;TZID=Australia/Sydney:20230308T180000
DTEND;TZID=Australia/Sydney:20230308T210000
DTSTAMP:20260426T105501
CREATED:20230214T060216Z
LAST-MODIFIED:20230214T060216Z
UID:10003013-1678298400-1678309200@hoeymoey.com.au
SUMMARY:Live music with Austyn Jane!
DESCRIPTION:17-Year-Old Singer\, Guitarist and Songwriter Austyn Jane\, is playing and creating songs on the Coffs Coast. Taking inspiration from the music she grew up with to make her own Indie Pop-Rock vibe. \nWith an entertaining and eccentric stage presence\, Austyn Jane reels in her audience with her favourite covers\, from classics to indie pop\, and orginal songs.
URL:https://hoeymoey.com.au/event/live-music-with-austyn-jane-80323/
LOCATION:The Hoey Moey\, 84 Ocean Parade\, Coffs Harbour\, NSW\, 2450\, Australia
CATEGORIES:Entertainment
ATTACH;FMTTYPE=image/jpeg:https://hoeymoey.com.au/wp-content/uploads/2022/10/thumbnail_austyn-Jane.jpg
END:VEVENT
BEGIN:VEVENT
DTSTART;VALUE=DATE:20230308
DTEND;VALUE=DATE:20230309
DTSTAMP:20260426T105501
CREATED:20190820T030800Z
LAST-MODIFIED:20230321T022622Z
UID:10002209-1678233600-1678319999@hoeymoey.com.au
SUMMARY:Wednesday Offer - $16 Chicken Schnitzel!*
DESCRIPTION:On Wednesdays\, members can enjoy a chicken schnitzel served with chips\, fresh salad and gravy for $16. \n* $19.50 for non members. \nPlus\, get premium topper blackboard upgrades!
URL:https://hoeymoey.com.au/event/wednesday-members-chicken-schnitzel/2023-03-08/
LOCATION:The Hoey Moey\, 84 Ocean Parade\, Coffs Harbour\, NSW\, 2450\, Australia
CATEGORIES:Meal Deal
ATTACH;FMTTYPE=image/jpeg:https://hoeymoey.com.au/wp-content/uploads/2019/08/HM_NewDailyFeeds_NOV2022_WEB2.jpg
END:VEVENT
BEGIN:VEVENT
DTSTART;TZID=Australia/Sydney:20230307T180000
DTEND;TZID=Australia/Sydney:20230307T180000
DTSTAMP:20260426T105501
CREATED:20220814T092552Z
LAST-MODIFIED:20230317T043332Z
UID:10001105-1678212000-1678212000@hoeymoey.com.au
SUMMARY:Musical Bingo!
DESCRIPTION:Join us for a fun night of Musical Bingo every Tuesday night from 6pm! \nIt’ll be heaps of fun\, with music galore\, and prizes to be won!
URL:https://hoeymoey.com.au/event/musical-bingo-2/2023-03-07/
LOCATION:The Hoey Moey\, 84 Ocean Parade\, Coffs Harbour\, NSW\, 2450\, Australia
CATEGORIES:Entertainment
ATTACH;FMTTYPE=image/jpeg:https://hoeymoey.com.au/wp-content/uploads/2022/08/HM_MusicalBingo_SEPT2022_WEB.jpg
END:VEVENT
BEGIN:VEVENT
DTSTART;VALUE=DATE:20230307
DTEND;VALUE=DATE:20230308
DTSTAMP:20260426T105501
CREATED:20190820T025709Z
LAST-MODIFIED:20230321T022652Z
UID:10000208-1678147200-1678233599@hoeymoey.com.au
SUMMARY:Tuesday Offer - $16 Lamb Cutlets!*
DESCRIPTION:On Tuesdays\, you can enjoy lamb cutlets\, chips\, and salad for just $16 for members! \n* $19.50 for non-members. \nSupersize it and get an extra cutlet for an additional $6.50.
URL:https://hoeymoey.com.au/event/tuesday-lamb-cutlets/2023-03-07/
LOCATION:The Hoey Moey\, 84 Ocean Parade\, Coffs Harbour\, NSW\, 2450\, Australia
CATEGORIES:Meal Deal
ATTACH;FMTTYPE=image/jpeg:https://hoeymoey.com.au/wp-content/uploads/2019/08/HM_NewDailyFeeds_NOV2022_WEB.jpg
END:VEVENT
BEGIN:VEVENT
DTSTART;TZID=Australia/Sydney:20230306T183000
DTEND;TZID=Australia/Sydney:20230408T173000
DTSTAMP:20260426T105501
CREATED:20220210T225041Z
LAST-MODIFIED:20230508T054726Z
UID:10000485-1678127400-1680975000@hoeymoey.com.au
SUMMARY:Trivia Mondays
DESCRIPTION:Brainiacs unite for Trivia on Monday Nights at the Hoey Moey! \nIt is from 6.30pm with great prizes to be won.
URL:https://hoeymoey.com.au/event/trivia-mondays/2023-03-06/
LOCATION:The Hoey Moey\, 84 Ocean Parade\, Coffs Harbour\, NSW\, 2450\, Australia
CATEGORIES:Entertainment
ATTACH;FMTTYPE=image/jpeg:https://hoeymoey.com.au/wp-content/uploads/2022/02/HM_TriviaMondays_FEB2022_WEB.jpg
END:VEVENT
BEGIN:VEVENT
DTSTART;TZID=Australia/Sydney:20230305T160000
DTEND;TZID=Australia/Sydney:20230305T193000
DTSTAMP:20260426T105501
CREATED:20230214T062648Z
LAST-MODIFIED:20230214T062658Z
UID:10003333-1678032000-1678044600@hoeymoey.com.au
SUMMARY:Sunday Session featuring Fat Picnic!
DESCRIPTION:Brisbane’s own Roots & Funk outfit\, Fat Picnic have built a reputation for creating music that is fun\, high energy and keeps you dancing from start to finish. \nFunk\, Reggae\, Ska and Hip Hop are served up with fat bass\, a hot horn section\, and rocking lap steel guitar. \nThis eight piece band is on a funky mission to get people moving. \nSince their formation in 2012\, Fat Picnic have performed at many venues and festivals\, always bringing their infectious grooves and good times. \nFat Picnic are bringing the party to the Hoey Moey! Don’t miss it!
URL:https://hoeymoey.com.au/event/sunday-session-featuring-fat-picnic-50323/
LOCATION:The Hoey Moey\, 84 Ocean Parade\, Coffs Harbour\, NSW\, 2450\, Australia
CATEGORIES:Entertainment
ATTACH;FMTTYPE=image/jpeg:https://hoeymoey.com.au/wp-content/uploads/2022/03/Fat-Picnic.jpg
END:VEVENT
BEGIN:VEVENT
DTSTART;VALUE=DATE:20230305
DTEND;VALUE=DATE:20230306
DTSTAMP:20260426T105501
CREATED:20221102T013157Z
LAST-MODIFIED:20230214T072545Z
UID:10001144-1677974400-1678060799@hoeymoey.com.au
SUMMARY:Super Sunday Cutlets!
DESCRIPTION:On Sundays\, enjoy crumbed lamb cutlets served with chips\, salad and gravy for just $16 for members or $19.50 for non members!
URL:https://hoeymoey.com.au/event/super-sunday-cutlets/2023-03-05/
LOCATION:The Hoey Moey\, 84 Ocean Parade\, Coffs Harbour\, NSW\, 2450\, Australia
CATEGORIES:Meal Deal,Whats On
ATTACH;FMTTYPE=image/jpeg:https://hoeymoey.com.au/wp-content/uploads/2022/11/HM_NewDailyFeeds_NOV2022_WEB6.jpg
END:VEVENT
BEGIN:VEVENT
DTSTART;TZID=Australia/Sydney:20230304T210000
DTEND;TZID=Australia/Sydney:20230304T230000
DTSTAMP:20260426T105501
CREATED:20230214T061330Z
LAST-MODIFIED:20230214T061330Z
UID:10003015-1677963600-1677970800@hoeymoey.com.au
SUMMARY:DJ Raven!
DESCRIPTION:It is time to hit the dance floor with DJ Raven spinning tunes to late!
URL:https://hoeymoey.com.au/event/dj-raven-40323/
LOCATION:The Hoey Moey\, 84 Ocean Parade\, Coffs Harbour\, NSW\, 2450\, Australia
CATEGORIES:Entertainment
ATTACH;FMTTYPE=image/jpeg:https://hoeymoey.com.au/wp-content/uploads/2019/08/DJ-at-the-Hoey-Moey-beer-garden-Coffs-Harbour.jpeg
END:VEVENT
BEGIN:VEVENT
DTSTART;VALUE=DATE:20230304
DTEND;VALUE=DATE:20230306
DTSTAMP:20260426T105501
CREATED:20221025T090928Z
LAST-MODIFIED:20221028T045152Z
UID:10001058-1677888000-1678060799@hoeymoey.com.au
SUMMARY:The Hoey Moey's Pinball Festival!
DESCRIPTION:Come on down and catch up with old friends and meet new ones at The Hoey Moey’s Pinball Festival! \nThere will be over 30 Pinball machines and it is $20 to enter. \nSession 1\, Saturday\, 4 March\, 11am – 3pm:\nhttps://www.trybooking.com/CDHCE \nSession 2\, Saturday\, 4 March\,  4pm – 8pm:\nhttps://www.trybooking.com/CDHCI \nGet your tickets now!
URL:https://hoeymoey.com.au/event/the-hoey-moeys-pinball-festival/
LOCATION:The Hoey Moey\, 84 Ocean Parade\, Coffs Harbour\, NSW\, 2450\, Australia
CATEGORIES:Entertainment,Ticketed Entertainment
ATTACH;FMTTYPE=image/jpeg:https://hoeymoey.com.au/wp-content/uploads/2022/10/HM_PinballFest_MAR2023_WEB.jpg
END:VEVENT
BEGIN:VEVENT
DTSTART;VALUE=DATE:20230304
DTEND;VALUE=DATE:20230305
DTSTAMP:20260426T105501
CREATED:20190820T031837Z
LAST-MODIFIED:20230214T072628Z
UID:10002397-1677888000-1677974399@hoeymoey.com.au
SUMMARY:Saturday Seafood!
DESCRIPTION:On Saturdays\, you can enjoy fish and chips with salad\, lemon and tartare sauce for just $16 for members or $19.50 for non members! \nPlus there are premium blackboard upgrades.
URL:https://hoeymoey.com.au/event/saturday-seafood/2023-03-04/
LOCATION:The Hoey Moey\, 84 Ocean Parade\, Coffs Harbour\, NSW\, 2450\, Australia
CATEGORIES:Meal Deal,Whats On
ATTACH;FMTTYPE=image/jpeg:https://hoeymoey.com.au/wp-content/uploads/2019/08/HM_NewDailyFeeds_NOV2022_WEB5.jpg
END:VEVENT
BEGIN:VEVENT
DTSTART;TZID=Australia/Sydney:20230303T203000
DTEND;TZID=Australia/Sydney:20230303T230000
DTSTAMP:20260426T105501
CREATED:20230214T061212Z
LAST-MODIFIED:20230214T061219Z
UID:10003745-1677875400-1677884400@hoeymoey.com.au
SUMMARY:DJ Ibex Switch!
DESCRIPTION:It is time to hit the dance floor with DJ Ibex Switch spinning tunes to late!
URL:https://hoeymoey.com.au/event/dj-ibex-switch-30323/
LOCATION:The Hoey Moey\, 84 Ocean Parade\, Coffs Harbour\, NSW\, 2450\, Australia
CATEGORIES:Entertainment
ATTACH;FMTTYPE=image/jpeg:https://hoeymoey.com.au/wp-content/uploads/2019/08/DJ-at-the-Hoey-Moey-beer-garden-Coffs-Harbour.jpeg
END:VEVENT
BEGIN:VEVENT
DTSTART;TZID=Australia/Sydney:20230303T170000
DTEND;TZID=Australia/Sydney:20230303T200000
DTSTAMP:20260426T105501
CREATED:20230214T060100Z
LAST-MODIFIED:20230216T063237Z
UID:10003012-1677862800-1677873600@hoeymoey.com.au
SUMMARY:Live music with Simon and Angus!
DESCRIPTION:Simon & Angus are a local act from the Mid North Coast who play a variety of original and cover songs. \nThey draw their inspiration from a variety of artists including; Chet Faker\, Jimi Hendrix\, Angus and Julia Stone and Bob Dylan.
URL:https://hoeymoey.com.au/event/live-music-with-simon-and-angus-30323/
LOCATION:The Hoey Moey\, 84 Ocean Parade\, Coffs Harbour\, NSW\, 2450\, Australia
CATEGORIES:Entertainment
ATTACH;FMTTYPE=image/jpeg:https://hoeymoey.com.au/wp-content/uploads/2019/10/Simon-and-Angus-live-music-Hoey-Moey-pub-and-hotel-Coffs-Harbour-1.jpg
END:VEVENT
BEGIN:VEVENT
DTSTART;VALUE=DATE:20230303
DTEND;VALUE=DATE:20230304
DTSTAMP:20260426T105501
CREATED:20190815T234137Z
LAST-MODIFIED:20230214T073012Z
UID:10000896-1677801600-1677887999@hoeymoey.com.au
SUMMARY:Friday offer - $16 Friday Steak Fest!*
DESCRIPTION:On Fridays at the Hoey Moey\, you can enjoy a 200 gram rump steak\, chips and salad for just $16 for members or $19.50 for non members! \nPlus get premium blackboard upgrades.
URL:https://hoeymoey.com.au/event/friday-steak-fest/2023-03-03/
LOCATION:The Hoey Moey\, 84 Ocean Parade\, Coffs Harbour\, NSW\, 2450\, Australia
CATEGORIES:Meal Deal,Whats On
ATTACH;FMTTYPE=image/jpeg:https://hoeymoey.com.au/wp-content/uploads/2019/08/HM_NewDailyFeeds_NOV2022_WEB4.jpg
END:VEVENT
BEGIN:VEVENT
DTSTART;TZID=Australia/Sydney:20230302T180000
DTEND;TZID=Australia/Sydney:20230302T210000
DTSTAMP:20260426T105501
CREATED:20230214T020123Z
LAST-MODIFIED:20230214T020123Z
UID:10003241-1677780000-1677790800@hoeymoey.com.au
SUMMARY:Live music with Yhan Leal!
DESCRIPTION:Yhan Leal\, walks the earth with light feet. The Colombian born\, now Bellingen based singer songwriter dedicates his waking hours to honing his artistic craft\, busking during the day and playing venues at night. \nPlaying over 100 venue shows a year\, Leal is undoubtedly one of the the most active musicians on the Mid North Coast. Yhan is a truly gifted guitarist and angelic singer who has found his musical identity. He draws on diverse influences from folk traditions while at the same time representing a new era of folk bringing fresh identity to the genre.
URL:https://hoeymoey.com.au/event/live-music-with-yhan-leal-020323/
LOCATION:The Hoey Moey\, 84 Ocean Parade\, Coffs Harbour\, NSW\, 2450\, Australia
CATEGORIES:Entertainment
ATTACH;FMTTYPE=image/png:https://hoeymoey.com.au/wp-content/uploads/2022/12/Yhan-Leal-Busking-Melbourne.png
END:VEVENT
BEGIN:VEVENT
DTSTART;VALUE=DATE:20230302
DTEND;VALUE=DATE:20230303
DTSTAMP:20260426T105501
CREATED:20190820T031634Z
LAST-MODIFIED:20230214T073522Z
UID:10002344-1677715200-1677801599@hoeymoey.com.au
SUMMARY:Thursday Offer - $16 Chicken Parmi!*
DESCRIPTION:On Thursdays\, you can enjoy a chicken parmi\, with chips and salad for just $16 for members! \n* $19.50 for non members. \nSupersize it and get an additional parmi for $6.50!
URL:https://hoeymoey.com.au/event/thursday-chicken-parmi/2023-03-02/
LOCATION:The Hoey Moey\, 84 Ocean Parade\, Coffs Harbour\, NSW\, 2450\, Australia
CATEGORIES:Meal Deal,Whats On
ATTACH;FMTTYPE=image/jpeg:https://hoeymoey.com.au/wp-content/uploads/2019/08/HM_NewDailyFeeds_NOV2022_WEB3.jpg
END:VEVENT
BEGIN:VEVENT
DTSTART;TZID=Australia/Sydney:20230301T180000
DTEND;TZID=Australia/Sydney:20230301T210000
DTSTAMP:20260426T105501
CREATED:20230215T053848Z
LAST-MODIFIED:20230215T053848Z
UID:10001221-1677693600-1677704400@hoeymoey.com.au
SUMMARY:Live music Wednesday with Sam Buckley!
DESCRIPTION:Enjoy live music with Sam Buckley from 6pm – 9pm at the Hoey Moey! \n\nOriginally from Barraganyatti\, on the Mid North Coast of NSW\, Sam Buckley lived in Sydney and Melbourne for the last 16 years performing in high-level bands. He toured internationally and performed at many music festivals in Australia. \nIn recent years\, he performed in Dreamboogie\, who were a highly polished and dynamic live Blues band\, led by charismatic singer Rebecca Davey. The band’s innovative sound incorporating electronic loops resulted in wins at the Melbourne Blues Appreciation Society’s Blues Performer of the Year Challenge in 2016 and Band of the Year at the 2018 Victorian-Tasmanian Blues Awards. \nSam is currently embarking on his solo career and recording his debut album\, Blue Ocean\, with Lester Snell and Royal Studios in Memphis. This is a very exciting time and a privilege to be working with industry luminary Lester and the Stax players behind the success of artists such as Albert King and Al Green. Sam is sometimes called ‘Jimi Hendrix’ and ‘Stevie Ray-Vaughn’ – he is infamous for his electric guitar bends\, warm vibrant tone and roaring groove.
URL:https://hoeymoey.com.au/event/live-music-wednesday-with-sam-buckley-3/
LOCATION:The Hoey Moey\, 84 Ocean Parade\, Coffs Harbour\, NSW\, 2450\, Australia
CATEGORIES:Entertainment
ATTACH;FMTTYPE=image/png:https://hoeymoey.com.au/wp-content/uploads/2023/02/Sam-Buckley-live-music-Hoey-Moey-pub-hotel-bar-Coffs-Harbour.jpg.png
END:VEVENT
BEGIN:VEVENT
DTSTART;VALUE=DATE:20230301
DTEND;VALUE=DATE:20230302
DTSTAMP:20260426T105501
CREATED:20190820T030800Z
LAST-MODIFIED:20230321T022622Z
UID:10002208-1677628800-1677715199@hoeymoey.com.au
SUMMARY:Wednesday Offer - $16 Chicken Schnitzel!*
DESCRIPTION:On Wednesdays\, members can enjoy a chicken schnitzel served with chips\, fresh salad and gravy for $16. \n* $19.50 for non members. \nPlus\, get premium topper blackboard upgrades!
URL:https://hoeymoey.com.au/event/wednesday-members-chicken-schnitzel/2023-03-01/
LOCATION:The Hoey Moey\, 84 Ocean Parade\, Coffs Harbour\, NSW\, 2450\, Australia
CATEGORIES:Meal Deal
ATTACH;FMTTYPE=image/jpeg:https://hoeymoey.com.au/wp-content/uploads/2019/08/HM_NewDailyFeeds_NOV2022_WEB2.jpg
END:VEVENT
BEGIN:VEVENT
DTSTART;TZID=Australia/Sydney:20230228T180000
DTEND;TZID=Australia/Sydney:20230228T180000
DTSTAMP:20260426T105501
CREATED:20220814T092552Z
LAST-MODIFIED:20230317T043332Z
UID:10001104-1677607200-1677607200@hoeymoey.com.au
SUMMARY:Musical Bingo!
DESCRIPTION:Join us for a fun night of Musical Bingo every Tuesday night from 6pm! \nIt’ll be heaps of fun\, with music galore\, and prizes to be won!
URL:https://hoeymoey.com.au/event/musical-bingo-2/2023-02-28/
LOCATION:The Hoey Moey\, 84 Ocean Parade\, Coffs Harbour\, NSW\, 2450\, Australia
CATEGORIES:Entertainment
ATTACH;FMTTYPE=image/jpeg:https://hoeymoey.com.au/wp-content/uploads/2022/08/HM_MusicalBingo_SEPT2022_WEB.jpg
END:VEVENT
BEGIN:VEVENT
DTSTART;TZID=Australia/Sydney:20230227T183000
DTEND;TZID=Australia/Sydney:20230227T183000
DTSTAMP:20260426T105502
CREATED:20230214T102850Z
LAST-MODIFIED:20230214T102850Z
UID:10003132-1677522600-1677522600@hoeymoey.com.au
SUMMARY:Sports Themed Trivia!
DESCRIPTION:Think you know everything about sport? Test your knowledge at our Sport Themed Trivia Night! \nIt is on Monday\, 27th of February\, from 6.30pm!
URL:https://hoeymoey.com.au/event/sports-themed-trivia/
LOCATION:The Hoey Moey\, 84 Ocean Parade\, Coffs Harbour\, NSW\, 2450\, Australia
CATEGORIES:Entertainment,Whats On
ATTACH;FMTTYPE=image/jpeg:https://hoeymoey.com.au/wp-content/uploads/2023/02/HM_TriviaMondays_Sports_FEB2023_WEB.jpg
END:VEVENT
END:VCALENDAR