BEGIN:VCALENDAR
VERSION:2.0
PRODID:-//Hoey Moey - ECPv6.3.3.1//NONSGML v1.0//EN
CALSCALE:GREGORIAN
METHOD:PUBLISH
X-ORIGINAL-URL:https://hoeymoey.com.au
X-WR-CALDESC:Events for Hoey Moey
REFRESH-INTERVAL;VALUE=DURATION:PT1H
X-Robots-Tag:noindex
X-PUBLISHED-TTL:PT1H
BEGIN:VTIMEZONE
TZID:Australia/Sydney
BEGIN:STANDARD
TZOFFSETFROM:+1100
TZOFFSETTO:+1000
TZNAME:AEST
DTSTART:20230401T160000
END:STANDARD
BEGIN:DAYLIGHT
TZOFFSETFROM:+1000
TZOFFSETTO:+1100
TZNAME:AEDT
DTSTART:20230930T160000
END:DAYLIGHT
TZID:Australia/Melbourne
BEGIN:STANDARD
TZOFFSETFROM:+1100
TZOFFSETTO:+1000
TZNAME:AEST
DTSTART:20230401T160000
END:STANDARD
BEGIN:DAYLIGHT
TZOFFSETFROM:+1000
TZOFFSETTO:+1100
TZNAME:AEDT
DTSTART:20230930T160000
END:DAYLIGHT
END:VTIMEZONE
BEGIN:VEVENT
DTSTART;VALUE=DATE:20230211
DTEND;VALUE=DATE:20230212
DTSTAMP:20260426T134723
CREATED:20190820T031837Z
LAST-MODIFIED:20230214T072628Z
UID:10002394-1676073600-1676159999@hoeymoey.com.au
SUMMARY:Saturday Seafood!
DESCRIPTION:On Saturdays\, you can enjoy fish and chips with salad\, lemon and tartare sauce for just $16 for members or $19.50 for non members! \nPlus there are premium blackboard upgrades.
URL:https://hoeymoey.com.au/event/saturday-seafood/2023-02-11/
LOCATION:The Hoey Moey\, 84 Ocean Parade\, Coffs Harbour\, NSW\, 2450\, Australia
CATEGORIES:Meal Deal,Whats On
ATTACH;FMTTYPE=image/jpeg:https://hoeymoey.com.au/wp-content/uploads/2019/08/HM_NewDailyFeeds_NOV2022_WEB5.jpg
END:VEVENT
BEGIN:VEVENT
DTSTART;TZID=Australia/Melbourne:20230210T170000
DTEND;TZID=Australia/Melbourne:20230210T200000
DTSTAMP:20260426T134723
CREATED:20221216T001905Z
LAST-MODIFIED:20221216T001916Z
UID:10002424-1676048400-1676059200@hoeymoey.com.au
SUMMARY:Live music with Josh Matheson!
DESCRIPTION:The Little King AKA Josh Matheson’s sound is a fusion of jazz\, reggae and blues\, with powerful vocals and emotive lyrics. Innovated in the mind of Joshua Matheson\, Little King is a project\, which exposes our ideas about life\, our virtues and vices\, offering insightful solutions through figurative stories and of course\, the medium of music. \nWith influences that include Bob Marley\, Ben Harper & Chet Faker\, to name a few\, the Little King sound is raw and real\, combining provocative lyrics with soulful sounds\, creating a moving musical experience.
URL:https://hoeymoey.com.au/event/live-music-with-josh-matheson-100223/
LOCATION:The Hoey Moey\, 84 Ocean Parade\, Coffs Harbour\, NSW\, 2450\, Australia
CATEGORIES:Entertainment
ATTACH;FMTTYPE=image/jpeg:https://hoeymoey.com.au/wp-content/uploads/2019/08/Josh-Matheson-bw.jpg
END:VEVENT
BEGIN:VEVENT
DTSTART;VALUE=DATE:20230210
DTEND;VALUE=DATE:20230211
DTSTAMP:20260426T134723
CREATED:20190815T234137Z
LAST-MODIFIED:20230214T073012Z
UID:10000893-1675987200-1676073599@hoeymoey.com.au
SUMMARY:Friday offer - $16 Friday Steak Fest!*
DESCRIPTION:On Fridays at the Hoey Moey\, you can enjoy a 200 gram rump steak\, chips and salad for just $16 for members or $19.50 for non members! \nPlus get premium blackboard upgrades.
URL:https://hoeymoey.com.au/event/friday-steak-fest/2023-02-10/
LOCATION:The Hoey Moey\, 84 Ocean Parade\, Coffs Harbour\, NSW\, 2450\, Australia
CATEGORIES:Meal Deal,Whats On
ATTACH;FMTTYPE=image/jpeg:https://hoeymoey.com.au/wp-content/uploads/2019/08/HM_NewDailyFeeds_NOV2022_WEB4.jpg
END:VEVENT
BEGIN:VEVENT
DTSTART;TZID=Australia/Sydney:20230209T180000
DTEND;TZID=Australia/Sydney:20230209T210000
DTSTAMP:20260426T134723
CREATED:20221215T232417Z
LAST-MODIFIED:20221215T232428Z
UID:10000199-1675965600-1675976400@hoeymoey.com.au
SUMMARY:Live music with Yhan Leal!
DESCRIPTION:Yhan Leal\, walks the earth with light feet. The Colombian born\, now Bellingen based singer songwriter dedicates his waking hours to honing his artistic craft\, busking during the day and playing venues at night. \nPlaying over 100 venue shows a year\, Leal is undoubtedly one of the the most active musicians on the Mid North Coast. Yhan is a truly gifted guitarist and angelic singer who has found his musical identity. He draws on diverse influences from folk traditions while at the same time representing a new era of folk bringing fresh identity to the genre.
URL:https://hoeymoey.com.au/event/live-music-with-yhan-leal-90223/
LOCATION:The Hoey Moey\, 84 Ocean Parade\, Coffs Harbour\, NSW\, 2450\, Australia
CATEGORIES:Entertainment
ATTACH;FMTTYPE=image/png:https://hoeymoey.com.au/wp-content/uploads/2022/12/Yhan-Leal-Busking-Melbourne.png
END:VEVENT
BEGIN:VEVENT
DTSTART;VALUE=DATE:20230209
DTEND;VALUE=DATE:20230210
DTSTAMP:20260426T134723
CREATED:20190820T031634Z
LAST-MODIFIED:20230214T073522Z
UID:10002341-1675900800-1675987199@hoeymoey.com.au
SUMMARY:Thursday Offer - $16 Chicken Parmi!*
DESCRIPTION:On Thursdays\, you can enjoy a chicken parmi\, with chips and salad for just $16 for members! \n* $19.50 for non members. \nSupersize it and get an additional parmi for $6.50!
URL:https://hoeymoey.com.au/event/thursday-chicken-parmi/2023-02-09/
LOCATION:The Hoey Moey\, 84 Ocean Parade\, Coffs Harbour\, NSW\, 2450\, Australia
CATEGORIES:Meal Deal,Whats On
ATTACH;FMTTYPE=image/jpeg:https://hoeymoey.com.au/wp-content/uploads/2019/08/HM_NewDailyFeeds_NOV2022_WEB3.jpg
END:VEVENT
BEGIN:VEVENT
DTSTART;TZID=Australia/Sydney:20230208T180000
DTEND;TZID=Australia/Sydney:20230208T210000
DTSTAMP:20260426T134723
CREATED:20221215T232246Z
LAST-MODIFIED:20221215T232246Z
UID:10001190-1675879200-1675890000@hoeymoey.com.au
SUMMARY:Live music with Matty Devitt!
DESCRIPTION:Matty Devitt has been writing songs and performing for the past 12 years in and around the Coffs Harbour\, Byron Bay\, and Fraser coast areas. \nMatty also spent 2 years in Brighton\, UK\, enjoying much success on the local circuit. \nDuring this time Matty linked up with two amazingly talented unknown guitarists\, Wes DeWitt of Canada\, and Richard Atherton of England and proceeded to take out the “Best Original Musician” Category at the 2008 Bunderburg Rum\, Blues over Byron Busking Competition\, after which Matty took out the Best Song in the indigenous category at the 2008 Q Song Awards. \nThey have performed at the 2008 and 2009 Eastcoast Blues and Roots festival to a captive audience\, the 2008 Caloundra Music festival and 2009 Dreaming festival\, Recorded their Debut Album “Chosen This Life” @ Studio 301 in Byron Bay\, and independently released it earlier this year.
URL:https://hoeymoey.com.au/event/live-music-with-matty-devitt-80223/
LOCATION:The Hoey Moey\, 84 Ocean Parade\, Coffs Harbour\, NSW\, 2450\, Australia
CATEGORIES:Entertainment
ATTACH;FMTTYPE=image/jpeg:https://hoeymoey.com.au/wp-content/uploads/2020/09/Matty-Devitt-Duo.jpg
END:VEVENT
BEGIN:VEVENT
DTSTART;VALUE=DATE:20230208
DTEND;VALUE=DATE:20230209
DTSTAMP:20260426T134723
CREATED:20190820T030800Z
LAST-MODIFIED:20230321T022622Z
UID:10002205-1675814400-1675900799@hoeymoey.com.au
SUMMARY:Wednesday Offer - $16 Chicken Schnitzel!*
DESCRIPTION:On Wednesdays\, members can enjoy a chicken schnitzel served with chips\, fresh salad and gravy for $16. \n* $19.50 for non members. \nPlus\, get premium topper blackboard upgrades!
URL:https://hoeymoey.com.au/event/wednesday-members-chicken-schnitzel/2023-02-08/
LOCATION:The Hoey Moey\, 84 Ocean Parade\, Coffs Harbour\, NSW\, 2450\, Australia
CATEGORIES:Meal Deal
ATTACH;FMTTYPE=image/jpeg:https://hoeymoey.com.au/wp-content/uploads/2019/08/HM_NewDailyFeeds_NOV2022_WEB2.jpg
END:VEVENT
BEGIN:VEVENT
DTSTART;TZID=Australia/Sydney:20230207T180000
DTEND;TZID=Australia/Sydney:20230207T180000
DTSTAMP:20260426T134723
CREATED:20220814T092552Z
LAST-MODIFIED:20230317T043332Z
UID:10001101-1675792800-1675792800@hoeymoey.com.au
SUMMARY:Musical Bingo!
DESCRIPTION:Join us for a fun night of Musical Bingo every Tuesday night from 6pm! \nIt’ll be heaps of fun\, with music galore\, and prizes to be won!
URL:https://hoeymoey.com.au/event/musical-bingo-2/2023-02-07/
LOCATION:The Hoey Moey\, 84 Ocean Parade\, Coffs Harbour\, NSW\, 2450\, Australia
CATEGORIES:Entertainment
ATTACH;FMTTYPE=image/jpeg:https://hoeymoey.com.au/wp-content/uploads/2022/08/HM_MusicalBingo_SEPT2022_WEB.jpg
END:VEVENT
BEGIN:VEVENT
DTSTART;TZID=Australia/Sydney:20230206T183000
DTEND;TZID=Australia/Sydney:20230311T183000
DTSTAMP:20260426T134723
CREATED:20220210T225041Z
LAST-MODIFIED:20230508T054726Z
UID:10000482-1675708200-1678559400@hoeymoey.com.au
SUMMARY:Trivia Mondays
DESCRIPTION:Brainiacs unite for Trivia on Monday Nights at the Hoey Moey! \nIt is from 6.30pm with great prizes to be won.
URL:https://hoeymoey.com.au/event/trivia-mondays/2023-02-06/
LOCATION:The Hoey Moey\, 84 Ocean Parade\, Coffs Harbour\, NSW\, 2450\, Australia
CATEGORIES:Entertainment
ATTACH;FMTTYPE=image/jpeg:https://hoeymoey.com.au/wp-content/uploads/2022/02/HM_TriviaMondays_FEB2022_WEB.jpg
END:VEVENT
BEGIN:VEVENT
DTSTART;VALUE=DATE:20230205
DTEND;VALUE=DATE:20230206
DTSTAMP:20260426T134723
CREATED:20221102T013157Z
LAST-MODIFIED:20230214T072545Z
UID:10001140-1675555200-1675641599@hoeymoey.com.au
SUMMARY:Super Sunday Cutlets!
DESCRIPTION:On Sundays\, enjoy crumbed lamb cutlets served with chips\, salad and gravy for just $16 for members or $19.50 for non members!
URL:https://hoeymoey.com.au/event/super-sunday-cutlets/2023-02-05/
LOCATION:The Hoey Moey\, 84 Ocean Parade\, Coffs Harbour\, NSW\, 2450\, Australia
CATEGORIES:Meal Deal,Whats On
ATTACH;FMTTYPE=image/jpeg:https://hoeymoey.com.au/wp-content/uploads/2022/11/HM_NewDailyFeeds_NOV2022_WEB6.jpg
END:VEVENT
BEGIN:VEVENT
DTSTART;TZID=Australia/Sydney:20230204T190000
DTEND;TZID=Australia/Sydney:20230204T190000
DTSTAMP:20260426T134723
CREATED:20221219T100831Z
LAST-MODIFIED:20230118T075508Z
UID:10003116-1675537200-1675537200@hoeymoey.com.au
SUMMARY:Live music with The Moving Stills!
DESCRIPTION:The Moving Stills will be playing live at the Hoey Moey on Saturday\, 4 February\, from 7pm with free entry!  They will be supported by Temperate and Purple Disturbance. \nThe Moving Stills wade through surf flavours with pop melodies that soothe and stick. The Central Coast based band write tracks that shoot through the barrel of a wave and spit out the back onto a 67’ Holden Ute. Gliding through a dance floor and stumbling onto a sweaty indie mosh pit with a bit of charm. \nKnown for their Alt-Pop Coastal sound\, they’ve quickly established themselves as a band that’ll stick around. In 2020\, they made more music then ever and took a COVID enforced break from touring. Releasing singles\, ‘Your Standards’ and ‘Bad’ and racked up some streaming Editorial support. They also wrote and recorded an album’s worth of songs that became their debut album\, ‘Sunshine Corner’. A blissful alt-pop rock album that dives into a pool of nostalgic surf flavours and synth swirls that ripples through the air. Working with longtime collaborator Dylan Adam’s (CLEWS\, DMA’s\, West Thebarton) who peppered his secret sauce on the album. The band says\, “We’ve always written songs based on our experiences and stories we know. In a way\, ‘Sunshine Corner’ is a coming of age album filled with stories of emotional struggles\, self-realisations and reflections\, heartbreak and the lessons learnt along the way. Hopefully some of our experiences connect with the people listening to it.” \nThe Moving Stills have had a year of it. They released their debut album ‘Sunshine Corner’ in Jan\, then toured with a bunch of upcoming legends including Spacey Jane\, Great Gable\, Shag Rock and The Vanns. Along the way they accumulated hours and kms on the road and in the van. They also sold out a bunch of their own headline shows up and down the East Coast and became an accidental viral hit with their Tik Tok video covering Tears For Fears’ ‘Everybody Wants To Rule The World’. Album 2 is already on the way – and we’re hearing the singles now.
URL:https://hoeymoey.com.au/event/live-music-with-the-moving-stills/
LOCATION:The Hoey Moey\, 84 Ocean Parade\, Coffs Harbour\, NSW\, 2450\, Australia
CATEGORIES:Entertainment
ATTACH;FMTTYPE=image/jpeg:https://hoeymoey.com.au/wp-content/uploads/2022/12/HM_TheMovingStills_FEB2023_WEB-1.jpg
END:VEVENT
BEGIN:VEVENT
DTSTART;VALUE=DATE:20230204
DTEND;VALUE=DATE:20230205
DTSTAMP:20260426T134723
CREATED:20190820T031837Z
LAST-MODIFIED:20230214T072628Z
UID:10002393-1675468800-1675555199@hoeymoey.com.au
SUMMARY:Saturday Seafood!
DESCRIPTION:On Saturdays\, you can enjoy fish and chips with salad\, lemon and tartare sauce for just $16 for members or $19.50 for non members! \nPlus there are premium blackboard upgrades.
URL:https://hoeymoey.com.au/event/saturday-seafood/2023-02-04/
LOCATION:The Hoey Moey\, 84 Ocean Parade\, Coffs Harbour\, NSW\, 2450\, Australia
CATEGORIES:Meal Deal,Whats On
ATTACH;FMTTYPE=image/jpeg:https://hoeymoey.com.au/wp-content/uploads/2019/08/HM_NewDailyFeeds_NOV2022_WEB5.jpg
END:VEVENT
BEGIN:VEVENT
DTSTART;TZID=Australia/Sydney:20230203T203000
DTEND;TZID=Australia/Sydney:20230203T230000
DTSTAMP:20260426T134723
CREATED:20221215T091844Z
LAST-MODIFIED:20221215T091844Z
UID:10000937-1675456200-1675465200@hoeymoey.com.au
SUMMARY:DJ Danger Waves!
DESCRIPTION:It is time to hit the dance floor with DJ Danger Waves spinning tunes to late!
URL:https://hoeymoey.com.au/event/dj-danger-waves-30223/
LOCATION:The Hoey Moey\, 84 Ocean Parade\, Coffs Harbour\, NSW\, 2450\, Australia
CATEGORIES:Entertainment
ATTACH;FMTTYPE=image/jpeg:https://hoeymoey.com.au/wp-content/uploads/2019/08/DJ-at-the-Hoey-Moey-beer-garden-Coffs-Harbour.jpeg
END:VEVENT
BEGIN:VEVENT
DTSTART;VALUE=DATE:20230203
DTEND;VALUE=DATE:20230204
DTSTAMP:20260426T134723
CREATED:20190815T234137Z
LAST-MODIFIED:20230214T073012Z
UID:10000892-1675382400-1675468799@hoeymoey.com.au
SUMMARY:Friday offer - $16 Friday Steak Fest!*
DESCRIPTION:On Fridays at the Hoey Moey\, you can enjoy a 200 gram rump steak\, chips and salad for just $16 for members or $19.50 for non members! \nPlus get premium blackboard upgrades.
URL:https://hoeymoey.com.au/event/friday-steak-fest/2023-02-03/
LOCATION:The Hoey Moey\, 84 Ocean Parade\, Coffs Harbour\, NSW\, 2450\, Australia
CATEGORIES:Meal Deal,Whats On
ATTACH;FMTTYPE=image/jpeg:https://hoeymoey.com.au/wp-content/uploads/2019/08/HM_NewDailyFeeds_NOV2022_WEB4.jpg
END:VEVENT
BEGIN:VEVENT
DTSTART;TZID=Australia/Melbourne:20230202T180000
DTEND;TZID=Australia/Melbourne:20230202T210000
DTSTAMP:20260426T134723
CREATED:20221216T002027Z
LAST-MODIFIED:20221216T002027Z
UID:10003233-1675360800-1675371600@hoeymoey.com.au
SUMMARY:Live music with Mitch Burgess!
DESCRIPTION:Mitch Burgess will be playing live at the Hoey Moey beer garden! \nMitch Burgess is a solo musician with a very fond admiration for the blues. Featured in his set are some well known blues classics as well as a collection of more popular songs. Acoustic guitar\, vocals and the occasional harmonica are all used within Mitch’s performance.
URL:https://hoeymoey.com.au/event/live-music-with-mitch-burgess-20223/
LOCATION:The Hoey Moey\, 84 Ocean Parade\, Coffs Harbour\, NSW\, 2450\, Australia
CATEGORIES:Entertainment
ATTACH;FMTTYPE=image/png:https://hoeymoey.com.au/wp-content/uploads/2019/10/Mitch-burgess-live-music-Hoey-Moey-Pub-and-Hotel-Coffs-Harbour.png
END:VEVENT
BEGIN:VEVENT
DTSTART;VALUE=DATE:20230202
DTEND;VALUE=DATE:20230203
DTSTAMP:20260426T134723
CREATED:20190820T031634Z
LAST-MODIFIED:20230214T073522Z
UID:10002340-1675296000-1675382399@hoeymoey.com.au
SUMMARY:Thursday Offer - $16 Chicken Parmi!*
DESCRIPTION:On Thursdays\, you can enjoy a chicken parmi\, with chips and salad for just $16 for members! \n* $19.50 for non members. \nSupersize it and get an additional parmi for $6.50!
URL:https://hoeymoey.com.au/event/thursday-chicken-parmi/2023-02-02/
LOCATION:The Hoey Moey\, 84 Ocean Parade\, Coffs Harbour\, NSW\, 2450\, Australia
CATEGORIES:Meal Deal,Whats On
ATTACH;FMTTYPE=image/jpeg:https://hoeymoey.com.au/wp-content/uploads/2019/08/HM_NewDailyFeeds_NOV2022_WEB3.jpg
END:VEVENT
BEGIN:VEVENT
DTSTART;TZID=Australia/Sydney:20230201T180000
DTEND;TZID=Australia/Sydney:20230201T210000
DTSTAMP:20260426T134724
CREATED:20221215T231856Z
LAST-MODIFIED:20221215T231856Z
UID:10001194-1675274400-1675285200@hoeymoey.com.au
SUMMARY:Live music Wednesday with Nathan Beretta!
DESCRIPTION:Nathan Beretta has made his mark in the Australian blues scene with multiple award winning blues band Blue Eyes Cry. Touring and playing just about every Blues festival and venue in the country Nathan has earned respect from blues lover’s all over. \nNathan has shared the stage with many Australian Legends such as Robert Susz ( Mighty Reapers) Shane Pacey ( Bondi Cigars)\, Geoff Achison \, Lloyd Spiegel \, and Chris Wilson just to name a few. When it comes to festivals Nathan has performed though out Australia opening up for international acts such as\, Anne Popovich\, Jon Cleary\, and Joe Louis Walker. \nGrowing up with Blues jazz and soul in the household\, Nathan has brought his own unique style to the table. Influenced by artist such as Ronnie Earl\, Albert Collins\, Guy King and Jimmie Vaughn Nathan plays from the soul with an “all killer no filler” approach. Nathans first band Blue Eyes cry was signed to Australia’s premier record company Black Market Music\, Nathan manage to hit no 1 on the Australian Blues and Roots Charts in the year of 2015\, also winning best new Talent at the Chain awards the same year. In 2019 Nathan topped the charts again with his debut release “Where I Belong”. \nNathan Beretta is an act not to be missed if Fender guitar Tones and a traditional feel is your thing!
URL:https://hoeymoey.com.au/event/live-music-wednesday-with-nathan-beretta-10223/
LOCATION:The Hoey Moey\, 84 Ocean Parade\, Coffs Harbour\, NSW\, 2450\, Australia
CATEGORIES:Entertainment
ATTACH;FMTTYPE=image/jpeg:https://hoeymoey.com.au/wp-content/uploads/2022/12/Nathan-Beretta-live-music-Coffs-Harbour-Hoey-Moey-e1679362308356.jpg
END:VEVENT
BEGIN:VEVENT
DTSTART;VALUE=DATE:20230201
DTEND;VALUE=DATE:20230202
DTSTAMP:20260426T134724
CREATED:20190820T030800Z
LAST-MODIFIED:20230321T022622Z
UID:10002204-1675209600-1675295999@hoeymoey.com.au
SUMMARY:Wednesday Offer - $16 Chicken Schnitzel!*
DESCRIPTION:On Wednesdays\, members can enjoy a chicken schnitzel served with chips\, fresh salad and gravy for $16. \n* $19.50 for non members. \nPlus\, get premium topper blackboard upgrades!
URL:https://hoeymoey.com.au/event/wednesday-members-chicken-schnitzel/2023-02-01/
LOCATION:The Hoey Moey\, 84 Ocean Parade\, Coffs Harbour\, NSW\, 2450\, Australia
CATEGORIES:Meal Deal
ATTACH;FMTTYPE=image/jpeg:https://hoeymoey.com.au/wp-content/uploads/2019/08/HM_NewDailyFeeds_NOV2022_WEB2.jpg
END:VEVENT
BEGIN:VEVENT
DTSTART;TZID=Australia/Sydney:20230131T190000
DTEND;TZID=Australia/Sydney:20230131T190000
DTSTAMP:20260426T134724
CREATED:20220207T114253Z
LAST-MODIFIED:20221018T045338Z
UID:10000878-1675191600-1675191600@hoeymoey.com.au
SUMMARY:Pinball Comp!
DESCRIPTION:Join us on Tuesdays for a Pinball comp from 7pm!
URL:https://hoeymoey.com.au/event/pinball/2023-01-31/
LOCATION:The Hoey Moey\, 84 Ocean Parade\, Coffs Harbour\, NSW\, 2450\, Australia
CATEGORIES:Entertainment
ATTACH;FMTTYPE=image/jpeg:https://hoeymoey.com.au/wp-content/uploads/2022/02/HM_TuesdayPinballComp_2022_WEB.jpg
END:VEVENT
BEGIN:VEVENT
DTSTART;TZID=Australia/Sydney:20230131T180000
DTEND;TZID=Australia/Sydney:20230131T180000
DTSTAMP:20260426T134724
CREATED:20220814T092552Z
LAST-MODIFIED:20230317T043332Z
UID:10001100-1675188000-1675188000@hoeymoey.com.au
SUMMARY:Musical Bingo!
DESCRIPTION:Join us for a fun night of Musical Bingo every Tuesday night from 6pm! \nIt’ll be heaps of fun\, with music galore\, and prizes to be won!
URL:https://hoeymoey.com.au/event/musical-bingo-2/2023-01-31/
LOCATION:The Hoey Moey\, 84 Ocean Parade\, Coffs Harbour\, NSW\, 2450\, Australia
CATEGORIES:Entertainment
ATTACH;FMTTYPE=image/jpeg:https://hoeymoey.com.au/wp-content/uploads/2022/08/HM_MusicalBingo_SEPT2022_WEB.jpg
END:VEVENT
BEGIN:VEVENT
DTSTART;TZID=Australia/Sydney:20230130T183000
DTEND;TZID=Australia/Sydney:20230304T183000
DTSTAMP:20260426T134724
CREATED:20220210T225041Z
LAST-MODIFIED:20230508T054726Z
UID:10000481-1675103400-1677954600@hoeymoey.com.au
SUMMARY:Trivia Mondays
DESCRIPTION:Brainiacs unite for Trivia on Monday Nights at the Hoey Moey! \nIt is from 6.30pm with great prizes to be won.
URL:https://hoeymoey.com.au/event/trivia-mondays/2023-01-30/
LOCATION:The Hoey Moey\, 84 Ocean Parade\, Coffs Harbour\, NSW\, 2450\, Australia
CATEGORIES:Entertainment
ATTACH;FMTTYPE=image/jpeg:https://hoeymoey.com.au/wp-content/uploads/2022/02/HM_TriviaMondays_FEB2022_WEB.jpg
END:VEVENT
BEGIN:VEVENT
DTSTART;VALUE=DATE:20230130
DTEND;VALUE=DATE:20230131
DTSTAMP:20260426T134724
CREATED:20220427T005548Z
LAST-MODIFIED:20221215T075933Z
UID:10002606-1675036800-1675123199@hoeymoey.com.au
SUMMARY:Monday Madness!
DESCRIPTION:It’s Monday Madness! \nEnjoy our mystery Monday dish for just $14.50 for members or $19 for non members! \nSee the blackboard for today’s selection.
URL:https://hoeymoey.com.au/event/monday-madness/2023-01-30/
LOCATION:The Hoey Moey\, 84 Ocean Parade\, Coffs Harbour\, NSW\, 2450\, Australia
CATEGORIES:Meal Deal,Whats On
ATTACH;FMTTYPE=image/jpeg:https://hoeymoey.com.au/wp-content/uploads/2022/04/HM_NewDailyFeeds_2022_WEB.jpg
END:VEVENT
BEGIN:VEVENT
DTSTART;TZID=Australia/Sydney:20230129T160000
DTEND;TZID=Australia/Sydney:20230129T193000
DTSTAMP:20260426T134724
CREATED:20230125T080032Z
LAST-MODIFIED:20230125T080032Z
UID:10003202-1675008000-1675020600@hoeymoey.com.au
SUMMARY:Live music with Greenstone!
DESCRIPTION:Enjoy a Sunday Session with live music from Greenstone!
URL:https://hoeymoey.com.au/event/live-music-with-greenstone/
CATEGORIES:Entertainment
ATTACH;FMTTYPE=image/jpeg:https://hoeymoey.com.au/wp-content/uploads/2023/01/Greenstone.jpg
END:VEVENT
BEGIN:VEVENT
DTSTART;VALUE=DATE:20230129
DTEND;VALUE=DATE:20230130
DTSTAMP:20260426T134724
CREATED:20221102T013157Z
LAST-MODIFIED:20230214T072545Z
UID:10001139-1674950400-1675036799@hoeymoey.com.au
SUMMARY:Super Sunday Cutlets!
DESCRIPTION:On Sundays\, enjoy crumbed lamb cutlets served with chips\, salad and gravy for just $16 for members or $19.50 for non members!
URL:https://hoeymoey.com.au/event/super-sunday-cutlets/2023-01-29/
LOCATION:The Hoey Moey\, 84 Ocean Parade\, Coffs Harbour\, NSW\, 2450\, Australia
CATEGORIES:Meal Deal,Whats On
ATTACH;FMTTYPE=image/jpeg:https://hoeymoey.com.au/wp-content/uploads/2022/11/HM_NewDailyFeeds_NOV2022_WEB6.jpg
END:VEVENT
BEGIN:VEVENT
DTSTART;TZID=Australia/Sydney:20230128T210000
DTEND;TZID=Australia/Sydney:20230128T230000
DTSTAMP:20260426T134724
CREATED:20221215T230011Z
LAST-MODIFIED:20221215T230011Z
UID:10000753-1674939600-1674946800@hoeymoey.com.au
SUMMARY:DJ Salty
DESCRIPTION:It is time to hit the dance floor with DJ Salty spinning tunes to late!
URL:https://hoeymoey.com.au/event/dj-salty-280123/
LOCATION:The Hoey Moey\, 84 Ocean Parade\, Coffs Harbour\, NSW\, 2450\, Australia
CATEGORIES:Entertainment
ATTACH;FMTTYPE=image/jpeg:https://hoeymoey.com.au/wp-content/uploads/2019/08/DJ-at-the-Hoey-Moey-beer-garden-Coffs-Harbour.jpeg
END:VEVENT
BEGIN:VEVENT
DTSTART;TZID=Australia/Sydney:20230128T180000
DTEND;TZID=Australia/Sydney:20230128T180000
DTSTAMP:20260426T134724
CREATED:20221228T003737Z
LAST-MODIFIED:20230117T051901Z
UID:10002427-1674928800-1674928800@hoeymoey.com.au
SUMMARY:Dune Rats!
DESCRIPTION:Dune Rats are live at The Hoey Moey on January 28th! \nGet your tickets now for the biggest Hottest 100 party Coffs Harbour has ever seen: \nhttps://hoeymoey.oztix.com.au/outlet/event/67939b54-b2ee-4c9f-b27a-9293a3ec9b4d \nThere’s a lot going on for Dune Rats right now. New album Real Rare Whale\, landed the No.1 Australian ARIA position and was been nominated for Best Hard Rock/ Metal album. Shows are back\, with a huge sold out 1800 seater Sunshine Coast headliner in November\, massive Aussie festival plays at Rolling Sets and Castaway and a 45 show international tour announced for early next year. \nFresh from the Triple J studios where Dunies pulled together a cast of stars (including John & Rick Brewster from The Angels) to cover The Angels – Am I Ever Gonna See Your Face Again\, they are hungrier than ever to keep the live moments rolling. What better way than to celebrate than a massive show at the Hoey Moey\, Coffs Harbour – a town very close to Dunies hearts – as Triple J’s Hottest 100 counts down on Saturday January 28th! \n‘It’s the first time since the band started that I’ve been able to play in my hometown of Coffs Harbour which means a lot to me. It’s where I grew up playing music and where I guess you’d say the soul of Dune Rats began. I can’t wait to see my family and friends at the Hoey Moey\, Coffs’s most iconic venue!’ – Danny/ Dune Rats
URL:https://hoeymoey.com.au/event/dune-rats/
LOCATION:The Hoey Moey\, 84 Ocean Parade\, Coffs Harbour\, NSW\, 2450\, Australia
CATEGORIES:Entertainment,Ticketed Entertainment
ATTACH;FMTTYPE=image/jpeg:https://hoeymoey.com.au/wp-content/uploads/2022/12/HM_DuneRats_JAN2023_WEB.jpg
END:VEVENT
BEGIN:VEVENT
DTSTART;VALUE=DATE:20230128
DTEND;VALUE=DATE:20230129
DTSTAMP:20260426T134724
CREATED:20190820T031837Z
LAST-MODIFIED:20230214T072628Z
UID:10002392-1674864000-1674950399@hoeymoey.com.au
SUMMARY:Saturday Seafood!
DESCRIPTION:On Saturdays\, you can enjoy fish and chips with salad\, lemon and tartare sauce for just $16 for members or $19.50 for non members! \nPlus there are premium blackboard upgrades.
URL:https://hoeymoey.com.au/event/saturday-seafood/2023-01-28/
LOCATION:The Hoey Moey\, 84 Ocean Parade\, Coffs Harbour\, NSW\, 2450\, Australia
CATEGORIES:Meal Deal,Whats On
ATTACH;FMTTYPE=image/jpeg:https://hoeymoey.com.au/wp-content/uploads/2019/08/HM_NewDailyFeeds_NOV2022_WEB5.jpg
END:VEVENT
BEGIN:VEVENT
DTSTART;TZID=Australia/Sydney:20230127T203000
DTEND;TZID=Australia/Sydney:20230127T230000
DTSTAMP:20260426T134724
CREATED:20221215T225852Z
LAST-MODIFIED:20221215T225852Z
UID:10003006-1674851400-1674860400@hoeymoey.com.au
SUMMARY:DJ Panda!
DESCRIPTION:It is time to hit the dance floor with DJ Panda spinning tunes to late!
URL:https://hoeymoey.com.au/event/dj-ibex-switch-270123/
LOCATION:The Hoey Moey\, 84 Ocean Parade\, Coffs Harbour\, NSW\, 2450\, Australia
CATEGORIES:Entertainment
ATTACH;FMTTYPE=image/jpeg:https://hoeymoey.com.au/wp-content/uploads/2019/08/DJ-at-the-Hoey-Moey-beer-garden-Coffs-Harbour.jpeg
END:VEVENT
BEGIN:VEVENT
DTSTART;TZID=Australia/Sydney:20230127T170000
DTEND;TZID=Australia/Sydney:20230127T200000
DTSTAMP:20260426T134724
CREATED:20220809T094102Z
LAST-MODIFIED:20221216T002319Z
UID:10003224-1674838800-1674849600@hoeymoey.com.au
SUMMARY:Live music with Billie-Jo Porter!
DESCRIPTION:For country girl Billie-Jo Porter the journey into music has been a natural one. Neighbouring the nation’s country music capital Tamworth\, it seems appropriate that Billie-Jo felt drawn to country music. \nBillie-Jo is no stranger to songwriting success. She co-wrote ‘Head Full of Honey’ with Andrew Swift\, which peaked at No.7 on The Music Network’s Hot 50 airplay charts. Prior to this\, Billie-Jo cut her teeth supporting artists including Hussy Hicks\, Gretta Ziller & Riley Catherall and has frequented festivals including Tamworth Country Music Festival and Bello Winter Music Festival\, delighting audiences and generating a strong industry buzz. \nHer rising success captured the attention of multiple Golden Guitar and Aria Award winner Shane Nicholson\, who produced her latest releases at The Sound Hole studios on The Central Coast. \nBillie-Jo’s debut single ‘Feels Like Us’ an upbeat\, heart-warming love song co-written with Andrew Blyth at the Dag Sheep Station Songwriters Retreat debut at No.2 on the Itunes Singer/Songwriter chart\, No.1 on AMRAP Regional Chart\, No.15 on The Countrytown Music Network Chart and reached the dizzy heights of No.2 on Tamworth own 2TM’s Australian Country Music Chart. \nBillie-Jo’s follow up single ‘Eyes Wide Open’ is a happy beach-boho\, live-and-let-live anthem that will make you want to take off your shoes and enjoy the sunshine with friends. \nNow living on the North Coast of NSW\, Billie-Jo Porter offers a unique sound by infusing a laid back beach lifestyle and her country roots. With her sentimental and energetic song writing\, Billie-Jo Porter is a fresh talent ascending new heights\, sprinkling joy into the ears of her listeners\, taking them on a high spirited journey of delight\, music and love.
URL:https://hoeymoey.com.au/event/live-music-with-billie-jo-porter-270123/
LOCATION:The Hoey Moey\, 84 Ocean Parade\, Coffs Harbour\, NSW\, 2450\, Australia
CATEGORIES:Entertainment
ATTACH;FMTTYPE=image/jpeg:https://hoeymoey.com.au/wp-content/uploads/2022/01/MG_2358-2-smaller-e1642550675502.jpg
END:VEVENT
BEGIN:VEVENT
DTSTART;VALUE=DATE:20230127
DTEND;VALUE=DATE:20230128
DTSTAMP:20260426T134724
CREATED:20190815T234137Z
LAST-MODIFIED:20230214T073012Z
UID:10000891-1674777600-1674863999@hoeymoey.com.au
SUMMARY:Friday offer - $16 Friday Steak Fest!*
DESCRIPTION:On Fridays at the Hoey Moey\, you can enjoy a 200 gram rump steak\, chips and salad for just $16 for members or $19.50 for non members! \nPlus get premium blackboard upgrades.
URL:https://hoeymoey.com.au/event/friday-steak-fest/2023-01-27/
LOCATION:The Hoey Moey\, 84 Ocean Parade\, Coffs Harbour\, NSW\, 2450\, Australia
CATEGORIES:Meal Deal,Whats On
ATTACH;FMTTYPE=image/jpeg:https://hoeymoey.com.au/wp-content/uploads/2019/08/HM_NewDailyFeeds_NOV2022_WEB4.jpg
END:VEVENT
END:VCALENDAR