BEGIN:VCALENDAR
VERSION:2.0
PRODID:-//Hoey Moey - ECPv6.3.3.1//NONSGML v1.0//EN
CALSCALE:GREGORIAN
METHOD:PUBLISH
X-WR-CALNAME:Hoey Moey
X-ORIGINAL-URL:https://hoeymoey.com.au
X-WR-CALDESC:Events for Hoey Moey
REFRESH-INTERVAL;VALUE=DURATION:PT1H
X-Robots-Tag:noindex
X-PUBLISHED-TTL:PT1H
BEGIN:VTIMEZONE
TZID:Australia/Sydney
BEGIN:STANDARD
TZOFFSETFROM:+1100
TZOFFSETTO:+1000
TZNAME:AEST
DTSTART:20270403T160000
END:STANDARD
BEGIN:DAYLIGHT
TZOFFSETFROM:+1000
TZOFFSETTO:+1100
TZNAME:AEDT
DTSTART:20271002T160000
END:DAYLIGHT
END:VTIMEZONE
BEGIN:VEVENT
DTSTART;TZID=Australia/Sydney:20270527T183000
DTEND;TZID=Australia/Sydney:20270527T223000
DTSTAMP:20260423T130134
CREATED:20250908T020056Z
LAST-MODIFIED:20250908T020057Z
UID:10007210-1811442600-1811457000@hoeymoey.com.au
SUMMARY:Byron Bay Premium Lager's Thursday Pool Comp!
DESCRIPTION:Thursday Night Pool Comp – Don’t Miss Out!\nRain or shine\, the game is on! Come down and show off your skills at our weekly pool competition every Thursday night. \n🕢 Sign-up from 6:30pm | Comp starts at 7pm sharp\n💵 Just $5 to enter\n🏆 $100 Guaranteed Cash Prize for the winner\n🍻 5 Drink Tickets for the runner-up!\n*$10 Re-buy if available \nWhether you’re a seasoned player or just in it for fun\, it’s a great night out. Grab your cue and join us! \nRules of Play as per sign posted within the venue. Management decision is final.
URL:https://hoeymoey.com.au/event/pool-comp-2-2-2/2027-05-27/
LOCATION:The Hoey Moey\, 84 Ocean Parade\, Coffs Harbour\, NSW\, 2450\, Australia
CATEGORIES:Entertainment,Whats On
ATTACH;FMTTYPE=image/jpeg:https://hoeymoey.com.au/wp-content/uploads/2025/05/HM_ByronBayLagerThursdayPoolComp_SEP2025_WEB.jpg
END:VEVENT
BEGIN:VEVENT
DTSTART;TZID=Australia/Sydney:20270531T183000
DTEND;TZID=Australia/Sydney:20270531T203000
DTSTAMP:20260423T130134
CREATED:20240708T234319Z
LAST-MODIFIED:20250908T015855Z
UID:10005134-1811788200-1811795400@hoeymoey.com.au
SUMMARY:Trivia Mondays
DESCRIPTION:Brainiacs unite for Trivia on Monday Nights at the Hoey Moey! \nIt is from 6.30pm with great prizes to be won.
URL:https://hoeymoey.com.au/event/trivia-mondays-2-2-2/2027-05-31/
LOCATION:The Hoey Moey\, 84 Ocean Parade\, Coffs Harbour\, NSW\, 2450\, Australia
CATEGORIES:Entertainment,Whats On
ATTACH;FMTTYPE=image/jpeg:https://hoeymoey.com.au/wp-content/uploads/2024/07/HM_TriviaMondays_2025_WEB_GENERIC-1.jpg
END:VEVENT
BEGIN:VEVENT
DTSTART;TZID=Australia/Sydney:20270601T180000
DTEND;TZID=Australia/Sydney:20270601T180000
DTSTAMP:20260423T130134
CREATED:20230918T000604Z
LAST-MODIFIED:20251007T045542Z
UID:10005402-1811872800-1811872800@hoeymoey.com.au
SUMMARY:Musical Bingo!
DESCRIPTION:Join us for a fun night of Musical Bingo every Tuesday night from 6pm! \nIt’ll be heaps of fun\, with music galore\, and prizes to be won!
URL:https://hoeymoey.com.au/event/musical-bingo-2-2-2/2027-06-01/
LOCATION:The Hoey Moey\, 84 Ocean Parade\, Coffs Harbour\, NSW\, 2450\, Australia
CATEGORIES:Entertainment,Whats On
ATTACH;FMTTYPE=image/jpeg:https://hoeymoey.com.au/wp-content/uploads/2023/09/HM_MusicalBingo_APR2025_WEB.jpg
END:VEVENT
BEGIN:VEVENT
DTSTART;TZID=Australia/Sydney:20270601T193000
DTEND;TZID=Australia/Sydney:20270601T223000
DTSTAMP:20260423T130134
CREATED:20250522T030538Z
LAST-MODIFIED:20250522T032157Z
UID:10006606-1811878200-1811889000@hoeymoey.com.au
SUMMARY:Byron Bay Premium Lager's Tuesday Pinball Comp!
DESCRIPTION:Join us on Tuesdays for our popular Pinball Comp (register from 7.30pm) with great prizes on offer! \nThis event is proudly sponsored by Byron Bay Premium Lager!
URL:https://hoeymoey.com.au/event/pinball-comp-2-2-2/2027-06-01/
LOCATION:The Hoey Moey\, 84 Ocean Parade\, Coffs Harbour\, NSW\, 2450\, Australia
CATEGORIES:Entertainment,Whats On
ATTACH;FMTTYPE=image/jpeg:https://hoeymoey.com.au/wp-content/uploads/2023/07/Pinball-Competition-Hoey-Moey-Park-Beach-Hotel-Motel-Pub-Bar-Accommodation-Bistro-Restaurant-Coffs-Harbour-Coffs-Coast-Mid-North-Coast.jpg
END:VEVENT
BEGIN:VEVENT
DTSTART;TZID=Australia/Sydney:20270602T180000
DTEND;TZID=Australia/Sydney:20270602T190000
DTSTAMP:20260423T130134
CREATED:20260316T233920Z
LAST-MODIFIED:20260331T011139Z
UID:10008342-1811959200-1811962800@hoeymoey.com.au
SUMMARY:Snake Eyes Dice Game every Wednesday!
DESCRIPTION:SNAKE EYES DICE GAME WEDNESDAYS \n\n$50 increase per week\, capped at $500\nDouble one for the grand prize\nDoubles for the below receive:2 – Jug of Hahn or 3.5\n3 – Pizza voucher\n4 – Pint of Hahn or 3.5\n5 – Schooner of Hahn or 3.5\n6 – Mystery prize*Conditions apply – see staff for more details.
URL:https://hoeymoey.com.au/event/snake-eyes-dice-game-every-wednesday/2027-06-02/
CATEGORIES:Entertainment,Weekly Events,Whats On
ATTACH;FMTTYPE=image/jpeg:https://hoeymoey.com.au/wp-content/uploads/2026/03/HM_SnakeEyesDiceGame_MAR2026_WEB.jpg
END:VEVENT
BEGIN:VEVENT
DTSTART;TZID=Australia/Sydney:20270602T183000
DTEND;TZID=Australia/Sydney:20270602T213000
DTSTAMP:20260423T130134
CREATED:20260312T231316Z
LAST-MODIFIED:20260331T043516Z
UID:10007557-1811961000-1811971800@hoeymoey.com.au
SUMMARY:Local Grown Open Mic Night!
DESCRIPTION:LOCAL GROWN OPEN MIC NIGHT – The Next Wave of Coffs Coast Talent!\nEvery Wednesday from 6:30pm – 9:30pm\nThe Hoey Moey\, Coffs Harbour  \n The Stage is Yours!  \nBuilding on the massive energy of Coastal Grown\, we are launching a brand-new weekly residency dedicated to the next generation of local legends. \nLocal Grown is more than an open mic it’s a platform for school-aged musicians\, emerging bands\, and solo artists to own the stage in an all-ages\, inclusive environment. Hosted by Dillon Wrigley \nSupport local: Catch the bands we’ve been nurturing over the years as they take their music to the next level.\n• All Ages Welcome: A safe\, inclusive space for youth to perform and for fans of all ages to enjoy.\n• Weekly Vibe: Make Wednesday nights at the Hoey your new mid-week ritual. \nImportant info for attendees:\n• Under 18s are welcome but must be accompanied by a parent or guardian over 25 in accordance with venue policy.\n• Artists & Bands: Ready to play? Come along and sign up on the night. Let’s grow the scene together.
URL:https://hoeymoey.com.au/event/local-grown-open-mic-night/2027-06-02/
CATEGORIES:Entertainment,Whats On
ATTACH;FMTTYPE=image/jpeg:https://hoeymoey.com.au/wp-content/uploads/2026/03/HM_LocalGrownOpenMicNight_APR2026_WEB2.jpg
END:VEVENT
BEGIN:VEVENT
DTSTART;TZID=Australia/Sydney:20270603T120000
DTEND;TZID=Australia/Sydney:20270603T190000
DTSTAMP:20260423T130134
CREATED:20260316T233247Z
LAST-MODIFIED:20260331T011229Z
UID:10007822-1812024000-1812049200@hoeymoey.com.au
SUMMARY:Joker Poker Jackpot Thursdays is Back!
DESCRIPTION:JOKER POKER JACKPOT THURSDAYS \n\nJackpot starts at $2000. Increases by a minimum of $100 per week with raffle proceeds boosting jackpot increases pending sales.\nEvery Thursday from 26th March\, 2026.\nProceeds to Hoey Moey Community Fund. Raffle from 6pm\, drawn approx 7pm.\n*Conditions apply – see staff for more details.
URL:https://hoeymoey.com.au/event/joker-poker-jackpot-thursdays-is-back/2027-06-03/
CATEGORIES:Entertainment,Weekly Events,Whats On
ATTACH;FMTTYPE=image/jpeg:https://hoeymoey.com.au/wp-content/uploads/2026/03/HM_JokerPokerThursdays_2026_WEB-1.jpg
END:VEVENT
BEGIN:VEVENT
DTSTART;TZID=Australia/Sydney:20270603T183000
DTEND;TZID=Australia/Sydney:20270603T223000
DTSTAMP:20260423T130134
CREATED:20250908T020056Z
LAST-MODIFIED:20250908T020057Z
UID:10007211-1812047400-1812061800@hoeymoey.com.au
SUMMARY:Byron Bay Premium Lager's Thursday Pool Comp!
DESCRIPTION:Thursday Night Pool Comp – Don’t Miss Out!\nRain or shine\, the game is on! Come down and show off your skills at our weekly pool competition every Thursday night. \n🕢 Sign-up from 6:30pm | Comp starts at 7pm sharp\n💵 Just $5 to enter\n🏆 $100 Guaranteed Cash Prize for the winner\n🍻 5 Drink Tickets for the runner-up!\n*$10 Re-buy if available \nWhether you’re a seasoned player or just in it for fun\, it’s a great night out. Grab your cue and join us! \nRules of Play as per sign posted within the venue. Management decision is final.
URL:https://hoeymoey.com.au/event/pool-comp-2-2-2/2027-06-03/
LOCATION:The Hoey Moey\, 84 Ocean Parade\, Coffs Harbour\, NSW\, 2450\, Australia
CATEGORIES:Entertainment,Whats On
ATTACH;FMTTYPE=image/jpeg:https://hoeymoey.com.au/wp-content/uploads/2025/05/HM_ByronBayLagerThursdayPoolComp_SEP2025_WEB.jpg
END:VEVENT
BEGIN:VEVENT
DTSTART;TZID=Australia/Sydney:20270607T183000
DTEND;TZID=Australia/Sydney:20270607T203000
DTSTAMP:20260423T130134
CREATED:20240708T234319Z
LAST-MODIFIED:20250908T015855Z
UID:10005135-1812393000-1812400200@hoeymoey.com.au
SUMMARY:Trivia Mondays
DESCRIPTION:Brainiacs unite for Trivia on Monday Nights at the Hoey Moey! \nIt is from 6.30pm with great prizes to be won.
URL:https://hoeymoey.com.au/event/trivia-mondays-2-2-2/2027-06-07/
LOCATION:The Hoey Moey\, 84 Ocean Parade\, Coffs Harbour\, NSW\, 2450\, Australia
CATEGORIES:Entertainment,Whats On
ATTACH;FMTTYPE=image/jpeg:https://hoeymoey.com.au/wp-content/uploads/2024/07/HM_TriviaMondays_2025_WEB_GENERIC-1.jpg
END:VEVENT
BEGIN:VEVENT
DTSTART;TZID=Australia/Sydney:20270608T180000
DTEND;TZID=Australia/Sydney:20270608T180000
DTSTAMP:20260423T130134
CREATED:20230918T000604Z
LAST-MODIFIED:20251007T045542Z
UID:10005403-1812477600-1812477600@hoeymoey.com.au
SUMMARY:Musical Bingo!
DESCRIPTION:Join us for a fun night of Musical Bingo every Tuesday night from 6pm! \nIt’ll be heaps of fun\, with music galore\, and prizes to be won!
URL:https://hoeymoey.com.au/event/musical-bingo-2-2-2/2027-06-08/
LOCATION:The Hoey Moey\, 84 Ocean Parade\, Coffs Harbour\, NSW\, 2450\, Australia
CATEGORIES:Entertainment,Whats On
ATTACH;FMTTYPE=image/jpeg:https://hoeymoey.com.au/wp-content/uploads/2023/09/HM_MusicalBingo_APR2025_WEB.jpg
END:VEVENT
BEGIN:VEVENT
DTSTART;TZID=Australia/Sydney:20270608T193000
DTEND;TZID=Australia/Sydney:20270608T223000
DTSTAMP:20260423T130134
CREATED:20250522T030538Z
LAST-MODIFIED:20250522T032157Z
UID:10006607-1812483000-1812493800@hoeymoey.com.au
SUMMARY:Byron Bay Premium Lager's Tuesday Pinball Comp!
DESCRIPTION:Join us on Tuesdays for our popular Pinball Comp (register from 7.30pm) with great prizes on offer! \nThis event is proudly sponsored by Byron Bay Premium Lager!
URL:https://hoeymoey.com.au/event/pinball-comp-2-2-2/2027-06-08/
LOCATION:The Hoey Moey\, 84 Ocean Parade\, Coffs Harbour\, NSW\, 2450\, Australia
CATEGORIES:Entertainment,Whats On
ATTACH;FMTTYPE=image/jpeg:https://hoeymoey.com.au/wp-content/uploads/2023/07/Pinball-Competition-Hoey-Moey-Park-Beach-Hotel-Motel-Pub-Bar-Accommodation-Bistro-Restaurant-Coffs-Harbour-Coffs-Coast-Mid-North-Coast.jpg
END:VEVENT
BEGIN:VEVENT
DTSTART;TZID=Australia/Sydney:20270609T180000
DTEND;TZID=Australia/Sydney:20270609T190000
DTSTAMP:20260423T130134
CREATED:20260316T233920Z
LAST-MODIFIED:20260331T011139Z
UID:10008343-1812564000-1812567600@hoeymoey.com.au
SUMMARY:Snake Eyes Dice Game every Wednesday!
DESCRIPTION:SNAKE EYES DICE GAME WEDNESDAYS \n\n$50 increase per week\, capped at $500\nDouble one for the grand prize\nDoubles for the below receive:2 – Jug of Hahn or 3.5\n3 – Pizza voucher\n4 – Pint of Hahn or 3.5\n5 – Schooner of Hahn or 3.5\n6 – Mystery prize*Conditions apply – see staff for more details.
URL:https://hoeymoey.com.au/event/snake-eyes-dice-game-every-wednesday/2027-06-09/
CATEGORIES:Entertainment,Weekly Events,Whats On
ATTACH;FMTTYPE=image/jpeg:https://hoeymoey.com.au/wp-content/uploads/2026/03/HM_SnakeEyesDiceGame_MAR2026_WEB.jpg
END:VEVENT
BEGIN:VEVENT
DTSTART;TZID=Australia/Sydney:20270609T183000
DTEND;TZID=Australia/Sydney:20270609T213000
DTSTAMP:20260423T130134
CREATED:20260312T231316Z
LAST-MODIFIED:20260331T043516Z
UID:10007558-1812565800-1812576600@hoeymoey.com.au
SUMMARY:Local Grown Open Mic Night!
DESCRIPTION:LOCAL GROWN OPEN MIC NIGHT – The Next Wave of Coffs Coast Talent!\nEvery Wednesday from 6:30pm – 9:30pm\nThe Hoey Moey\, Coffs Harbour  \n The Stage is Yours!  \nBuilding on the massive energy of Coastal Grown\, we are launching a brand-new weekly residency dedicated to the next generation of local legends. \nLocal Grown is more than an open mic it’s a platform for school-aged musicians\, emerging bands\, and solo artists to own the stage in an all-ages\, inclusive environment. Hosted by Dillon Wrigley \nSupport local: Catch the bands we’ve been nurturing over the years as they take their music to the next level.\n• All Ages Welcome: A safe\, inclusive space for youth to perform and for fans of all ages to enjoy.\n• Weekly Vibe: Make Wednesday nights at the Hoey your new mid-week ritual. \nImportant info for attendees:\n• Under 18s are welcome but must be accompanied by a parent or guardian over 25 in accordance with venue policy.\n• Artists & Bands: Ready to play? Come along and sign up on the night. Let’s grow the scene together.
URL:https://hoeymoey.com.au/event/local-grown-open-mic-night/2027-06-09/
CATEGORIES:Entertainment,Whats On
ATTACH;FMTTYPE=image/jpeg:https://hoeymoey.com.au/wp-content/uploads/2026/03/HM_LocalGrownOpenMicNight_APR2026_WEB2.jpg
END:VEVENT
BEGIN:VEVENT
DTSTART;TZID=Australia/Sydney:20270610T120000
DTEND;TZID=Australia/Sydney:20270610T190000
DTSTAMP:20260423T130134
CREATED:20260316T233247Z
LAST-MODIFIED:20260331T011229Z
UID:10007823-1812628800-1812654000@hoeymoey.com.au
SUMMARY:Joker Poker Jackpot Thursdays is Back!
DESCRIPTION:JOKER POKER JACKPOT THURSDAYS \n\nJackpot starts at $2000. Increases by a minimum of $100 per week with raffle proceeds boosting jackpot increases pending sales.\nEvery Thursday from 26th March\, 2026.\nProceeds to Hoey Moey Community Fund. Raffle from 6pm\, drawn approx 7pm.\n*Conditions apply – see staff for more details.
URL:https://hoeymoey.com.au/event/joker-poker-jackpot-thursdays-is-back/2027-06-10/
CATEGORIES:Entertainment,Weekly Events,Whats On
ATTACH;FMTTYPE=image/jpeg:https://hoeymoey.com.au/wp-content/uploads/2026/03/HM_JokerPokerThursdays_2026_WEB-1.jpg
END:VEVENT
BEGIN:VEVENT
DTSTART;TZID=Australia/Sydney:20270610T183000
DTEND;TZID=Australia/Sydney:20270610T223000
DTSTAMP:20260423T130134
CREATED:20250908T020056Z
LAST-MODIFIED:20250908T020057Z
UID:10007212-1812652200-1812666600@hoeymoey.com.au
SUMMARY:Byron Bay Premium Lager's Thursday Pool Comp!
DESCRIPTION:Thursday Night Pool Comp – Don’t Miss Out!\nRain or shine\, the game is on! Come down and show off your skills at our weekly pool competition every Thursday night. \n🕢 Sign-up from 6:30pm | Comp starts at 7pm sharp\n💵 Just $5 to enter\n🏆 $100 Guaranteed Cash Prize for the winner\n🍻 5 Drink Tickets for the runner-up!\n*$10 Re-buy if available \nWhether you’re a seasoned player or just in it for fun\, it’s a great night out. Grab your cue and join us! \nRules of Play as per sign posted within the venue. Management decision is final.
URL:https://hoeymoey.com.au/event/pool-comp-2-2-2/2027-06-10/
LOCATION:The Hoey Moey\, 84 Ocean Parade\, Coffs Harbour\, NSW\, 2450\, Australia
CATEGORIES:Entertainment,Whats On
ATTACH;FMTTYPE=image/jpeg:https://hoeymoey.com.au/wp-content/uploads/2025/05/HM_ByronBayLagerThursdayPoolComp_SEP2025_WEB.jpg
END:VEVENT
BEGIN:VEVENT
DTSTART;TZID=Australia/Sydney:20270614T183000
DTEND;TZID=Australia/Sydney:20270614T203000
DTSTAMP:20260423T130134
CREATED:20240708T234319Z
LAST-MODIFIED:20250908T015855Z
UID:10005136-1812997800-1813005000@hoeymoey.com.au
SUMMARY:Trivia Mondays
DESCRIPTION:Brainiacs unite for Trivia on Monday Nights at the Hoey Moey! \nIt is from 6.30pm with great prizes to be won.
URL:https://hoeymoey.com.au/event/trivia-mondays-2-2-2/2027-06-14/
LOCATION:The Hoey Moey\, 84 Ocean Parade\, Coffs Harbour\, NSW\, 2450\, Australia
CATEGORIES:Entertainment,Whats On
ATTACH;FMTTYPE=image/jpeg:https://hoeymoey.com.au/wp-content/uploads/2024/07/HM_TriviaMondays_2025_WEB_GENERIC-1.jpg
END:VEVENT
BEGIN:VEVENT
DTSTART;TZID=Australia/Sydney:20270615T180000
DTEND;TZID=Australia/Sydney:20270615T180000
DTSTAMP:20260423T130134
CREATED:20230918T000604Z
LAST-MODIFIED:20251007T045542Z
UID:10005404-1813082400-1813082400@hoeymoey.com.au
SUMMARY:Musical Bingo!
DESCRIPTION:Join us for a fun night of Musical Bingo every Tuesday night from 6pm! \nIt’ll be heaps of fun\, with music galore\, and prizes to be won!
URL:https://hoeymoey.com.au/event/musical-bingo-2-2-2/2027-06-15/
LOCATION:The Hoey Moey\, 84 Ocean Parade\, Coffs Harbour\, NSW\, 2450\, Australia
CATEGORIES:Entertainment,Whats On
ATTACH;FMTTYPE=image/jpeg:https://hoeymoey.com.au/wp-content/uploads/2023/09/HM_MusicalBingo_APR2025_WEB.jpg
END:VEVENT
BEGIN:VEVENT
DTSTART;TZID=Australia/Sydney:20270615T193000
DTEND;TZID=Australia/Sydney:20270615T223000
DTSTAMP:20260423T130134
CREATED:20250522T030538Z
LAST-MODIFIED:20250522T032157Z
UID:10006608-1813087800-1813098600@hoeymoey.com.au
SUMMARY:Byron Bay Premium Lager's Tuesday Pinball Comp!
DESCRIPTION:Join us on Tuesdays for our popular Pinball Comp (register from 7.30pm) with great prizes on offer! \nThis event is proudly sponsored by Byron Bay Premium Lager!
URL:https://hoeymoey.com.au/event/pinball-comp-2-2-2/2027-06-15/
LOCATION:The Hoey Moey\, 84 Ocean Parade\, Coffs Harbour\, NSW\, 2450\, Australia
CATEGORIES:Entertainment,Whats On
ATTACH;FMTTYPE=image/jpeg:https://hoeymoey.com.au/wp-content/uploads/2023/07/Pinball-Competition-Hoey-Moey-Park-Beach-Hotel-Motel-Pub-Bar-Accommodation-Bistro-Restaurant-Coffs-Harbour-Coffs-Coast-Mid-North-Coast.jpg
END:VEVENT
BEGIN:VEVENT
DTSTART;TZID=Australia/Sydney:20270616T180000
DTEND;TZID=Australia/Sydney:20270616T190000
DTSTAMP:20260423T130135
CREATED:20260316T233920Z
LAST-MODIFIED:20260331T011139Z
UID:10008344-1813168800-1813172400@hoeymoey.com.au
SUMMARY:Snake Eyes Dice Game every Wednesday!
DESCRIPTION:SNAKE EYES DICE GAME WEDNESDAYS \n\n$50 increase per week\, capped at $500\nDouble one for the grand prize\nDoubles for the below receive:2 – Jug of Hahn or 3.5\n3 – Pizza voucher\n4 – Pint of Hahn or 3.5\n5 – Schooner of Hahn or 3.5\n6 – Mystery prize*Conditions apply – see staff for more details.
URL:https://hoeymoey.com.au/event/snake-eyes-dice-game-every-wednesday/2027-06-16/
CATEGORIES:Entertainment,Weekly Events,Whats On
ATTACH;FMTTYPE=image/jpeg:https://hoeymoey.com.au/wp-content/uploads/2026/03/HM_SnakeEyesDiceGame_MAR2026_WEB.jpg
END:VEVENT
BEGIN:VEVENT
DTSTART;TZID=Australia/Sydney:20270616T183000
DTEND;TZID=Australia/Sydney:20270616T213000
DTSTAMP:20260423T130135
CREATED:20260312T231316Z
LAST-MODIFIED:20260331T043516Z
UID:10007559-1813170600-1813181400@hoeymoey.com.au
SUMMARY:Local Grown Open Mic Night!
DESCRIPTION:LOCAL GROWN OPEN MIC NIGHT – The Next Wave of Coffs Coast Talent!\nEvery Wednesday from 6:30pm – 9:30pm\nThe Hoey Moey\, Coffs Harbour  \n The Stage is Yours!  \nBuilding on the massive energy of Coastal Grown\, we are launching a brand-new weekly residency dedicated to the next generation of local legends. \nLocal Grown is more than an open mic it’s a platform for school-aged musicians\, emerging bands\, and solo artists to own the stage in an all-ages\, inclusive environment. Hosted by Dillon Wrigley \nSupport local: Catch the bands we’ve been nurturing over the years as they take their music to the next level.\n• All Ages Welcome: A safe\, inclusive space for youth to perform and for fans of all ages to enjoy.\n• Weekly Vibe: Make Wednesday nights at the Hoey your new mid-week ritual. \nImportant info for attendees:\n• Under 18s are welcome but must be accompanied by a parent or guardian over 25 in accordance with venue policy.\n• Artists & Bands: Ready to play? Come along and sign up on the night. Let’s grow the scene together.
URL:https://hoeymoey.com.au/event/local-grown-open-mic-night/2027-06-16/
CATEGORIES:Entertainment,Whats On
ATTACH;FMTTYPE=image/jpeg:https://hoeymoey.com.au/wp-content/uploads/2026/03/HM_LocalGrownOpenMicNight_APR2026_WEB2.jpg
END:VEVENT
BEGIN:VEVENT
DTSTART;TZID=Australia/Sydney:20270617T120000
DTEND;TZID=Australia/Sydney:20270617T190000
DTSTAMP:20260423T130135
CREATED:20260316T233247Z
LAST-MODIFIED:20260331T011229Z
UID:10007824-1813233600-1813258800@hoeymoey.com.au
SUMMARY:Joker Poker Jackpot Thursdays is Back!
DESCRIPTION:JOKER POKER JACKPOT THURSDAYS \n\nJackpot starts at $2000. Increases by a minimum of $100 per week with raffle proceeds boosting jackpot increases pending sales.\nEvery Thursday from 26th March\, 2026.\nProceeds to Hoey Moey Community Fund. Raffle from 6pm\, drawn approx 7pm.\n*Conditions apply – see staff for more details.
URL:https://hoeymoey.com.au/event/joker-poker-jackpot-thursdays-is-back/2027-06-17/
CATEGORIES:Entertainment,Weekly Events,Whats On
ATTACH;FMTTYPE=image/jpeg:https://hoeymoey.com.au/wp-content/uploads/2026/03/HM_JokerPokerThursdays_2026_WEB-1.jpg
END:VEVENT
BEGIN:VEVENT
DTSTART;TZID=Australia/Sydney:20270617T183000
DTEND;TZID=Australia/Sydney:20270617T223000
DTSTAMP:20260423T130135
CREATED:20250908T020056Z
LAST-MODIFIED:20250908T020057Z
UID:10007213-1813257000-1813271400@hoeymoey.com.au
SUMMARY:Byron Bay Premium Lager's Thursday Pool Comp!
DESCRIPTION:Thursday Night Pool Comp – Don’t Miss Out!\nRain or shine\, the game is on! Come down and show off your skills at our weekly pool competition every Thursday night. \n🕢 Sign-up from 6:30pm | Comp starts at 7pm sharp\n💵 Just $5 to enter\n🏆 $100 Guaranteed Cash Prize for the winner\n🍻 5 Drink Tickets for the runner-up!\n*$10 Re-buy if available \nWhether you’re a seasoned player or just in it for fun\, it’s a great night out. Grab your cue and join us! \nRules of Play as per sign posted within the venue. Management decision is final.
URL:https://hoeymoey.com.au/event/pool-comp-2-2-2/2027-06-17/
LOCATION:The Hoey Moey\, 84 Ocean Parade\, Coffs Harbour\, NSW\, 2450\, Australia
CATEGORIES:Entertainment,Whats On
ATTACH;FMTTYPE=image/jpeg:https://hoeymoey.com.au/wp-content/uploads/2025/05/HM_ByronBayLagerThursdayPoolComp_SEP2025_WEB.jpg
END:VEVENT
BEGIN:VEVENT
DTSTART;TZID=Australia/Sydney:20270621T183000
DTEND;TZID=Australia/Sydney:20270621T203000
DTSTAMP:20260423T130135
CREATED:20240708T234319Z
LAST-MODIFIED:20250908T015855Z
UID:10005137-1813602600-1813609800@hoeymoey.com.au
SUMMARY:Trivia Mondays
DESCRIPTION:Brainiacs unite for Trivia on Monday Nights at the Hoey Moey! \nIt is from 6.30pm with great prizes to be won.
URL:https://hoeymoey.com.au/event/trivia-mondays-2-2-2/2027-06-21/
LOCATION:The Hoey Moey\, 84 Ocean Parade\, Coffs Harbour\, NSW\, 2450\, Australia
CATEGORIES:Entertainment,Whats On
ATTACH;FMTTYPE=image/jpeg:https://hoeymoey.com.au/wp-content/uploads/2024/07/HM_TriviaMondays_2025_WEB_GENERIC-1.jpg
END:VEVENT
BEGIN:VEVENT
DTSTART;TZID=Australia/Sydney:20270622T180000
DTEND;TZID=Australia/Sydney:20270622T180000
DTSTAMP:20260423T130135
CREATED:20230918T000604Z
LAST-MODIFIED:20251007T045542Z
UID:10005405-1813687200-1813687200@hoeymoey.com.au
SUMMARY:Musical Bingo!
DESCRIPTION:Join us for a fun night of Musical Bingo every Tuesday night from 6pm! \nIt’ll be heaps of fun\, with music galore\, and prizes to be won!
URL:https://hoeymoey.com.au/event/musical-bingo-2-2-2/2027-06-22/
LOCATION:The Hoey Moey\, 84 Ocean Parade\, Coffs Harbour\, NSW\, 2450\, Australia
CATEGORIES:Entertainment,Whats On
ATTACH;FMTTYPE=image/jpeg:https://hoeymoey.com.au/wp-content/uploads/2023/09/HM_MusicalBingo_APR2025_WEB.jpg
END:VEVENT
BEGIN:VEVENT
DTSTART;TZID=Australia/Sydney:20270622T193000
DTEND;TZID=Australia/Sydney:20270622T223000
DTSTAMP:20260423T130135
CREATED:20250522T030538Z
LAST-MODIFIED:20250522T032157Z
UID:10006609-1813692600-1813703400@hoeymoey.com.au
SUMMARY:Byron Bay Premium Lager's Tuesday Pinball Comp!
DESCRIPTION:Join us on Tuesdays for our popular Pinball Comp (register from 7.30pm) with great prizes on offer! \nThis event is proudly sponsored by Byron Bay Premium Lager!
URL:https://hoeymoey.com.au/event/pinball-comp-2-2-2/2027-06-22/
LOCATION:The Hoey Moey\, 84 Ocean Parade\, Coffs Harbour\, NSW\, 2450\, Australia
CATEGORIES:Entertainment,Whats On
ATTACH;FMTTYPE=image/jpeg:https://hoeymoey.com.au/wp-content/uploads/2023/07/Pinball-Competition-Hoey-Moey-Park-Beach-Hotel-Motel-Pub-Bar-Accommodation-Bistro-Restaurant-Coffs-Harbour-Coffs-Coast-Mid-North-Coast.jpg
END:VEVENT
BEGIN:VEVENT
DTSTART;TZID=Australia/Sydney:20270623T180000
DTEND;TZID=Australia/Sydney:20270623T190000
DTSTAMP:20260423T130135
CREATED:20260316T233920Z
LAST-MODIFIED:20260331T011139Z
UID:10008345-1813773600-1813777200@hoeymoey.com.au
SUMMARY:Snake Eyes Dice Game every Wednesday!
DESCRIPTION:SNAKE EYES DICE GAME WEDNESDAYS \n\n$50 increase per week\, capped at $500\nDouble one for the grand prize\nDoubles for the below receive:2 – Jug of Hahn or 3.5\n3 – Pizza voucher\n4 – Pint of Hahn or 3.5\n5 – Schooner of Hahn or 3.5\n6 – Mystery prize*Conditions apply – see staff for more details.
URL:https://hoeymoey.com.au/event/snake-eyes-dice-game-every-wednesday/2027-06-23/
CATEGORIES:Entertainment,Weekly Events,Whats On
ATTACH;FMTTYPE=image/jpeg:https://hoeymoey.com.au/wp-content/uploads/2026/03/HM_SnakeEyesDiceGame_MAR2026_WEB.jpg
END:VEVENT
BEGIN:VEVENT
DTSTART;TZID=Australia/Sydney:20270623T183000
DTEND;TZID=Australia/Sydney:20270623T213000
DTSTAMP:20260423T130135
CREATED:20260312T231316Z
LAST-MODIFIED:20260331T043516Z
UID:10007560-1813775400-1813786200@hoeymoey.com.au
SUMMARY:Local Grown Open Mic Night!
DESCRIPTION:LOCAL GROWN OPEN MIC NIGHT – The Next Wave of Coffs Coast Talent!\nEvery Wednesday from 6:30pm – 9:30pm\nThe Hoey Moey\, Coffs Harbour  \n The Stage is Yours!  \nBuilding on the massive energy of Coastal Grown\, we are launching a brand-new weekly residency dedicated to the next generation of local legends. \nLocal Grown is more than an open mic it’s a platform for school-aged musicians\, emerging bands\, and solo artists to own the stage in an all-ages\, inclusive environment. Hosted by Dillon Wrigley \nSupport local: Catch the bands we’ve been nurturing over the years as they take their music to the next level.\n• All Ages Welcome: A safe\, inclusive space for youth to perform and for fans of all ages to enjoy.\n• Weekly Vibe: Make Wednesday nights at the Hoey your new mid-week ritual. \nImportant info for attendees:\n• Under 18s are welcome but must be accompanied by a parent or guardian over 25 in accordance with venue policy.\n• Artists & Bands: Ready to play? Come along and sign up on the night. Let’s grow the scene together.
URL:https://hoeymoey.com.au/event/local-grown-open-mic-night/2027-06-23/
CATEGORIES:Entertainment,Whats On
ATTACH;FMTTYPE=image/jpeg:https://hoeymoey.com.au/wp-content/uploads/2026/03/HM_LocalGrownOpenMicNight_APR2026_WEB2.jpg
END:VEVENT
BEGIN:VEVENT
DTSTART;TZID=Australia/Sydney:20270624T120000
DTEND;TZID=Australia/Sydney:20270624T190000
DTSTAMP:20260423T130135
CREATED:20260316T233247Z
LAST-MODIFIED:20260331T011229Z
UID:10007825-1813838400-1813863600@hoeymoey.com.au
SUMMARY:Joker Poker Jackpot Thursdays is Back!
DESCRIPTION:JOKER POKER JACKPOT THURSDAYS \n\nJackpot starts at $2000. Increases by a minimum of $100 per week with raffle proceeds boosting jackpot increases pending sales.\nEvery Thursday from 26th March\, 2026.\nProceeds to Hoey Moey Community Fund. Raffle from 6pm\, drawn approx 7pm.\n*Conditions apply – see staff for more details.
URL:https://hoeymoey.com.au/event/joker-poker-jackpot-thursdays-is-back/2027-06-24/
CATEGORIES:Entertainment,Weekly Events,Whats On
ATTACH;FMTTYPE=image/jpeg:https://hoeymoey.com.au/wp-content/uploads/2026/03/HM_JokerPokerThursdays_2026_WEB-1.jpg
END:VEVENT
BEGIN:VEVENT
DTSTART;TZID=Australia/Sydney:20270624T183000
DTEND;TZID=Australia/Sydney:20270624T223000
DTSTAMP:20260423T130135
CREATED:20250908T020056Z
LAST-MODIFIED:20250908T020057Z
UID:10007214-1813861800-1813876200@hoeymoey.com.au
SUMMARY:Byron Bay Premium Lager's Thursday Pool Comp!
DESCRIPTION:Thursday Night Pool Comp – Don’t Miss Out!\nRain or shine\, the game is on! Come down and show off your skills at our weekly pool competition every Thursday night. \n🕢 Sign-up from 6:30pm | Comp starts at 7pm sharp\n💵 Just $5 to enter\n🏆 $100 Guaranteed Cash Prize for the winner\n🍻 5 Drink Tickets for the runner-up!\n*$10 Re-buy if available \nWhether you’re a seasoned player or just in it for fun\, it’s a great night out. Grab your cue and join us! \nRules of Play as per sign posted within the venue. Management decision is final.
URL:https://hoeymoey.com.au/event/pool-comp-2-2-2/2027-06-24/
LOCATION:The Hoey Moey\, 84 Ocean Parade\, Coffs Harbour\, NSW\, 2450\, Australia
CATEGORIES:Entertainment,Whats On
ATTACH;FMTTYPE=image/jpeg:https://hoeymoey.com.au/wp-content/uploads/2025/05/HM_ByronBayLagerThursdayPoolComp_SEP2025_WEB.jpg
END:VEVENT
BEGIN:VEVENT
DTSTART;TZID=Australia/Sydney:20270628T183000
DTEND;TZID=Australia/Sydney:20270628T203000
DTSTAMP:20260423T130135
CREATED:20240708T234319Z
LAST-MODIFIED:20250908T015855Z
UID:10005138-1814207400-1814214600@hoeymoey.com.au
SUMMARY:Trivia Mondays
DESCRIPTION:Brainiacs unite for Trivia on Monday Nights at the Hoey Moey! \nIt is from 6.30pm with great prizes to be won.
URL:https://hoeymoey.com.au/event/trivia-mondays-2-2-2/2027-06-28/
LOCATION:The Hoey Moey\, 84 Ocean Parade\, Coffs Harbour\, NSW\, 2450\, Australia
CATEGORIES:Entertainment,Whats On
ATTACH;FMTTYPE=image/jpeg:https://hoeymoey.com.au/wp-content/uploads/2024/07/HM_TriviaMondays_2025_WEB_GENERIC-1.jpg
END:VEVENT
END:VCALENDAR