BEGIN:VCALENDAR
VERSION:2.0
PRODID:-//Hoey Moey - ECPv6.3.3.1//NONSGML v1.0//EN
CALSCALE:GREGORIAN
METHOD:PUBLISH
X-WR-CALNAME:Hoey Moey
X-ORIGINAL-URL:https://hoeymoey.com.au
X-WR-CALDESC:Events for Hoey Moey
REFRESH-INTERVAL;VALUE=DURATION:PT1H
X-Robots-Tag:noindex
X-PUBLISHED-TTL:PT1H
BEGIN:VTIMEZONE
TZID:Australia/Sydney
BEGIN:STANDARD
TZOFFSETFROM:+1100
TZOFFSETTO:+1000
TZNAME:AEST
DTSTART:20270403T160000
END:STANDARD
BEGIN:DAYLIGHT
TZOFFSETFROM:+1000
TZOFFSETTO:+1100
TZNAME:AEDT
DTSTART:20271002T160000
END:DAYLIGHT
BEGIN:STANDARD
TZOFFSETFROM:+1100
TZOFFSETTO:+1000
TZNAME:AEST
DTSTART:20280401T160000
END:STANDARD
BEGIN:DAYLIGHT
TZOFFSETFROM:+1000
TZOFFSETTO:+1100
TZNAME:AEDT
DTSTART:20280930T160000
END:DAYLIGHT
END:VTIMEZONE
BEGIN:VEVENT
DTSTART;TZID=Australia/Sydney:20271221T193000
DTEND;TZID=Australia/Sydney:20271221T223000
DTSTAMP:20260423T090336
CREATED:20250522T030538Z
LAST-MODIFIED:20250522T032157Z
UID:10006635-1829417400-1829428200@hoeymoey.com.au
SUMMARY:Byron Bay Premium Lager's Tuesday Pinball Comp!
DESCRIPTION:Join us on Tuesdays for our popular Pinball Comp (register from 7.30pm) with great prizes on offer! \nThis event is proudly sponsored by Byron Bay Premium Lager!
URL:https://hoeymoey.com.au/event/pinball-comp-2-2-2/2027-12-21/
LOCATION:The Hoey Moey\, 84 Ocean Parade\, Coffs Harbour\, NSW\, 2450\, Australia
CATEGORIES:Entertainment,Whats On
ATTACH;FMTTYPE=image/jpeg:https://hoeymoey.com.au/wp-content/uploads/2023/07/Pinball-Competition-Hoey-Moey-Park-Beach-Hotel-Motel-Pub-Bar-Accommodation-Bistro-Restaurant-Coffs-Harbour-Coffs-Coast-Mid-North-Coast.jpg
END:VEVENT
BEGIN:VEVENT
DTSTART;TZID=Australia/Sydney:20271222T180000
DTEND;TZID=Australia/Sydney:20271222T190000
DTSTAMP:20260423T090336
CREATED:20260316T233920Z
LAST-MODIFIED:20260331T011139Z
UID:10008371-1829498400-1829502000@hoeymoey.com.au
SUMMARY:Snake Eyes Dice Game every Wednesday!
DESCRIPTION:SNAKE EYES DICE GAME WEDNESDAYS \n\n$50 increase per week\, capped at $500\nDouble one for the grand prize\nDoubles for the below receive:2 – Jug of Hahn or 3.5\n3 – Pizza voucher\n4 – Pint of Hahn or 3.5\n5 – Schooner of Hahn or 3.5\n6 – Mystery prize*Conditions apply – see staff for more details.
URL:https://hoeymoey.com.au/event/snake-eyes-dice-game-every-wednesday/2027-12-22/
CATEGORIES:Entertainment,Weekly Events,Whats On
ATTACH;FMTTYPE=image/jpeg:https://hoeymoey.com.au/wp-content/uploads/2026/03/HM_SnakeEyesDiceGame_MAR2026_WEB.jpg
END:VEVENT
BEGIN:VEVENT
DTSTART;TZID=Australia/Sydney:20271222T183000
DTEND;TZID=Australia/Sydney:20271222T213000
DTSTAMP:20260423T090336
CREATED:20260312T231316Z
LAST-MODIFIED:20260331T043516Z
UID:10007586-1829500200-1829511000@hoeymoey.com.au
SUMMARY:Local Grown Open Mic Night!
DESCRIPTION:LOCAL GROWN OPEN MIC NIGHT – The Next Wave of Coffs Coast Talent!\nEvery Wednesday from 6:30pm – 9:30pm\nThe Hoey Moey\, Coffs Harbour  \n The Stage is Yours!  \nBuilding on the massive energy of Coastal Grown\, we are launching a brand-new weekly residency dedicated to the next generation of local legends. \nLocal Grown is more than an open mic it’s a platform for school-aged musicians\, emerging bands\, and solo artists to own the stage in an all-ages\, inclusive environment. Hosted by Dillon Wrigley \nSupport local: Catch the bands we’ve been nurturing over the years as they take their music to the next level.\n• All Ages Welcome: A safe\, inclusive space for youth to perform and for fans of all ages to enjoy.\n• Weekly Vibe: Make Wednesday nights at the Hoey your new mid-week ritual. \nImportant info for attendees:\n• Under 18s are welcome but must be accompanied by a parent or guardian over 25 in accordance with venue policy.\n• Artists & Bands: Ready to play? Come along and sign up on the night. Let’s grow the scene together.
URL:https://hoeymoey.com.au/event/local-grown-open-mic-night/2027-12-22/
CATEGORIES:Entertainment,Whats On
ATTACH;FMTTYPE=image/jpeg:https://hoeymoey.com.au/wp-content/uploads/2026/03/HM_LocalGrownOpenMicNight_APR2026_WEB2.jpg
END:VEVENT
BEGIN:VEVENT
DTSTART;TZID=Australia/Sydney:20271223T120000
DTEND;TZID=Australia/Sydney:20271223T190000
DTSTAMP:20260423T090336
CREATED:20260316T233247Z
LAST-MODIFIED:20260331T011229Z
UID:10007851-1829563200-1829588400@hoeymoey.com.au
SUMMARY:Joker Poker Jackpot Thursdays is Back!
DESCRIPTION:JOKER POKER JACKPOT THURSDAYS \n\nJackpot starts at $2000. Increases by a minimum of $100 per week with raffle proceeds boosting jackpot increases pending sales.\nEvery Thursday from 26th March\, 2026.\nProceeds to Hoey Moey Community Fund. Raffle from 6pm\, drawn approx 7pm.\n*Conditions apply – see staff for more details.
URL:https://hoeymoey.com.au/event/joker-poker-jackpot-thursdays-is-back/2027-12-23/
CATEGORIES:Entertainment,Weekly Events,Whats On
ATTACH;FMTTYPE=image/jpeg:https://hoeymoey.com.au/wp-content/uploads/2026/03/HM_JokerPokerThursdays_2026_WEB-1.jpg
END:VEVENT
BEGIN:VEVENT
DTSTART;TZID=Australia/Sydney:20271223T183000
DTEND;TZID=Australia/Sydney:20271223T223000
DTSTAMP:20260423T090336
CREATED:20250908T020056Z
LAST-MODIFIED:20250908T020057Z
UID:10007240-1829586600-1829601000@hoeymoey.com.au
SUMMARY:Byron Bay Premium Lager's Thursday Pool Comp!
DESCRIPTION:Thursday Night Pool Comp – Don’t Miss Out!\nRain or shine\, the game is on! Come down and show off your skills at our weekly pool competition every Thursday night. \n🕢 Sign-up from 6:30pm | Comp starts at 7pm sharp\n💵 Just $5 to enter\n🏆 $100 Guaranteed Cash Prize for the winner\n🍻 5 Drink Tickets for the runner-up!\n*$10 Re-buy if available \nWhether you’re a seasoned player or just in it for fun\, it’s a great night out. Grab your cue and join us! \nRules of Play as per sign posted within the venue. Management decision is final.
URL:https://hoeymoey.com.au/event/pool-comp-2-2-2/2027-12-23/
LOCATION:The Hoey Moey\, 84 Ocean Parade\, Coffs Harbour\, NSW\, 2450\, Australia
CATEGORIES:Entertainment,Whats On
ATTACH;FMTTYPE=image/jpeg:https://hoeymoey.com.au/wp-content/uploads/2025/05/HM_ByronBayLagerThursdayPoolComp_SEP2025_WEB.jpg
END:VEVENT
BEGIN:VEVENT
DTSTART;TZID=Australia/Sydney:20271227T183000
DTEND;TZID=Australia/Sydney:20271227T203000
DTSTAMP:20260423T090336
CREATED:20240708T234319Z
LAST-MODIFIED:20250908T015855Z
UID:10005164-1829932200-1829939400@hoeymoey.com.au
SUMMARY:Trivia Mondays
DESCRIPTION:Brainiacs unite for Trivia on Monday Nights at the Hoey Moey! \nIt is from 6.30pm with great prizes to be won.
URL:https://hoeymoey.com.au/event/trivia-mondays-2-2-2/2027-12-27/
LOCATION:The Hoey Moey\, 84 Ocean Parade\, Coffs Harbour\, NSW\, 2450\, Australia
CATEGORIES:Entertainment,Whats On
ATTACH;FMTTYPE=image/jpeg:https://hoeymoey.com.au/wp-content/uploads/2024/07/HM_TriviaMondays_2025_WEB_GENERIC-1.jpg
END:VEVENT
BEGIN:VEVENT
DTSTART;TZID=Australia/Sydney:20271228T180000
DTEND;TZID=Australia/Sydney:20271228T180000
DTSTAMP:20260423T090336
CREATED:20230918T000604Z
LAST-MODIFIED:20251007T045542Z
UID:10005432-1830016800-1830016800@hoeymoey.com.au
SUMMARY:Musical Bingo!
DESCRIPTION:Join us for a fun night of Musical Bingo every Tuesday night from 6pm! \nIt’ll be heaps of fun\, with music galore\, and prizes to be won!
URL:https://hoeymoey.com.au/event/musical-bingo-2-2-2/2027-12-28/
LOCATION:The Hoey Moey\, 84 Ocean Parade\, Coffs Harbour\, NSW\, 2450\, Australia
CATEGORIES:Entertainment,Whats On
ATTACH;FMTTYPE=image/jpeg:https://hoeymoey.com.au/wp-content/uploads/2023/09/HM_MusicalBingo_APR2025_WEB.jpg
END:VEVENT
BEGIN:VEVENT
DTSTART;TZID=Australia/Sydney:20271228T193000
DTEND;TZID=Australia/Sydney:20271228T223000
DTSTAMP:20260423T090336
CREATED:20250522T030538Z
LAST-MODIFIED:20250522T032157Z
UID:10006636-1830022200-1830033000@hoeymoey.com.au
SUMMARY:Byron Bay Premium Lager's Tuesday Pinball Comp!
DESCRIPTION:Join us on Tuesdays for our popular Pinball Comp (register from 7.30pm) with great prizes on offer! \nThis event is proudly sponsored by Byron Bay Premium Lager!
URL:https://hoeymoey.com.au/event/pinball-comp-2-2-2/2027-12-28/
LOCATION:The Hoey Moey\, 84 Ocean Parade\, Coffs Harbour\, NSW\, 2450\, Australia
CATEGORIES:Entertainment,Whats On
ATTACH;FMTTYPE=image/jpeg:https://hoeymoey.com.au/wp-content/uploads/2023/07/Pinball-Competition-Hoey-Moey-Park-Beach-Hotel-Motel-Pub-Bar-Accommodation-Bistro-Restaurant-Coffs-Harbour-Coffs-Coast-Mid-North-Coast.jpg
END:VEVENT
BEGIN:VEVENT
DTSTART;TZID=Australia/Sydney:20271229T180000
DTEND;TZID=Australia/Sydney:20271229T190000
DTSTAMP:20260423T090336
CREATED:20260316T233920Z
LAST-MODIFIED:20260331T011139Z
UID:10008372-1830103200-1830106800@hoeymoey.com.au
SUMMARY:Snake Eyes Dice Game every Wednesday!
DESCRIPTION:SNAKE EYES DICE GAME WEDNESDAYS \n\n$50 increase per week\, capped at $500\nDouble one for the grand prize\nDoubles for the below receive:2 – Jug of Hahn or 3.5\n3 – Pizza voucher\n4 – Pint of Hahn or 3.5\n5 – Schooner of Hahn or 3.5\n6 – Mystery prize*Conditions apply – see staff for more details.
URL:https://hoeymoey.com.au/event/snake-eyes-dice-game-every-wednesday/2027-12-29/
CATEGORIES:Entertainment,Weekly Events,Whats On
ATTACH;FMTTYPE=image/jpeg:https://hoeymoey.com.au/wp-content/uploads/2026/03/HM_SnakeEyesDiceGame_MAR2026_WEB.jpg
END:VEVENT
BEGIN:VEVENT
DTSTART;TZID=Australia/Sydney:20271229T183000
DTEND;TZID=Australia/Sydney:20271229T213000
DTSTAMP:20260423T090336
CREATED:20260312T231316Z
LAST-MODIFIED:20260331T043516Z
UID:10007587-1830105000-1830115800@hoeymoey.com.au
SUMMARY:Local Grown Open Mic Night!
DESCRIPTION:LOCAL GROWN OPEN MIC NIGHT – The Next Wave of Coffs Coast Talent!\nEvery Wednesday from 6:30pm – 9:30pm\nThe Hoey Moey\, Coffs Harbour  \n The Stage is Yours!  \nBuilding on the massive energy of Coastal Grown\, we are launching a brand-new weekly residency dedicated to the next generation of local legends. \nLocal Grown is more than an open mic it’s a platform for school-aged musicians\, emerging bands\, and solo artists to own the stage in an all-ages\, inclusive environment. Hosted by Dillon Wrigley \nSupport local: Catch the bands we’ve been nurturing over the years as they take their music to the next level.\n• All Ages Welcome: A safe\, inclusive space for youth to perform and for fans of all ages to enjoy.\n• Weekly Vibe: Make Wednesday nights at the Hoey your new mid-week ritual. \nImportant info for attendees:\n• Under 18s are welcome but must be accompanied by a parent or guardian over 25 in accordance with venue policy.\n• Artists & Bands: Ready to play? Come along and sign up on the night. Let’s grow the scene together.
URL:https://hoeymoey.com.au/event/local-grown-open-mic-night/2027-12-29/
CATEGORIES:Entertainment,Whats On
ATTACH;FMTTYPE=image/jpeg:https://hoeymoey.com.au/wp-content/uploads/2026/03/HM_LocalGrownOpenMicNight_APR2026_WEB2.jpg
END:VEVENT
BEGIN:VEVENT
DTSTART;TZID=Australia/Sydney:20271230T120000
DTEND;TZID=Australia/Sydney:20271230T190000
DTSTAMP:20260423T090336
CREATED:20260316T233247Z
LAST-MODIFIED:20260331T011229Z
UID:10007852-1830168000-1830193200@hoeymoey.com.au
SUMMARY:Joker Poker Jackpot Thursdays is Back!
DESCRIPTION:JOKER POKER JACKPOT THURSDAYS \n\nJackpot starts at $2000. Increases by a minimum of $100 per week with raffle proceeds boosting jackpot increases pending sales.\nEvery Thursday from 26th March\, 2026.\nProceeds to Hoey Moey Community Fund. Raffle from 6pm\, drawn approx 7pm.\n*Conditions apply – see staff for more details.
URL:https://hoeymoey.com.au/event/joker-poker-jackpot-thursdays-is-back/2027-12-30/
CATEGORIES:Entertainment,Weekly Events,Whats On
ATTACH;FMTTYPE=image/jpeg:https://hoeymoey.com.au/wp-content/uploads/2026/03/HM_JokerPokerThursdays_2026_WEB-1.jpg
END:VEVENT
BEGIN:VEVENT
DTSTART;TZID=Australia/Sydney:20271230T183000
DTEND;TZID=Australia/Sydney:20271230T223000
DTSTAMP:20260423T090336
CREATED:20250908T020056Z
LAST-MODIFIED:20250908T020057Z
UID:10007241-1830191400-1830205800@hoeymoey.com.au
SUMMARY:Byron Bay Premium Lager's Thursday Pool Comp!
DESCRIPTION:Thursday Night Pool Comp – Don’t Miss Out!\nRain or shine\, the game is on! Come down and show off your skills at our weekly pool competition every Thursday night. \n🕢 Sign-up from 6:30pm | Comp starts at 7pm sharp\n💵 Just $5 to enter\n🏆 $100 Guaranteed Cash Prize for the winner\n🍻 5 Drink Tickets for the runner-up!\n*$10 Re-buy if available \nWhether you’re a seasoned player or just in it for fun\, it’s a great night out. Grab your cue and join us! \nRules of Play as per sign posted within the venue. Management decision is final.
URL:https://hoeymoey.com.au/event/pool-comp-2-2-2/2027-12-30/
LOCATION:The Hoey Moey\, 84 Ocean Parade\, Coffs Harbour\, NSW\, 2450\, Australia
CATEGORIES:Entertainment,Whats On
ATTACH;FMTTYPE=image/jpeg:https://hoeymoey.com.au/wp-content/uploads/2025/05/HM_ByronBayLagerThursdayPoolComp_SEP2025_WEB.jpg
END:VEVENT
BEGIN:VEVENT
DTSTART;TZID=Australia/Sydney:20280103T183000
DTEND;TZID=Australia/Sydney:20280103T203000
DTSTAMP:20260423T090336
CREATED:20240708T234319Z
LAST-MODIFIED:20250908T015855Z
UID:10005165-1830537000-1830544200@hoeymoey.com.au
SUMMARY:Trivia Mondays
DESCRIPTION:Brainiacs unite for Trivia on Monday Nights at the Hoey Moey! \nIt is from 6.30pm with great prizes to be won.
URL:https://hoeymoey.com.au/event/trivia-mondays-2-2-2/2028-01-03/
LOCATION:The Hoey Moey\, 84 Ocean Parade\, Coffs Harbour\, NSW\, 2450\, Australia
CATEGORIES:Entertainment,Whats On
ATTACH;FMTTYPE=image/jpeg:https://hoeymoey.com.au/wp-content/uploads/2024/07/HM_TriviaMondays_2025_WEB_GENERIC-1.jpg
END:VEVENT
BEGIN:VEVENT
DTSTART;TZID=Australia/Sydney:20280104T180000
DTEND;TZID=Australia/Sydney:20280104T180000
DTSTAMP:20260423T090336
CREATED:20230918T000604Z
LAST-MODIFIED:20251007T045542Z
UID:10005433-1830621600-1830621600@hoeymoey.com.au
SUMMARY:Musical Bingo!
DESCRIPTION:Join us for a fun night of Musical Bingo every Tuesday night from 6pm! \nIt’ll be heaps of fun\, with music galore\, and prizes to be won!
URL:https://hoeymoey.com.au/event/musical-bingo-2-2-2/2028-01-04/
LOCATION:The Hoey Moey\, 84 Ocean Parade\, Coffs Harbour\, NSW\, 2450\, Australia
CATEGORIES:Entertainment,Whats On
ATTACH;FMTTYPE=image/jpeg:https://hoeymoey.com.au/wp-content/uploads/2023/09/HM_MusicalBingo_APR2025_WEB.jpg
END:VEVENT
BEGIN:VEVENT
DTSTART;TZID=Australia/Sydney:20280104T193000
DTEND;TZID=Australia/Sydney:20280104T223000
DTSTAMP:20260423T090336
CREATED:20250522T030538Z
LAST-MODIFIED:20250522T032157Z
UID:10006637-1830627000-1830637800@hoeymoey.com.au
SUMMARY:Byron Bay Premium Lager's Tuesday Pinball Comp!
DESCRIPTION:Join us on Tuesdays for our popular Pinball Comp (register from 7.30pm) with great prizes on offer! \nThis event is proudly sponsored by Byron Bay Premium Lager!
URL:https://hoeymoey.com.au/event/pinball-comp-2-2-2/2028-01-04/
LOCATION:The Hoey Moey\, 84 Ocean Parade\, Coffs Harbour\, NSW\, 2450\, Australia
CATEGORIES:Entertainment,Whats On
ATTACH;FMTTYPE=image/jpeg:https://hoeymoey.com.au/wp-content/uploads/2023/07/Pinball-Competition-Hoey-Moey-Park-Beach-Hotel-Motel-Pub-Bar-Accommodation-Bistro-Restaurant-Coffs-Harbour-Coffs-Coast-Mid-North-Coast.jpg
END:VEVENT
BEGIN:VEVENT
DTSTART;TZID=Australia/Sydney:20280105T180000
DTEND;TZID=Australia/Sydney:20280105T190000
DTSTAMP:20260423T090336
CREATED:20260316T233920Z
LAST-MODIFIED:20260331T011139Z
UID:10008373-1830708000-1830711600@hoeymoey.com.au
SUMMARY:Snake Eyes Dice Game every Wednesday!
DESCRIPTION:SNAKE EYES DICE GAME WEDNESDAYS \n\n$50 increase per week\, capped at $500\nDouble one for the grand prize\nDoubles for the below receive:2 – Jug of Hahn or 3.5\n3 – Pizza voucher\n4 – Pint of Hahn or 3.5\n5 – Schooner of Hahn or 3.5\n6 – Mystery prize*Conditions apply – see staff for more details.
URL:https://hoeymoey.com.au/event/snake-eyes-dice-game-every-wednesday/2028-01-05/
CATEGORIES:Entertainment,Weekly Events,Whats On
ATTACH;FMTTYPE=image/jpeg:https://hoeymoey.com.au/wp-content/uploads/2026/03/HM_SnakeEyesDiceGame_MAR2026_WEB.jpg
END:VEVENT
BEGIN:VEVENT
DTSTART;TZID=Australia/Sydney:20280105T183000
DTEND;TZID=Australia/Sydney:20280105T213000
DTSTAMP:20260423T090337
CREATED:20260312T231316Z
LAST-MODIFIED:20260331T043516Z
UID:10007588-1830709800-1830720600@hoeymoey.com.au
SUMMARY:Local Grown Open Mic Night!
DESCRIPTION:LOCAL GROWN OPEN MIC NIGHT – The Next Wave of Coffs Coast Talent!\nEvery Wednesday from 6:30pm – 9:30pm\nThe Hoey Moey\, Coffs Harbour  \n The Stage is Yours!  \nBuilding on the massive energy of Coastal Grown\, we are launching a brand-new weekly residency dedicated to the next generation of local legends. \nLocal Grown is more than an open mic it’s a platform for school-aged musicians\, emerging bands\, and solo artists to own the stage in an all-ages\, inclusive environment. Hosted by Dillon Wrigley \nSupport local: Catch the bands we’ve been nurturing over the years as they take their music to the next level.\n• All Ages Welcome: A safe\, inclusive space for youth to perform and for fans of all ages to enjoy.\n• Weekly Vibe: Make Wednesday nights at the Hoey your new mid-week ritual. \nImportant info for attendees:\n• Under 18s are welcome but must be accompanied by a parent or guardian over 25 in accordance with venue policy.\n• Artists & Bands: Ready to play? Come along and sign up on the night. Let’s grow the scene together.
URL:https://hoeymoey.com.au/event/local-grown-open-mic-night/2028-01-05/
CATEGORIES:Entertainment,Whats On
ATTACH;FMTTYPE=image/jpeg:https://hoeymoey.com.au/wp-content/uploads/2026/03/HM_LocalGrownOpenMicNight_APR2026_WEB2.jpg
END:VEVENT
BEGIN:VEVENT
DTSTART;TZID=Australia/Sydney:20280106T120000
DTEND;TZID=Australia/Sydney:20280106T190000
DTSTAMP:20260423T090337
CREATED:20260316T233247Z
LAST-MODIFIED:20260331T011229Z
UID:10007853-1830772800-1830798000@hoeymoey.com.au
SUMMARY:Joker Poker Jackpot Thursdays is Back!
DESCRIPTION:JOKER POKER JACKPOT THURSDAYS \n\nJackpot starts at $2000. Increases by a minimum of $100 per week with raffle proceeds boosting jackpot increases pending sales.\nEvery Thursday from 26th March\, 2026.\nProceeds to Hoey Moey Community Fund. Raffle from 6pm\, drawn approx 7pm.\n*Conditions apply – see staff for more details.
URL:https://hoeymoey.com.au/event/joker-poker-jackpot-thursdays-is-back/2028-01-06/
CATEGORIES:Entertainment,Weekly Events,Whats On
ATTACH;FMTTYPE=image/jpeg:https://hoeymoey.com.au/wp-content/uploads/2026/03/HM_JokerPokerThursdays_2026_WEB-1.jpg
END:VEVENT
BEGIN:VEVENT
DTSTART;TZID=Australia/Sydney:20280106T183000
DTEND;TZID=Australia/Sydney:20280106T223000
DTSTAMP:20260423T090337
CREATED:20250908T020056Z
LAST-MODIFIED:20250908T020057Z
UID:10007242-1830796200-1830810600@hoeymoey.com.au
SUMMARY:Byron Bay Premium Lager's Thursday Pool Comp!
DESCRIPTION:Thursday Night Pool Comp – Don’t Miss Out!\nRain or shine\, the game is on! Come down and show off your skills at our weekly pool competition every Thursday night. \n🕢 Sign-up from 6:30pm | Comp starts at 7pm sharp\n💵 Just $5 to enter\n🏆 $100 Guaranteed Cash Prize for the winner\n🍻 5 Drink Tickets for the runner-up!\n*$10 Re-buy if available \nWhether you’re a seasoned player or just in it for fun\, it’s a great night out. Grab your cue and join us! \nRules of Play as per sign posted within the venue. Management decision is final.
URL:https://hoeymoey.com.au/event/pool-comp-2-2-2/2028-01-06/
LOCATION:The Hoey Moey\, 84 Ocean Parade\, Coffs Harbour\, NSW\, 2450\, Australia
CATEGORIES:Entertainment,Whats On
ATTACH;FMTTYPE=image/jpeg:https://hoeymoey.com.au/wp-content/uploads/2025/05/HM_ByronBayLagerThursdayPoolComp_SEP2025_WEB.jpg
END:VEVENT
BEGIN:VEVENT
DTSTART;TZID=Australia/Sydney:20280110T183000
DTEND;TZID=Australia/Sydney:20280110T203000
DTSTAMP:20260423T090337
CREATED:20240708T234319Z
LAST-MODIFIED:20250908T015855Z
UID:10005166-1831141800-1831149000@hoeymoey.com.au
SUMMARY:Trivia Mondays
DESCRIPTION:Brainiacs unite for Trivia on Monday Nights at the Hoey Moey! \nIt is from 6.30pm with great prizes to be won.
URL:https://hoeymoey.com.au/event/trivia-mondays-2-2-2/2028-01-10/
LOCATION:The Hoey Moey\, 84 Ocean Parade\, Coffs Harbour\, NSW\, 2450\, Australia
CATEGORIES:Entertainment,Whats On
ATTACH;FMTTYPE=image/jpeg:https://hoeymoey.com.au/wp-content/uploads/2024/07/HM_TriviaMondays_2025_WEB_GENERIC-1.jpg
END:VEVENT
BEGIN:VEVENT
DTSTART;TZID=Australia/Sydney:20280111T180000
DTEND;TZID=Australia/Sydney:20280111T180000
DTSTAMP:20260423T090337
CREATED:20230918T000604Z
LAST-MODIFIED:20251007T045542Z
UID:10005434-1831226400-1831226400@hoeymoey.com.au
SUMMARY:Musical Bingo!
DESCRIPTION:Join us for a fun night of Musical Bingo every Tuesday night from 6pm! \nIt’ll be heaps of fun\, with music galore\, and prizes to be won!
URL:https://hoeymoey.com.au/event/musical-bingo-2-2-2/2028-01-11/
LOCATION:The Hoey Moey\, 84 Ocean Parade\, Coffs Harbour\, NSW\, 2450\, Australia
CATEGORIES:Entertainment,Whats On
ATTACH;FMTTYPE=image/jpeg:https://hoeymoey.com.au/wp-content/uploads/2023/09/HM_MusicalBingo_APR2025_WEB.jpg
END:VEVENT
BEGIN:VEVENT
DTSTART;TZID=Australia/Sydney:20280111T193000
DTEND;TZID=Australia/Sydney:20280111T223000
DTSTAMP:20260423T090337
CREATED:20250522T030538Z
LAST-MODIFIED:20250522T032157Z
UID:10006638-1831231800-1831242600@hoeymoey.com.au
SUMMARY:Byron Bay Premium Lager's Tuesday Pinball Comp!
DESCRIPTION:Join us on Tuesdays for our popular Pinball Comp (register from 7.30pm) with great prizes on offer! \nThis event is proudly sponsored by Byron Bay Premium Lager!
URL:https://hoeymoey.com.au/event/pinball-comp-2-2-2/2028-01-11/
LOCATION:The Hoey Moey\, 84 Ocean Parade\, Coffs Harbour\, NSW\, 2450\, Australia
CATEGORIES:Entertainment,Whats On
ATTACH;FMTTYPE=image/jpeg:https://hoeymoey.com.au/wp-content/uploads/2023/07/Pinball-Competition-Hoey-Moey-Park-Beach-Hotel-Motel-Pub-Bar-Accommodation-Bistro-Restaurant-Coffs-Harbour-Coffs-Coast-Mid-North-Coast.jpg
END:VEVENT
BEGIN:VEVENT
DTSTART;TZID=Australia/Sydney:20280112T180000
DTEND;TZID=Australia/Sydney:20280112T190000
DTSTAMP:20260423T090337
CREATED:20260316T233920Z
LAST-MODIFIED:20260331T011139Z
UID:10008374-1831312800-1831316400@hoeymoey.com.au
SUMMARY:Snake Eyes Dice Game every Wednesday!
DESCRIPTION:SNAKE EYES DICE GAME WEDNESDAYS \n\n$50 increase per week\, capped at $500\nDouble one for the grand prize\nDoubles for the below receive:2 – Jug of Hahn or 3.5\n3 – Pizza voucher\n4 – Pint of Hahn or 3.5\n5 – Schooner of Hahn or 3.5\n6 – Mystery prize*Conditions apply – see staff for more details.
URL:https://hoeymoey.com.au/event/snake-eyes-dice-game-every-wednesday/2028-01-12/
CATEGORIES:Entertainment,Weekly Events,Whats On
ATTACH;FMTTYPE=image/jpeg:https://hoeymoey.com.au/wp-content/uploads/2026/03/HM_SnakeEyesDiceGame_MAR2026_WEB.jpg
END:VEVENT
BEGIN:VEVENT
DTSTART;TZID=Australia/Sydney:20280112T183000
DTEND;TZID=Australia/Sydney:20280112T213000
DTSTAMP:20260423T090337
CREATED:20260312T231316Z
LAST-MODIFIED:20260331T043516Z
UID:10007589-1831314600-1831325400@hoeymoey.com.au
SUMMARY:Local Grown Open Mic Night!
DESCRIPTION:LOCAL GROWN OPEN MIC NIGHT – The Next Wave of Coffs Coast Talent!\nEvery Wednesday from 6:30pm – 9:30pm\nThe Hoey Moey\, Coffs Harbour  \n The Stage is Yours!  \nBuilding on the massive energy of Coastal Grown\, we are launching a brand-new weekly residency dedicated to the next generation of local legends. \nLocal Grown is more than an open mic it’s a platform for school-aged musicians\, emerging bands\, and solo artists to own the stage in an all-ages\, inclusive environment. Hosted by Dillon Wrigley \nSupport local: Catch the bands we’ve been nurturing over the years as they take their music to the next level.\n• All Ages Welcome: A safe\, inclusive space for youth to perform and for fans of all ages to enjoy.\n• Weekly Vibe: Make Wednesday nights at the Hoey your new mid-week ritual. \nImportant info for attendees:\n• Under 18s are welcome but must be accompanied by a parent or guardian over 25 in accordance with venue policy.\n• Artists & Bands: Ready to play? Come along and sign up on the night. Let’s grow the scene together.
URL:https://hoeymoey.com.au/event/local-grown-open-mic-night/2028-01-12/
CATEGORIES:Entertainment,Whats On
ATTACH;FMTTYPE=image/jpeg:https://hoeymoey.com.au/wp-content/uploads/2026/03/HM_LocalGrownOpenMicNight_APR2026_WEB2.jpg
END:VEVENT
BEGIN:VEVENT
DTSTART;TZID=Australia/Sydney:20280113T120000
DTEND;TZID=Australia/Sydney:20280113T190000
DTSTAMP:20260423T090337
CREATED:20260316T233247Z
LAST-MODIFIED:20260331T011229Z
UID:10007854-1831377600-1831402800@hoeymoey.com.au
SUMMARY:Joker Poker Jackpot Thursdays is Back!
DESCRIPTION:JOKER POKER JACKPOT THURSDAYS \n\nJackpot starts at $2000. Increases by a minimum of $100 per week with raffle proceeds boosting jackpot increases pending sales.\nEvery Thursday from 26th March\, 2026.\nProceeds to Hoey Moey Community Fund. Raffle from 6pm\, drawn approx 7pm.\n*Conditions apply – see staff for more details.
URL:https://hoeymoey.com.au/event/joker-poker-jackpot-thursdays-is-back/2028-01-13/
CATEGORIES:Entertainment,Weekly Events,Whats On
ATTACH;FMTTYPE=image/jpeg:https://hoeymoey.com.au/wp-content/uploads/2026/03/HM_JokerPokerThursdays_2026_WEB-1.jpg
END:VEVENT
BEGIN:VEVENT
DTSTART;TZID=Australia/Sydney:20280113T183000
DTEND;TZID=Australia/Sydney:20280113T223000
DTSTAMP:20260423T090337
CREATED:20250908T020056Z
LAST-MODIFIED:20250908T020057Z
UID:10007243-1831401000-1831415400@hoeymoey.com.au
SUMMARY:Byron Bay Premium Lager's Thursday Pool Comp!
DESCRIPTION:Thursday Night Pool Comp – Don’t Miss Out!\nRain or shine\, the game is on! Come down and show off your skills at our weekly pool competition every Thursday night. \n🕢 Sign-up from 6:30pm | Comp starts at 7pm sharp\n💵 Just $5 to enter\n🏆 $100 Guaranteed Cash Prize for the winner\n🍻 5 Drink Tickets for the runner-up!\n*$10 Re-buy if available \nWhether you’re a seasoned player or just in it for fun\, it’s a great night out. Grab your cue and join us! \nRules of Play as per sign posted within the venue. Management decision is final.
URL:https://hoeymoey.com.au/event/pool-comp-2-2-2/2028-01-13/
LOCATION:The Hoey Moey\, 84 Ocean Parade\, Coffs Harbour\, NSW\, 2450\, Australia
CATEGORIES:Entertainment,Whats On
ATTACH;FMTTYPE=image/jpeg:https://hoeymoey.com.au/wp-content/uploads/2025/05/HM_ByronBayLagerThursdayPoolComp_SEP2025_WEB.jpg
END:VEVENT
BEGIN:VEVENT
DTSTART;TZID=Australia/Sydney:20280117T183000
DTEND;TZID=Australia/Sydney:20280117T203000
DTSTAMP:20260423T090337
CREATED:20240708T234319Z
LAST-MODIFIED:20250908T015855Z
UID:10005167-1831746600-1831753800@hoeymoey.com.au
SUMMARY:Trivia Mondays
DESCRIPTION:Brainiacs unite for Trivia on Monday Nights at the Hoey Moey! \nIt is from 6.30pm with great prizes to be won.
URL:https://hoeymoey.com.au/event/trivia-mondays-2-2-2/2028-01-17/
LOCATION:The Hoey Moey\, 84 Ocean Parade\, Coffs Harbour\, NSW\, 2450\, Australia
CATEGORIES:Entertainment,Whats On
ATTACH;FMTTYPE=image/jpeg:https://hoeymoey.com.au/wp-content/uploads/2024/07/HM_TriviaMondays_2025_WEB_GENERIC-1.jpg
END:VEVENT
BEGIN:VEVENT
DTSTART;TZID=Australia/Sydney:20280118T180000
DTEND;TZID=Australia/Sydney:20280118T180000
DTSTAMP:20260423T090337
CREATED:20230918T000604Z
LAST-MODIFIED:20251007T045542Z
UID:10005435-1831831200-1831831200@hoeymoey.com.au
SUMMARY:Musical Bingo!
DESCRIPTION:Join us for a fun night of Musical Bingo every Tuesday night from 6pm! \nIt’ll be heaps of fun\, with music galore\, and prizes to be won!
URL:https://hoeymoey.com.au/event/musical-bingo-2-2-2/2028-01-18/
LOCATION:The Hoey Moey\, 84 Ocean Parade\, Coffs Harbour\, NSW\, 2450\, Australia
CATEGORIES:Entertainment,Whats On
ATTACH;FMTTYPE=image/jpeg:https://hoeymoey.com.au/wp-content/uploads/2023/09/HM_MusicalBingo_APR2025_WEB.jpg
END:VEVENT
BEGIN:VEVENT
DTSTART;TZID=Australia/Sydney:20280118T193000
DTEND;TZID=Australia/Sydney:20280118T223000
DTSTAMP:20260423T090337
CREATED:20250522T030538Z
LAST-MODIFIED:20250522T032157Z
UID:10006639-1831836600-1831847400@hoeymoey.com.au
SUMMARY:Byron Bay Premium Lager's Tuesday Pinball Comp!
DESCRIPTION:Join us on Tuesdays for our popular Pinball Comp (register from 7.30pm) with great prizes on offer! \nThis event is proudly sponsored by Byron Bay Premium Lager!
URL:https://hoeymoey.com.au/event/pinball-comp-2-2-2/2028-01-18/
LOCATION:The Hoey Moey\, 84 Ocean Parade\, Coffs Harbour\, NSW\, 2450\, Australia
CATEGORIES:Entertainment,Whats On
ATTACH;FMTTYPE=image/jpeg:https://hoeymoey.com.au/wp-content/uploads/2023/07/Pinball-Competition-Hoey-Moey-Park-Beach-Hotel-Motel-Pub-Bar-Accommodation-Bistro-Restaurant-Coffs-Harbour-Coffs-Coast-Mid-North-Coast.jpg
END:VEVENT
BEGIN:VEVENT
DTSTART;TZID=Australia/Sydney:20280119T180000
DTEND;TZID=Australia/Sydney:20280119T190000
DTSTAMP:20260423T090337
CREATED:20260316T233920Z
LAST-MODIFIED:20260331T011139Z
UID:10008375-1831917600-1831921200@hoeymoey.com.au
SUMMARY:Snake Eyes Dice Game every Wednesday!
DESCRIPTION:SNAKE EYES DICE GAME WEDNESDAYS \n\n$50 increase per week\, capped at $500\nDouble one for the grand prize\nDoubles for the below receive:2 – Jug of Hahn or 3.5\n3 – Pizza voucher\n4 – Pint of Hahn or 3.5\n5 – Schooner of Hahn or 3.5\n6 – Mystery prize*Conditions apply – see staff for more details.
URL:https://hoeymoey.com.au/event/snake-eyes-dice-game-every-wednesday/2028-01-19/
CATEGORIES:Entertainment,Weekly Events,Whats On
ATTACH;FMTTYPE=image/jpeg:https://hoeymoey.com.au/wp-content/uploads/2026/03/HM_SnakeEyesDiceGame_MAR2026_WEB.jpg
END:VEVENT
END:VCALENDAR