BEGIN:VCALENDAR
VERSION:2.0
PRODID:-//Hoey Moey - ECPv6.3.3.1//NONSGML v1.0//EN
CALSCALE:GREGORIAN
METHOD:PUBLISH
X-ORIGINAL-URL:https://hoeymoey.com.au
X-WR-CALDESC:Events for Hoey Moey
REFRESH-INTERVAL;VALUE=DURATION:PT1H
X-Robots-Tag:noindex
X-PUBLISHED-TTL:PT1H
BEGIN:VTIMEZONE
TZID:Australia/Sydney
BEGIN:STANDARD
TZOFFSETFROM:+1100
TZOFFSETTO:+1000
TZNAME:AEST
DTSTART:20280401T160000
END:STANDARD
BEGIN:DAYLIGHT
TZOFFSETFROM:+1000
TZOFFSETTO:+1100
TZNAME:AEDT
DTSTART:20280930T160000
END:DAYLIGHT
END:VTIMEZONE
BEGIN:VEVENT
DTSTART;TZID=Australia/Sydney:20280822T180000
DTEND;TZID=Australia/Sydney:20280822T180000
DTSTAMP:20260424T080012
CREATED:20230918T000604Z
LAST-MODIFIED:20251007T045542Z
UID:10005466-1850580000-1850580000@hoeymoey.com.au
SUMMARY:Musical Bingo!
DESCRIPTION:Join us for a fun night of Musical Bingo every Tuesday night from 6pm! \nIt’ll be heaps of fun\, with music galore\, and prizes to be won!
URL:https://hoeymoey.com.au/event/musical-bingo-2-2-2/2028-08-22/
LOCATION:The Hoey Moey\, 84 Ocean Parade\, Coffs Harbour\, NSW\, 2450\, Australia
CATEGORIES:Entertainment,Whats On
ATTACH;FMTTYPE=image/jpeg:https://hoeymoey.com.au/wp-content/uploads/2023/09/HM_MusicalBingo_APR2025_WEB.jpg
END:VEVENT
BEGIN:VEVENT
DTSTART;TZID=Australia/Sydney:20280822T193000
DTEND;TZID=Australia/Sydney:20280822T223000
DTSTAMP:20260424T080012
CREATED:20250522T030538Z
LAST-MODIFIED:20250522T032157Z
UID:10006670-1850585400-1850596200@hoeymoey.com.au
SUMMARY:Byron Bay Premium Lager's Tuesday Pinball Comp!
DESCRIPTION:Join us on Tuesdays for our popular Pinball Comp (register from 7.30pm) with great prizes on offer! \nThis event is proudly sponsored by Byron Bay Premium Lager!
URL:https://hoeymoey.com.au/event/pinball-comp-2-2-2/2028-08-22/
LOCATION:The Hoey Moey\, 84 Ocean Parade\, Coffs Harbour\, NSW\, 2450\, Australia
CATEGORIES:Entertainment,Whats On
ATTACH;FMTTYPE=image/jpeg:https://hoeymoey.com.au/wp-content/uploads/2023/07/Pinball-Competition-Hoey-Moey-Park-Beach-Hotel-Motel-Pub-Bar-Accommodation-Bistro-Restaurant-Coffs-Harbour-Coffs-Coast-Mid-North-Coast.jpg
END:VEVENT
BEGIN:VEVENT
DTSTART;TZID=Australia/Sydney:20280823T180000
DTEND;TZID=Australia/Sydney:20280823T190000
DTSTAMP:20260424T080012
CREATED:20260316T233920Z
LAST-MODIFIED:20260331T011139Z
UID:10008406-1850666400-1850670000@hoeymoey.com.au
SUMMARY:Snake Eyes Dice Game every Wednesday!
DESCRIPTION:SNAKE EYES DICE GAME WEDNESDAYS \n\n$50 increase per week\, capped at $500\nDouble one for the grand prize\nDoubles for the below receive:2 – Jug of Hahn or 3.5\n3 – Pizza voucher\n4 – Pint of Hahn or 3.5\n5 – Schooner of Hahn or 3.5\n6 – Mystery prize*Conditions apply – see staff for more details.
URL:https://hoeymoey.com.au/event/snake-eyes-dice-game-every-wednesday/2028-08-23/
CATEGORIES:Entertainment,Weekly Events,Whats On
ATTACH;FMTTYPE=image/jpeg:https://hoeymoey.com.au/wp-content/uploads/2026/03/HM_SnakeEyesDiceGame_MAR2026_WEB.jpg
END:VEVENT
BEGIN:VEVENT
DTSTART;TZID=Australia/Sydney:20280823T183000
DTEND;TZID=Australia/Sydney:20280823T213000
DTSTAMP:20260424T080012
CREATED:20260312T231316Z
LAST-MODIFIED:20260331T043516Z
UID:10007621-1850668200-1850679000@hoeymoey.com.au
SUMMARY:Local Grown Open Mic Night!
DESCRIPTION:LOCAL GROWN OPEN MIC NIGHT – The Next Wave of Coffs Coast Talent!\nEvery Wednesday from 6:30pm – 9:30pm\nThe Hoey Moey\, Coffs Harbour  \n The Stage is Yours!  \nBuilding on the massive energy of Coastal Grown\, we are launching a brand-new weekly residency dedicated to the next generation of local legends. \nLocal Grown is more than an open mic it’s a platform for school-aged musicians\, emerging bands\, and solo artists to own the stage in an all-ages\, inclusive environment. Hosted by Dillon Wrigley \nSupport local: Catch the bands we’ve been nurturing over the years as they take their music to the next level.\n• All Ages Welcome: A safe\, inclusive space for youth to perform and for fans of all ages to enjoy.\n• Weekly Vibe: Make Wednesday nights at the Hoey your new mid-week ritual. \nImportant info for attendees:\n• Under 18s are welcome but must be accompanied by a parent or guardian over 25 in accordance with venue policy.\n• Artists & Bands: Ready to play? Come along and sign up on the night. Let’s grow the scene together.
URL:https://hoeymoey.com.au/event/local-grown-open-mic-night/2028-08-23/
CATEGORIES:Entertainment,Whats On
ATTACH;FMTTYPE=image/jpeg:https://hoeymoey.com.au/wp-content/uploads/2026/03/HM_LocalGrownOpenMicNight_APR2026_WEB2.jpg
END:VEVENT
BEGIN:VEVENT
DTSTART;TZID=Australia/Sydney:20280824T120000
DTEND;TZID=Australia/Sydney:20280824T190000
DTSTAMP:20260424T080012
CREATED:20260316T233247Z
LAST-MODIFIED:20260331T011229Z
UID:10007886-1850731200-1850756400@hoeymoey.com.au
SUMMARY:Joker Poker Jackpot Thursdays is Back!
DESCRIPTION:JOKER POKER JACKPOT THURSDAYS \n\nJackpot starts at $2000. Increases by a minimum of $100 per week with raffle proceeds boosting jackpot increases pending sales.\nEvery Thursday from 26th March\, 2026.\nProceeds to Hoey Moey Community Fund. Raffle from 6pm\, drawn approx 7pm.\n*Conditions apply – see staff for more details.
URL:https://hoeymoey.com.au/event/joker-poker-jackpot-thursdays-is-back/2028-08-24/
CATEGORIES:Entertainment,Weekly Events,Whats On
ATTACH;FMTTYPE=image/jpeg:https://hoeymoey.com.au/wp-content/uploads/2026/03/HM_JokerPokerThursdays_2026_WEB-1.jpg
END:VEVENT
BEGIN:VEVENT
DTSTART;TZID=Australia/Sydney:20280824T183000
DTEND;TZID=Australia/Sydney:20280824T223000
DTSTAMP:20260424T080012
CREATED:20250908T020056Z
LAST-MODIFIED:20250908T020057Z
UID:10007275-1850754600-1850769000@hoeymoey.com.au
SUMMARY:Byron Bay Premium Lager's Thursday Pool Comp!
DESCRIPTION:Thursday Night Pool Comp – Don’t Miss Out!\nRain or shine\, the game is on! Come down and show off your skills at our weekly pool competition every Thursday night. \n🕢 Sign-up from 6:30pm | Comp starts at 7pm sharp\n💵 Just $5 to enter\n🏆 $100 Guaranteed Cash Prize for the winner\n🍻 5 Drink Tickets for the runner-up!\n*$10 Re-buy if available \nWhether you’re a seasoned player or just in it for fun\, it’s a great night out. Grab your cue and join us! \nRules of Play as per sign posted within the venue. Management decision is final.
URL:https://hoeymoey.com.au/event/pool-comp-2-2-2/2028-08-24/
LOCATION:The Hoey Moey\, 84 Ocean Parade\, Coffs Harbour\, NSW\, 2450\, Australia
CATEGORIES:Entertainment,Whats On
ATTACH;FMTTYPE=image/jpeg:https://hoeymoey.com.au/wp-content/uploads/2025/05/HM_ByronBayLagerThursdayPoolComp_SEP2025_WEB.jpg
END:VEVENT
BEGIN:VEVENT
DTSTART;TZID=Australia/Sydney:20280828T183000
DTEND;TZID=Australia/Sydney:20280828T203000
DTSTAMP:20260424T080012
CREATED:20240708T234319Z
LAST-MODIFIED:20250908T015855Z
UID:10005199-1851100200-1851107400@hoeymoey.com.au
SUMMARY:Trivia Mondays
DESCRIPTION:Brainiacs unite for Trivia on Monday Nights at the Hoey Moey! \nIt is from 6.30pm with great prizes to be won.
URL:https://hoeymoey.com.au/event/trivia-mondays-2-2-2/2028-08-28/
LOCATION:The Hoey Moey\, 84 Ocean Parade\, Coffs Harbour\, NSW\, 2450\, Australia
CATEGORIES:Entertainment,Whats On
ATTACH;FMTTYPE=image/jpeg:https://hoeymoey.com.au/wp-content/uploads/2024/07/HM_TriviaMondays_2025_WEB_GENERIC-1.jpg
END:VEVENT
BEGIN:VEVENT
DTSTART;TZID=Australia/Sydney:20280829T180000
DTEND;TZID=Australia/Sydney:20280829T180000
DTSTAMP:20260424T080012
CREATED:20230918T000604Z
LAST-MODIFIED:20251007T045542Z
UID:10005467-1851184800-1851184800@hoeymoey.com.au
SUMMARY:Musical Bingo!
DESCRIPTION:Join us for a fun night of Musical Bingo every Tuesday night from 6pm! \nIt’ll be heaps of fun\, with music galore\, and prizes to be won!
URL:https://hoeymoey.com.au/event/musical-bingo-2-2-2/2028-08-29/
LOCATION:The Hoey Moey\, 84 Ocean Parade\, Coffs Harbour\, NSW\, 2450\, Australia
CATEGORIES:Entertainment,Whats On
ATTACH;FMTTYPE=image/jpeg:https://hoeymoey.com.au/wp-content/uploads/2023/09/HM_MusicalBingo_APR2025_WEB.jpg
END:VEVENT
BEGIN:VEVENT
DTSTART;TZID=Australia/Sydney:20280829T193000
DTEND;TZID=Australia/Sydney:20280829T223000
DTSTAMP:20260424T080012
CREATED:20250522T030538Z
LAST-MODIFIED:20250522T032157Z
UID:10006671-1851190200-1851201000@hoeymoey.com.au
SUMMARY:Byron Bay Premium Lager's Tuesday Pinball Comp!
DESCRIPTION:Join us on Tuesdays for our popular Pinball Comp (register from 7.30pm) with great prizes on offer! \nThis event is proudly sponsored by Byron Bay Premium Lager!
URL:https://hoeymoey.com.au/event/pinball-comp-2-2-2/2028-08-29/
LOCATION:The Hoey Moey\, 84 Ocean Parade\, Coffs Harbour\, NSW\, 2450\, Australia
CATEGORIES:Entertainment,Whats On
ATTACH;FMTTYPE=image/jpeg:https://hoeymoey.com.au/wp-content/uploads/2023/07/Pinball-Competition-Hoey-Moey-Park-Beach-Hotel-Motel-Pub-Bar-Accommodation-Bistro-Restaurant-Coffs-Harbour-Coffs-Coast-Mid-North-Coast.jpg
END:VEVENT
BEGIN:VEVENT
DTSTART;TZID=Australia/Sydney:20280830T180000
DTEND;TZID=Australia/Sydney:20280830T190000
DTSTAMP:20260424T080012
CREATED:20260316T233920Z
LAST-MODIFIED:20260331T011139Z
UID:10008407-1851271200-1851274800@hoeymoey.com.au
SUMMARY:Snake Eyes Dice Game every Wednesday!
DESCRIPTION:SNAKE EYES DICE GAME WEDNESDAYS \n\n$50 increase per week\, capped at $500\nDouble one for the grand prize\nDoubles for the below receive:2 – Jug of Hahn or 3.5\n3 – Pizza voucher\n4 – Pint of Hahn or 3.5\n5 – Schooner of Hahn or 3.5\n6 – Mystery prize*Conditions apply – see staff for more details.
URL:https://hoeymoey.com.au/event/snake-eyes-dice-game-every-wednesday/2028-08-30/
CATEGORIES:Entertainment,Weekly Events,Whats On
ATTACH;FMTTYPE=image/jpeg:https://hoeymoey.com.au/wp-content/uploads/2026/03/HM_SnakeEyesDiceGame_MAR2026_WEB.jpg
END:VEVENT
BEGIN:VEVENT
DTSTART;TZID=Australia/Sydney:20280830T183000
DTEND;TZID=Australia/Sydney:20280830T213000
DTSTAMP:20260424T080013
CREATED:20260312T231316Z
LAST-MODIFIED:20260331T043516Z
UID:10007622-1851273000-1851283800@hoeymoey.com.au
SUMMARY:Local Grown Open Mic Night!
DESCRIPTION:LOCAL GROWN OPEN MIC NIGHT – The Next Wave of Coffs Coast Talent!\nEvery Wednesday from 6:30pm – 9:30pm\nThe Hoey Moey\, Coffs Harbour  \n The Stage is Yours!  \nBuilding on the massive energy of Coastal Grown\, we are launching a brand-new weekly residency dedicated to the next generation of local legends. \nLocal Grown is more than an open mic it’s a platform for school-aged musicians\, emerging bands\, and solo artists to own the stage in an all-ages\, inclusive environment. Hosted by Dillon Wrigley \nSupport local: Catch the bands we’ve been nurturing over the years as they take their music to the next level.\n• All Ages Welcome: A safe\, inclusive space for youth to perform and for fans of all ages to enjoy.\n• Weekly Vibe: Make Wednesday nights at the Hoey your new mid-week ritual. \nImportant info for attendees:\n• Under 18s are welcome but must be accompanied by a parent or guardian over 25 in accordance with venue policy.\n• Artists & Bands: Ready to play? Come along and sign up on the night. Let’s grow the scene together.
URL:https://hoeymoey.com.au/event/local-grown-open-mic-night/2028-08-30/
CATEGORIES:Entertainment,Whats On
ATTACH;FMTTYPE=image/jpeg:https://hoeymoey.com.au/wp-content/uploads/2026/03/HM_LocalGrownOpenMicNight_APR2026_WEB2.jpg
END:VEVENT
BEGIN:VEVENT
DTSTART;TZID=Australia/Sydney:20280831T120000
DTEND;TZID=Australia/Sydney:20280831T190000
DTSTAMP:20260424T080013
CREATED:20260316T233247Z
LAST-MODIFIED:20260331T011229Z
UID:10007887-1851336000-1851361200@hoeymoey.com.au
SUMMARY:Joker Poker Jackpot Thursdays is Back!
DESCRIPTION:JOKER POKER JACKPOT THURSDAYS \n\nJackpot starts at $2000. Increases by a minimum of $100 per week with raffle proceeds boosting jackpot increases pending sales.\nEvery Thursday from 26th March\, 2026.\nProceeds to Hoey Moey Community Fund. Raffle from 6pm\, drawn approx 7pm.\n*Conditions apply – see staff for more details.
URL:https://hoeymoey.com.au/event/joker-poker-jackpot-thursdays-is-back/2028-08-31/
CATEGORIES:Entertainment,Weekly Events,Whats On
ATTACH;FMTTYPE=image/jpeg:https://hoeymoey.com.au/wp-content/uploads/2026/03/HM_JokerPokerThursdays_2026_WEB-1.jpg
END:VEVENT
BEGIN:VEVENT
DTSTART;TZID=Australia/Sydney:20280831T183000
DTEND;TZID=Australia/Sydney:20280831T223000
DTSTAMP:20260424T080013
CREATED:20250908T020056Z
LAST-MODIFIED:20250908T020057Z
UID:10007276-1851359400-1851373800@hoeymoey.com.au
SUMMARY:Byron Bay Premium Lager's Thursday Pool Comp!
DESCRIPTION:Thursday Night Pool Comp – Don’t Miss Out!\nRain or shine\, the game is on! Come down and show off your skills at our weekly pool competition every Thursday night. \n🕢 Sign-up from 6:30pm | Comp starts at 7pm sharp\n💵 Just $5 to enter\n🏆 $100 Guaranteed Cash Prize for the winner\n🍻 5 Drink Tickets for the runner-up!\n*$10 Re-buy if available \nWhether you’re a seasoned player or just in it for fun\, it’s a great night out. Grab your cue and join us! \nRules of Play as per sign posted within the venue. Management decision is final.
URL:https://hoeymoey.com.au/event/pool-comp-2-2-2/2028-08-31/
LOCATION:The Hoey Moey\, 84 Ocean Parade\, Coffs Harbour\, NSW\, 2450\, Australia
CATEGORIES:Entertainment,Whats On
ATTACH;FMTTYPE=image/jpeg:https://hoeymoey.com.au/wp-content/uploads/2025/05/HM_ByronBayLagerThursdayPoolComp_SEP2025_WEB.jpg
END:VEVENT
BEGIN:VEVENT
DTSTART;TZID=Australia/Sydney:20280904T183000
DTEND;TZID=Australia/Sydney:20280904T203000
DTSTAMP:20260424T080013
CREATED:20240708T234319Z
LAST-MODIFIED:20250908T015855Z
UID:10005200-1851705000-1851712200@hoeymoey.com.au
SUMMARY:Trivia Mondays
DESCRIPTION:Brainiacs unite for Trivia on Monday Nights at the Hoey Moey! \nIt is from 6.30pm with great prizes to be won.
URL:https://hoeymoey.com.au/event/trivia-mondays-2-2-2/2028-09-04/
LOCATION:The Hoey Moey\, 84 Ocean Parade\, Coffs Harbour\, NSW\, 2450\, Australia
CATEGORIES:Entertainment,Whats On
ATTACH;FMTTYPE=image/jpeg:https://hoeymoey.com.au/wp-content/uploads/2024/07/HM_TriviaMondays_2025_WEB_GENERIC-1.jpg
END:VEVENT
BEGIN:VEVENT
DTSTART;TZID=Australia/Sydney:20280905T180000
DTEND;TZID=Australia/Sydney:20280905T180000
DTSTAMP:20260424T080013
CREATED:20230918T000604Z
LAST-MODIFIED:20251007T045542Z
UID:10005468-1851789600-1851789600@hoeymoey.com.au
SUMMARY:Musical Bingo!
DESCRIPTION:Join us for a fun night of Musical Bingo every Tuesday night from 6pm! \nIt’ll be heaps of fun\, with music galore\, and prizes to be won!
URL:https://hoeymoey.com.au/event/musical-bingo-2-2-2/2028-09-05/
LOCATION:The Hoey Moey\, 84 Ocean Parade\, Coffs Harbour\, NSW\, 2450\, Australia
CATEGORIES:Entertainment,Whats On
ATTACH;FMTTYPE=image/jpeg:https://hoeymoey.com.au/wp-content/uploads/2023/09/HM_MusicalBingo_APR2025_WEB.jpg
END:VEVENT
BEGIN:VEVENT
DTSTART;TZID=Australia/Sydney:20280905T193000
DTEND;TZID=Australia/Sydney:20280905T223000
DTSTAMP:20260424T080013
CREATED:20250522T030538Z
LAST-MODIFIED:20250522T032157Z
UID:10006672-1851795000-1851805800@hoeymoey.com.au
SUMMARY:Byron Bay Premium Lager's Tuesday Pinball Comp!
DESCRIPTION:Join us on Tuesdays for our popular Pinball Comp (register from 7.30pm) with great prizes on offer! \nThis event is proudly sponsored by Byron Bay Premium Lager!
URL:https://hoeymoey.com.au/event/pinball-comp-2-2-2/2028-09-05/
LOCATION:The Hoey Moey\, 84 Ocean Parade\, Coffs Harbour\, NSW\, 2450\, Australia
CATEGORIES:Entertainment,Whats On
ATTACH;FMTTYPE=image/jpeg:https://hoeymoey.com.au/wp-content/uploads/2023/07/Pinball-Competition-Hoey-Moey-Park-Beach-Hotel-Motel-Pub-Bar-Accommodation-Bistro-Restaurant-Coffs-Harbour-Coffs-Coast-Mid-North-Coast.jpg
END:VEVENT
BEGIN:VEVENT
DTSTART;TZID=Australia/Sydney:20280906T180000
DTEND;TZID=Australia/Sydney:20280906T190000
DTSTAMP:20260424T080013
CREATED:20260316T233920Z
LAST-MODIFIED:20260331T011139Z
UID:10008408-1851876000-1851879600@hoeymoey.com.au
SUMMARY:Snake Eyes Dice Game every Wednesday!
DESCRIPTION:SNAKE EYES DICE GAME WEDNESDAYS \n\n$50 increase per week\, capped at $500\nDouble one for the grand prize\nDoubles for the below receive:2 – Jug of Hahn or 3.5\n3 – Pizza voucher\n4 – Pint of Hahn or 3.5\n5 – Schooner of Hahn or 3.5\n6 – Mystery prize*Conditions apply – see staff for more details.
URL:https://hoeymoey.com.au/event/snake-eyes-dice-game-every-wednesday/2028-09-06/
CATEGORIES:Entertainment,Weekly Events,Whats On
ATTACH;FMTTYPE=image/jpeg:https://hoeymoey.com.au/wp-content/uploads/2026/03/HM_SnakeEyesDiceGame_MAR2026_WEB.jpg
END:VEVENT
BEGIN:VEVENT
DTSTART;TZID=Australia/Sydney:20280906T183000
DTEND;TZID=Australia/Sydney:20280906T213000
DTSTAMP:20260424T080013
CREATED:20260312T231316Z
LAST-MODIFIED:20260331T043516Z
UID:10007623-1851877800-1851888600@hoeymoey.com.au
SUMMARY:Local Grown Open Mic Night!
DESCRIPTION:LOCAL GROWN OPEN MIC NIGHT – The Next Wave of Coffs Coast Talent!\nEvery Wednesday from 6:30pm – 9:30pm\nThe Hoey Moey\, Coffs Harbour  \n The Stage is Yours!  \nBuilding on the massive energy of Coastal Grown\, we are launching a brand-new weekly residency dedicated to the next generation of local legends. \nLocal Grown is more than an open mic it’s a platform for school-aged musicians\, emerging bands\, and solo artists to own the stage in an all-ages\, inclusive environment. Hosted by Dillon Wrigley \nSupport local: Catch the bands we’ve been nurturing over the years as they take their music to the next level.\n• All Ages Welcome: A safe\, inclusive space for youth to perform and for fans of all ages to enjoy.\n• Weekly Vibe: Make Wednesday nights at the Hoey your new mid-week ritual. \nImportant info for attendees:\n• Under 18s are welcome but must be accompanied by a parent or guardian over 25 in accordance with venue policy.\n• Artists & Bands: Ready to play? Come along and sign up on the night. Let’s grow the scene together.
URL:https://hoeymoey.com.au/event/local-grown-open-mic-night/2028-09-06/
CATEGORIES:Entertainment,Whats On
ATTACH;FMTTYPE=image/jpeg:https://hoeymoey.com.au/wp-content/uploads/2026/03/HM_LocalGrownOpenMicNight_APR2026_WEB2.jpg
END:VEVENT
BEGIN:VEVENT
DTSTART;TZID=Australia/Sydney:20280907T120000
DTEND;TZID=Australia/Sydney:20280907T190000
DTSTAMP:20260424T080013
CREATED:20260316T233247Z
LAST-MODIFIED:20260331T011229Z
UID:10007888-1851940800-1851966000@hoeymoey.com.au
SUMMARY:Joker Poker Jackpot Thursdays is Back!
DESCRIPTION:JOKER POKER JACKPOT THURSDAYS \n\nJackpot starts at $2000. Increases by a minimum of $100 per week with raffle proceeds boosting jackpot increases pending sales.\nEvery Thursday from 26th March\, 2026.\nProceeds to Hoey Moey Community Fund. Raffle from 6pm\, drawn approx 7pm.\n*Conditions apply – see staff for more details.
URL:https://hoeymoey.com.au/event/joker-poker-jackpot-thursdays-is-back/2028-09-07/
CATEGORIES:Entertainment,Weekly Events,Whats On
ATTACH;FMTTYPE=image/jpeg:https://hoeymoey.com.au/wp-content/uploads/2026/03/HM_JokerPokerThursdays_2026_WEB-1.jpg
END:VEVENT
BEGIN:VEVENT
DTSTART;TZID=Australia/Sydney:20280907T183000
DTEND;TZID=Australia/Sydney:20280907T223000
DTSTAMP:20260424T080013
CREATED:20250908T020056Z
LAST-MODIFIED:20250908T020057Z
UID:10007277-1851964200-1851978600@hoeymoey.com.au
SUMMARY:Byron Bay Premium Lager's Thursday Pool Comp!
DESCRIPTION:Thursday Night Pool Comp – Don’t Miss Out!\nRain or shine\, the game is on! Come down and show off your skills at our weekly pool competition every Thursday night. \n🕢 Sign-up from 6:30pm | Comp starts at 7pm sharp\n💵 Just $5 to enter\n🏆 $100 Guaranteed Cash Prize for the winner\n🍻 5 Drink Tickets for the runner-up!\n*$10 Re-buy if available \nWhether you’re a seasoned player or just in it for fun\, it’s a great night out. Grab your cue and join us! \nRules of Play as per sign posted within the venue. Management decision is final.
URL:https://hoeymoey.com.au/event/pool-comp-2-2-2/2028-09-07/
LOCATION:The Hoey Moey\, 84 Ocean Parade\, Coffs Harbour\, NSW\, 2450\, Australia
CATEGORIES:Entertainment,Whats On
ATTACH;FMTTYPE=image/jpeg:https://hoeymoey.com.au/wp-content/uploads/2025/05/HM_ByronBayLagerThursdayPoolComp_SEP2025_WEB.jpg
END:VEVENT
BEGIN:VEVENT
DTSTART;TZID=Australia/Sydney:20280911T183000
DTEND;TZID=Australia/Sydney:20280911T203000
DTSTAMP:20260424T080013
CREATED:20240708T234319Z
LAST-MODIFIED:20250908T015855Z
UID:10005201-1852309800-1852317000@hoeymoey.com.au
SUMMARY:Trivia Mondays
DESCRIPTION:Brainiacs unite for Trivia on Monday Nights at the Hoey Moey! \nIt is from 6.30pm with great prizes to be won.
URL:https://hoeymoey.com.au/event/trivia-mondays-2-2-2/2028-09-11/
LOCATION:The Hoey Moey\, 84 Ocean Parade\, Coffs Harbour\, NSW\, 2450\, Australia
CATEGORIES:Entertainment,Whats On
ATTACH;FMTTYPE=image/jpeg:https://hoeymoey.com.au/wp-content/uploads/2024/07/HM_TriviaMondays_2025_WEB_GENERIC-1.jpg
END:VEVENT
BEGIN:VEVENT
DTSTART;TZID=Australia/Sydney:20280912T180000
DTEND;TZID=Australia/Sydney:20280912T180000
DTSTAMP:20260424T080013
CREATED:20230918T000604Z
LAST-MODIFIED:20251007T045542Z
UID:10005469-1852394400-1852394400@hoeymoey.com.au
SUMMARY:Musical Bingo!
DESCRIPTION:Join us for a fun night of Musical Bingo every Tuesday night from 6pm! \nIt’ll be heaps of fun\, with music galore\, and prizes to be won!
URL:https://hoeymoey.com.au/event/musical-bingo-2-2-2/2028-09-12/
LOCATION:The Hoey Moey\, 84 Ocean Parade\, Coffs Harbour\, NSW\, 2450\, Australia
CATEGORIES:Entertainment,Whats On
ATTACH;FMTTYPE=image/jpeg:https://hoeymoey.com.au/wp-content/uploads/2023/09/HM_MusicalBingo_APR2025_WEB.jpg
END:VEVENT
BEGIN:VEVENT
DTSTART;TZID=Australia/Sydney:20280912T193000
DTEND;TZID=Australia/Sydney:20280912T223000
DTSTAMP:20260424T080013
CREATED:20250522T030538Z
LAST-MODIFIED:20250522T032157Z
UID:10006673-1852399800-1852410600@hoeymoey.com.au
SUMMARY:Byron Bay Premium Lager's Tuesday Pinball Comp!
DESCRIPTION:Join us on Tuesdays for our popular Pinball Comp (register from 7.30pm) with great prizes on offer! \nThis event is proudly sponsored by Byron Bay Premium Lager!
URL:https://hoeymoey.com.au/event/pinball-comp-2-2-2/2028-09-12/
LOCATION:The Hoey Moey\, 84 Ocean Parade\, Coffs Harbour\, NSW\, 2450\, Australia
CATEGORIES:Entertainment,Whats On
ATTACH;FMTTYPE=image/jpeg:https://hoeymoey.com.au/wp-content/uploads/2023/07/Pinball-Competition-Hoey-Moey-Park-Beach-Hotel-Motel-Pub-Bar-Accommodation-Bistro-Restaurant-Coffs-Harbour-Coffs-Coast-Mid-North-Coast.jpg
END:VEVENT
BEGIN:VEVENT
DTSTART;TZID=Australia/Sydney:20280913T180000
DTEND;TZID=Australia/Sydney:20280913T190000
DTSTAMP:20260424T080013
CREATED:20260316T233920Z
LAST-MODIFIED:20260331T011139Z
UID:10008409-1852480800-1852484400@hoeymoey.com.au
SUMMARY:Snake Eyes Dice Game every Wednesday!
DESCRIPTION:SNAKE EYES DICE GAME WEDNESDAYS \n\n$50 increase per week\, capped at $500\nDouble one for the grand prize\nDoubles for the below receive:2 – Jug of Hahn or 3.5\n3 – Pizza voucher\n4 – Pint of Hahn or 3.5\n5 – Schooner of Hahn or 3.5\n6 – Mystery prize*Conditions apply – see staff for more details.
URL:https://hoeymoey.com.au/event/snake-eyes-dice-game-every-wednesday/2028-09-13/
CATEGORIES:Entertainment,Weekly Events,Whats On
ATTACH;FMTTYPE=image/jpeg:https://hoeymoey.com.au/wp-content/uploads/2026/03/HM_SnakeEyesDiceGame_MAR2026_WEB.jpg
END:VEVENT
BEGIN:VEVENT
DTSTART;TZID=Australia/Sydney:20280913T183000
DTEND;TZID=Australia/Sydney:20280913T213000
DTSTAMP:20260424T080013
CREATED:20260312T231316Z
LAST-MODIFIED:20260331T043516Z
UID:10007624-1852482600-1852493400@hoeymoey.com.au
SUMMARY:Local Grown Open Mic Night!
DESCRIPTION:LOCAL GROWN OPEN MIC NIGHT – The Next Wave of Coffs Coast Talent!\nEvery Wednesday from 6:30pm – 9:30pm\nThe Hoey Moey\, Coffs Harbour  \n The Stage is Yours!  \nBuilding on the massive energy of Coastal Grown\, we are launching a brand-new weekly residency dedicated to the next generation of local legends. \nLocal Grown is more than an open mic it’s a platform for school-aged musicians\, emerging bands\, and solo artists to own the stage in an all-ages\, inclusive environment. Hosted by Dillon Wrigley \nSupport local: Catch the bands we’ve been nurturing over the years as they take their music to the next level.\n• All Ages Welcome: A safe\, inclusive space for youth to perform and for fans of all ages to enjoy.\n• Weekly Vibe: Make Wednesday nights at the Hoey your new mid-week ritual. \nImportant info for attendees:\n• Under 18s are welcome but must be accompanied by a parent or guardian over 25 in accordance with venue policy.\n• Artists & Bands: Ready to play? Come along and sign up on the night. Let’s grow the scene together.
URL:https://hoeymoey.com.au/event/local-grown-open-mic-night/2028-09-13/
CATEGORIES:Entertainment,Whats On
ATTACH;FMTTYPE=image/jpeg:https://hoeymoey.com.au/wp-content/uploads/2026/03/HM_LocalGrownOpenMicNight_APR2026_WEB2.jpg
END:VEVENT
BEGIN:VEVENT
DTSTART;TZID=Australia/Sydney:20280914T120000
DTEND;TZID=Australia/Sydney:20280914T190000
DTSTAMP:20260424T080013
CREATED:20260316T233247Z
LAST-MODIFIED:20260331T011229Z
UID:10007889-1852545600-1852570800@hoeymoey.com.au
SUMMARY:Joker Poker Jackpot Thursdays is Back!
DESCRIPTION:JOKER POKER JACKPOT THURSDAYS \n\nJackpot starts at $2000. Increases by a minimum of $100 per week with raffle proceeds boosting jackpot increases pending sales.\nEvery Thursday from 26th March\, 2026.\nProceeds to Hoey Moey Community Fund. Raffle from 6pm\, drawn approx 7pm.\n*Conditions apply – see staff for more details.
URL:https://hoeymoey.com.au/event/joker-poker-jackpot-thursdays-is-back/2028-09-14/
CATEGORIES:Entertainment,Weekly Events,Whats On
ATTACH;FMTTYPE=image/jpeg:https://hoeymoey.com.au/wp-content/uploads/2026/03/HM_JokerPokerThursdays_2026_WEB-1.jpg
END:VEVENT
BEGIN:VEVENT
DTSTART;TZID=Australia/Sydney:20280914T183000
DTEND;TZID=Australia/Sydney:20280914T223000
DTSTAMP:20260424T080013
CREATED:20250908T020056Z
LAST-MODIFIED:20250908T020057Z
UID:10007278-1852569000-1852583400@hoeymoey.com.au
SUMMARY:Byron Bay Premium Lager's Thursday Pool Comp!
DESCRIPTION:Thursday Night Pool Comp – Don’t Miss Out!\nRain or shine\, the game is on! Come down and show off your skills at our weekly pool competition every Thursday night. \n🕢 Sign-up from 6:30pm | Comp starts at 7pm sharp\n💵 Just $5 to enter\n🏆 $100 Guaranteed Cash Prize for the winner\n🍻 5 Drink Tickets for the runner-up!\n*$10 Re-buy if available \nWhether you’re a seasoned player or just in it for fun\, it’s a great night out. Grab your cue and join us! \nRules of Play as per sign posted within the venue. Management decision is final.
URL:https://hoeymoey.com.au/event/pool-comp-2-2-2/2028-09-14/
LOCATION:The Hoey Moey\, 84 Ocean Parade\, Coffs Harbour\, NSW\, 2450\, Australia
CATEGORIES:Entertainment,Whats On
ATTACH;FMTTYPE=image/jpeg:https://hoeymoey.com.au/wp-content/uploads/2025/05/HM_ByronBayLagerThursdayPoolComp_SEP2025_WEB.jpg
END:VEVENT
BEGIN:VEVENT
DTSTART;TZID=Australia/Sydney:20280918T183000
DTEND;TZID=Australia/Sydney:20280918T203000
DTSTAMP:20260424T080013
CREATED:20240708T234319Z
LAST-MODIFIED:20250908T015855Z
UID:10005202-1852914600-1852921800@hoeymoey.com.au
SUMMARY:Trivia Mondays
DESCRIPTION:Brainiacs unite for Trivia on Monday Nights at the Hoey Moey! \nIt is from 6.30pm with great prizes to be won.
URL:https://hoeymoey.com.au/event/trivia-mondays-2-2-2/2028-09-18/
LOCATION:The Hoey Moey\, 84 Ocean Parade\, Coffs Harbour\, NSW\, 2450\, Australia
CATEGORIES:Entertainment,Whats On
ATTACH;FMTTYPE=image/jpeg:https://hoeymoey.com.au/wp-content/uploads/2024/07/HM_TriviaMondays_2025_WEB_GENERIC-1.jpg
END:VEVENT
BEGIN:VEVENT
DTSTART;TZID=Australia/Sydney:20280919T180000
DTEND;TZID=Australia/Sydney:20280919T180000
DTSTAMP:20260424T080013
CREATED:20230918T000604Z
LAST-MODIFIED:20251007T045542Z
UID:10005470-1852999200-1852999200@hoeymoey.com.au
SUMMARY:Musical Bingo!
DESCRIPTION:Join us for a fun night of Musical Bingo every Tuesday night from 6pm! \nIt’ll be heaps of fun\, with music galore\, and prizes to be won!
URL:https://hoeymoey.com.au/event/musical-bingo-2-2-2/2028-09-19/
LOCATION:The Hoey Moey\, 84 Ocean Parade\, Coffs Harbour\, NSW\, 2450\, Australia
CATEGORIES:Entertainment,Whats On
ATTACH;FMTTYPE=image/jpeg:https://hoeymoey.com.au/wp-content/uploads/2023/09/HM_MusicalBingo_APR2025_WEB.jpg
END:VEVENT
BEGIN:VEVENT
DTSTART;TZID=Australia/Sydney:20280919T193000
DTEND;TZID=Australia/Sydney:20280919T223000
DTSTAMP:20260424T080013
CREATED:20250522T030538Z
LAST-MODIFIED:20250522T032157Z
UID:10006674-1853004600-1853015400@hoeymoey.com.au
SUMMARY:Byron Bay Premium Lager's Tuesday Pinball Comp!
DESCRIPTION:Join us on Tuesdays for our popular Pinball Comp (register from 7.30pm) with great prizes on offer! \nThis event is proudly sponsored by Byron Bay Premium Lager!
URL:https://hoeymoey.com.au/event/pinball-comp-2-2-2/2028-09-19/
LOCATION:The Hoey Moey\, 84 Ocean Parade\, Coffs Harbour\, NSW\, 2450\, Australia
CATEGORIES:Entertainment,Whats On
ATTACH;FMTTYPE=image/jpeg:https://hoeymoey.com.au/wp-content/uploads/2023/07/Pinball-Competition-Hoey-Moey-Park-Beach-Hotel-Motel-Pub-Bar-Accommodation-Bistro-Restaurant-Coffs-Harbour-Coffs-Coast-Mid-North-Coast.jpg
END:VEVENT
END:VCALENDAR