BEGIN:VCALENDAR
VERSION:2.0
PRODID:-//Hoey Moey - ECPv6.3.3.1//NONSGML v1.0//EN
CALSCALE:GREGORIAN
METHOD:PUBLISH
X-ORIGINAL-URL:https://hoeymoey.com.au
X-WR-CALDESC:Events for Hoey Moey
REFRESH-INTERVAL;VALUE=DURATION:PT1H
X-Robots-Tag:noindex
X-PUBLISHED-TTL:PT1H
BEGIN:VTIMEZONE
TZID:Australia/Sydney
BEGIN:STANDARD
TZOFFSETFROM:+1100
TZOFFSETTO:+1000
TZNAME:AEST
DTSTART:20290331T160000
END:STANDARD
BEGIN:DAYLIGHT
TZOFFSETFROM:+1000
TZOFFSETTO:+1100
TZNAME:AEDT
DTSTART:20291006T160000
END:DAYLIGHT
END:VTIMEZONE
BEGIN:VEVENT
DTSTART;TZID=Australia/Sydney:20290320T180000
DTEND;TZID=Australia/Sydney:20290320T180000
DTSTAMP:20260424T192026
CREATED:20230918T000604Z
LAST-MODIFIED:20251007T045542Z
UID:10005555-1868724000-1868724000@hoeymoey.com.au
SUMMARY:Musical Bingo!
DESCRIPTION:Join us for a fun night of Musical Bingo every Tuesday night from 6pm! \nIt’ll be heaps of fun\, with music galore\, and prizes to be won!
URL:https://hoeymoey.com.au/event/musical-bingo-2-2-2/2029-03-20/
LOCATION:The Hoey Moey\, 84 Ocean Parade\, Coffs Harbour\, NSW\, 2450\, Australia
CATEGORIES:Entertainment,Whats On
ATTACH;FMTTYPE=image/jpeg:https://hoeymoey.com.au/wp-content/uploads/2023/09/HM_MusicalBingo_APR2025_WEB.jpg
END:VEVENT
BEGIN:VEVENT
DTSTART;TZID=Australia/Sydney:20290320T193000
DTEND;TZID=Australia/Sydney:20290320T223000
DTSTAMP:20260424T192026
CREATED:20250522T030538Z
LAST-MODIFIED:20250522T032157Z
UID:10006700-1868729400-1868740200@hoeymoey.com.au
SUMMARY:Byron Bay Premium Lager's Tuesday Pinball Comp!
DESCRIPTION:Join us on Tuesdays for our popular Pinball Comp (register from 7.30pm) with great prizes on offer! \nThis event is proudly sponsored by Byron Bay Premium Lager!
URL:https://hoeymoey.com.au/event/pinball-comp-2-2-2/2029-03-20/
LOCATION:The Hoey Moey\, 84 Ocean Parade\, Coffs Harbour\, NSW\, 2450\, Australia
CATEGORIES:Entertainment,Whats On
ATTACH;FMTTYPE=image/jpeg:https://hoeymoey.com.au/wp-content/uploads/2023/07/Pinball-Competition-Hoey-Moey-Park-Beach-Hotel-Motel-Pub-Bar-Accommodation-Bistro-Restaurant-Coffs-Harbour-Coffs-Coast-Mid-North-Coast.jpg
END:VEVENT
BEGIN:VEVENT
DTSTART;TZID=Australia/Sydney:20290321T180000
DTEND;TZID=Australia/Sydney:20290321T190000
DTSTAMP:20260424T192026
CREATED:20260316T233920Z
LAST-MODIFIED:20260331T011139Z
UID:10008436-1868810400-1868814000@hoeymoey.com.au
SUMMARY:Snake Eyes Dice Game every Wednesday!
DESCRIPTION:SNAKE EYES DICE GAME WEDNESDAYS \n\n$50 increase per week\, capped at $500\nDouble one for the grand prize\nDoubles for the below receive:2 – Jug of Hahn or 3.5\n3 – Pizza voucher\n4 – Pint of Hahn or 3.5\n5 – Schooner of Hahn or 3.5\n6 – Mystery prize*Conditions apply – see staff for more details.
URL:https://hoeymoey.com.au/event/snake-eyes-dice-game-every-wednesday/2029-03-21/
CATEGORIES:Entertainment,Weekly Events,Whats On
ATTACH;FMTTYPE=image/jpeg:https://hoeymoey.com.au/wp-content/uploads/2026/03/HM_SnakeEyesDiceGame_MAR2026_WEB.jpg
END:VEVENT
BEGIN:VEVENT
DTSTART;TZID=Australia/Sydney:20290321T183000
DTEND;TZID=Australia/Sydney:20290321T213000
DTSTAMP:20260424T192026
CREATED:20260312T231316Z
LAST-MODIFIED:20260331T043516Z
UID:10007651-1868812200-1868823000@hoeymoey.com.au
SUMMARY:Local Grown Open Mic Night!
DESCRIPTION:LOCAL GROWN OPEN MIC NIGHT – The Next Wave of Coffs Coast Talent!\nEvery Wednesday from 6:30pm – 9:30pm\nThe Hoey Moey\, Coffs Harbour  \n The Stage is Yours!  \nBuilding on the massive energy of Coastal Grown\, we are launching a brand-new weekly residency dedicated to the next generation of local legends. \nLocal Grown is more than an open mic it’s a platform for school-aged musicians\, emerging bands\, and solo artists to own the stage in an all-ages\, inclusive environment. Hosted by Dillon Wrigley \nSupport local: Catch the bands we’ve been nurturing over the years as they take their music to the next level.\n• All Ages Welcome: A safe\, inclusive space for youth to perform and for fans of all ages to enjoy.\n• Weekly Vibe: Make Wednesday nights at the Hoey your new mid-week ritual. \nImportant info for attendees:\n• Under 18s are welcome but must be accompanied by a parent or guardian over 25 in accordance with venue policy.\n• Artists & Bands: Ready to play? Come along and sign up on the night. Let’s grow the scene together.
URL:https://hoeymoey.com.au/event/local-grown-open-mic-night/2029-03-21/
CATEGORIES:Entertainment,Whats On
ATTACH;FMTTYPE=image/jpeg:https://hoeymoey.com.au/wp-content/uploads/2026/03/HM_LocalGrownOpenMicNight_APR2026_WEB2.jpg
END:VEVENT
BEGIN:VEVENT
DTSTART;TZID=Australia/Sydney:20290322T120000
DTEND;TZID=Australia/Sydney:20290322T190000
DTSTAMP:20260424T192026
CREATED:20260316T233247Z
LAST-MODIFIED:20260331T011229Z
UID:10007916-1868875200-1868900400@hoeymoey.com.au
SUMMARY:Joker Poker Jackpot Thursdays is Back!
DESCRIPTION:JOKER POKER JACKPOT THURSDAYS \n\nJackpot starts at $2000. Increases by a minimum of $100 per week with raffle proceeds boosting jackpot increases pending sales.\nEvery Thursday from 26th March\, 2026.\nProceeds to Hoey Moey Community Fund. Raffle from 6pm\, drawn approx 7pm.\n*Conditions apply – see staff for more details.
URL:https://hoeymoey.com.au/event/joker-poker-jackpot-thursdays-is-back/2029-03-22/
CATEGORIES:Entertainment,Weekly Events,Whats On
ATTACH;FMTTYPE=image/jpeg:https://hoeymoey.com.au/wp-content/uploads/2026/03/HM_JokerPokerThursdays_2026_WEB-1.jpg
END:VEVENT
BEGIN:VEVENT
DTSTART;TZID=Australia/Sydney:20290322T183000
DTEND;TZID=Australia/Sydney:20290322T223000
DTSTAMP:20260424T192026
CREATED:20250908T020056Z
LAST-MODIFIED:20250908T020057Z
UID:10007305-1868898600-1868913000@hoeymoey.com.au
SUMMARY:Byron Bay Premium Lager's Thursday Pool Comp!
DESCRIPTION:Thursday Night Pool Comp – Don’t Miss Out!\nRain or shine\, the game is on! Come down and show off your skills at our weekly pool competition every Thursday night. \n🕢 Sign-up from 6:30pm | Comp starts at 7pm sharp\n💵 Just $5 to enter\n🏆 $100 Guaranteed Cash Prize for the winner\n🍻 5 Drink Tickets for the runner-up!\n*$10 Re-buy if available \nWhether you’re a seasoned player or just in it for fun\, it’s a great night out. Grab your cue and join us! \nRules of Play as per sign posted within the venue. Management decision is final.
URL:https://hoeymoey.com.au/event/pool-comp-2-2-2/2029-03-22/
LOCATION:The Hoey Moey\, 84 Ocean Parade\, Coffs Harbour\, NSW\, 2450\, Australia
CATEGORIES:Entertainment,Whats On
ATTACH;FMTTYPE=image/jpeg:https://hoeymoey.com.au/wp-content/uploads/2025/05/HM_ByronBayLagerThursdayPoolComp_SEP2025_WEB.jpg
END:VEVENT
BEGIN:VEVENT
DTSTART;TZID=Australia/Sydney:20290326T183000
DTEND;TZID=Australia/Sydney:20290326T203000
DTSTAMP:20260424T192026
CREATED:20240708T234319Z
LAST-MODIFIED:20250908T015855Z
UID:10005640-1869244200-1869251400@hoeymoey.com.au
SUMMARY:Trivia Mondays
DESCRIPTION:Brainiacs unite for Trivia on Monday Nights at the Hoey Moey! \nIt is from 6.30pm with great prizes to be won.
URL:https://hoeymoey.com.au/event/trivia-mondays-2-2-2/2029-03-26/
LOCATION:The Hoey Moey\, 84 Ocean Parade\, Coffs Harbour\, NSW\, 2450\, Australia
CATEGORIES:Entertainment,Whats On
ATTACH;FMTTYPE=image/jpeg:https://hoeymoey.com.au/wp-content/uploads/2024/07/HM_TriviaMondays_2025_WEB_GENERIC-1.jpg
END:VEVENT
BEGIN:VEVENT
DTSTART;TZID=Australia/Sydney:20290327T180000
DTEND;TZID=Australia/Sydney:20290327T180000
DTSTAMP:20260424T192026
CREATED:20230918T000604Z
LAST-MODIFIED:20251007T045542Z
UID:10006093-1869328800-1869328800@hoeymoey.com.au
SUMMARY:Musical Bingo!
DESCRIPTION:Join us for a fun night of Musical Bingo every Tuesday night from 6pm! \nIt’ll be heaps of fun\, with music galore\, and prizes to be won!
URL:https://hoeymoey.com.au/event/musical-bingo-2-2-2/2029-03-27/
LOCATION:The Hoey Moey\, 84 Ocean Parade\, Coffs Harbour\, NSW\, 2450\, Australia
CATEGORIES:Entertainment,Whats On
ATTACH;FMTTYPE=image/jpeg:https://hoeymoey.com.au/wp-content/uploads/2023/09/HM_MusicalBingo_APR2025_WEB.jpg
END:VEVENT
BEGIN:VEVENT
DTSTART;TZID=Australia/Sydney:20290327T193000
DTEND;TZID=Australia/Sydney:20290327T223000
DTSTAMP:20260424T192026
CREATED:20250522T030538Z
LAST-MODIFIED:20250522T032157Z
UID:10006701-1869334200-1869345000@hoeymoey.com.au
SUMMARY:Byron Bay Premium Lager's Tuesday Pinball Comp!
DESCRIPTION:Join us on Tuesdays for our popular Pinball Comp (register from 7.30pm) with great prizes on offer! \nThis event is proudly sponsored by Byron Bay Premium Lager!
URL:https://hoeymoey.com.au/event/pinball-comp-2-2-2/2029-03-27/
LOCATION:The Hoey Moey\, 84 Ocean Parade\, Coffs Harbour\, NSW\, 2450\, Australia
CATEGORIES:Entertainment,Whats On
ATTACH;FMTTYPE=image/jpeg:https://hoeymoey.com.au/wp-content/uploads/2023/07/Pinball-Competition-Hoey-Moey-Park-Beach-Hotel-Motel-Pub-Bar-Accommodation-Bistro-Restaurant-Coffs-Harbour-Coffs-Coast-Mid-North-Coast.jpg
END:VEVENT
BEGIN:VEVENT
DTSTART;TZID=Australia/Sydney:20290328T180000
DTEND;TZID=Australia/Sydney:20290328T190000
DTSTAMP:20260424T192026
CREATED:20260316T233920Z
LAST-MODIFIED:20260331T011139Z
UID:10008437-1869415200-1869418800@hoeymoey.com.au
SUMMARY:Snake Eyes Dice Game every Wednesday!
DESCRIPTION:SNAKE EYES DICE GAME WEDNESDAYS \n\n$50 increase per week\, capped at $500\nDouble one for the grand prize\nDoubles for the below receive:2 – Jug of Hahn or 3.5\n3 – Pizza voucher\n4 – Pint of Hahn or 3.5\n5 – Schooner of Hahn or 3.5\n6 – Mystery prize*Conditions apply – see staff for more details.
URL:https://hoeymoey.com.au/event/snake-eyes-dice-game-every-wednesday/2029-03-28/
CATEGORIES:Entertainment,Weekly Events,Whats On
ATTACH;FMTTYPE=image/jpeg:https://hoeymoey.com.au/wp-content/uploads/2026/03/HM_SnakeEyesDiceGame_MAR2026_WEB.jpg
END:VEVENT
BEGIN:VEVENT
DTSTART;TZID=Australia/Sydney:20290328T183000
DTEND;TZID=Australia/Sydney:20290328T213000
DTSTAMP:20260424T192026
CREATED:20260312T231316Z
LAST-MODIFIED:20260331T043516Z
UID:10007652-1869417000-1869427800@hoeymoey.com.au
SUMMARY:Local Grown Open Mic Night!
DESCRIPTION:LOCAL GROWN OPEN MIC NIGHT – The Next Wave of Coffs Coast Talent!\nEvery Wednesday from 6:30pm – 9:30pm\nThe Hoey Moey\, Coffs Harbour  \n The Stage is Yours!  \nBuilding on the massive energy of Coastal Grown\, we are launching a brand-new weekly residency dedicated to the next generation of local legends. \nLocal Grown is more than an open mic it’s a platform for school-aged musicians\, emerging bands\, and solo artists to own the stage in an all-ages\, inclusive environment. Hosted by Dillon Wrigley \nSupport local: Catch the bands we’ve been nurturing over the years as they take their music to the next level.\n• All Ages Welcome: A safe\, inclusive space for youth to perform and for fans of all ages to enjoy.\n• Weekly Vibe: Make Wednesday nights at the Hoey your new mid-week ritual. \nImportant info for attendees:\n• Under 18s are welcome but must be accompanied by a parent or guardian over 25 in accordance with venue policy.\n• Artists & Bands: Ready to play? Come along and sign up on the night. Let’s grow the scene together.
URL:https://hoeymoey.com.au/event/local-grown-open-mic-night/2029-03-28/
CATEGORIES:Entertainment,Whats On
ATTACH;FMTTYPE=image/jpeg:https://hoeymoey.com.au/wp-content/uploads/2026/03/HM_LocalGrownOpenMicNight_APR2026_WEB2.jpg
END:VEVENT
BEGIN:VEVENT
DTSTART;TZID=Australia/Sydney:20290329T120000
DTEND;TZID=Australia/Sydney:20290329T190000
DTSTAMP:20260424T192026
CREATED:20260316T233247Z
LAST-MODIFIED:20260331T011229Z
UID:10007917-1869480000-1869505200@hoeymoey.com.au
SUMMARY:Joker Poker Jackpot Thursdays is Back!
DESCRIPTION:JOKER POKER JACKPOT THURSDAYS \n\nJackpot starts at $2000. Increases by a minimum of $100 per week with raffle proceeds boosting jackpot increases pending sales.\nEvery Thursday from 26th March\, 2026.\nProceeds to Hoey Moey Community Fund. Raffle from 6pm\, drawn approx 7pm.\n*Conditions apply – see staff for more details.
URL:https://hoeymoey.com.au/event/joker-poker-jackpot-thursdays-is-back/2029-03-29/
CATEGORIES:Entertainment,Weekly Events,Whats On
ATTACH;FMTTYPE=image/jpeg:https://hoeymoey.com.au/wp-content/uploads/2026/03/HM_JokerPokerThursdays_2026_WEB-1.jpg
END:VEVENT
BEGIN:VEVENT
DTSTART;TZID=Australia/Sydney:20290329T183000
DTEND;TZID=Australia/Sydney:20290329T223000
DTSTAMP:20260424T192026
CREATED:20250908T020056Z
LAST-MODIFIED:20250908T020057Z
UID:10007306-1869503400-1869517800@hoeymoey.com.au
SUMMARY:Byron Bay Premium Lager's Thursday Pool Comp!
DESCRIPTION:Thursday Night Pool Comp – Don’t Miss Out!\nRain or shine\, the game is on! Come down and show off your skills at our weekly pool competition every Thursday night. \n🕢 Sign-up from 6:30pm | Comp starts at 7pm sharp\n💵 Just $5 to enter\n🏆 $100 Guaranteed Cash Prize for the winner\n🍻 5 Drink Tickets for the runner-up!\n*$10 Re-buy if available \nWhether you’re a seasoned player or just in it for fun\, it’s a great night out. Grab your cue and join us! \nRules of Play as per sign posted within the venue. Management decision is final.
URL:https://hoeymoey.com.au/event/pool-comp-2-2-2/2029-03-29/
LOCATION:The Hoey Moey\, 84 Ocean Parade\, Coffs Harbour\, NSW\, 2450\, Australia
CATEGORIES:Entertainment,Whats On
ATTACH;FMTTYPE=image/jpeg:https://hoeymoey.com.au/wp-content/uploads/2025/05/HM_ByronBayLagerThursdayPoolComp_SEP2025_WEB.jpg
END:VEVENT
BEGIN:VEVENT
DTSTART;TZID=Australia/Sydney:20290402T183000
DTEND;TZID=Australia/Sydney:20290402T203000
DTSTAMP:20260424T192026
CREATED:20240708T234319Z
LAST-MODIFIED:20250908T015855Z
UID:10005641-1869849000-1869856200@hoeymoey.com.au
SUMMARY:Trivia Mondays
DESCRIPTION:Brainiacs unite for Trivia on Monday Nights at the Hoey Moey! \nIt is from 6.30pm with great prizes to be won.
URL:https://hoeymoey.com.au/event/trivia-mondays-2-2-2/2029-04-02/
LOCATION:The Hoey Moey\, 84 Ocean Parade\, Coffs Harbour\, NSW\, 2450\, Australia
CATEGORIES:Entertainment,Whats On
ATTACH;FMTTYPE=image/jpeg:https://hoeymoey.com.au/wp-content/uploads/2024/07/HM_TriviaMondays_2025_WEB_GENERIC-1.jpg
END:VEVENT
BEGIN:VEVENT
DTSTART;TZID=Australia/Sydney:20290403T180000
DTEND;TZID=Australia/Sydney:20290403T180000
DTSTAMP:20260424T192026
CREATED:20230918T000604Z
LAST-MODIFIED:20251007T045542Z
UID:10006094-1869933600-1869933600@hoeymoey.com.au
SUMMARY:Musical Bingo!
DESCRIPTION:Join us for a fun night of Musical Bingo every Tuesday night from 6pm! \nIt’ll be heaps of fun\, with music galore\, and prizes to be won!
URL:https://hoeymoey.com.au/event/musical-bingo-2-2-2/2029-04-03/
LOCATION:The Hoey Moey\, 84 Ocean Parade\, Coffs Harbour\, NSW\, 2450\, Australia
CATEGORIES:Entertainment,Whats On
ATTACH;FMTTYPE=image/jpeg:https://hoeymoey.com.au/wp-content/uploads/2023/09/HM_MusicalBingo_APR2025_WEB.jpg
END:VEVENT
BEGIN:VEVENT
DTSTART;TZID=Australia/Sydney:20290403T193000
DTEND;TZID=Australia/Sydney:20290403T223000
DTSTAMP:20260424T192026
CREATED:20250522T030538Z
LAST-MODIFIED:20250522T032157Z
UID:10006702-1869939000-1869949800@hoeymoey.com.au
SUMMARY:Byron Bay Premium Lager's Tuesday Pinball Comp!
DESCRIPTION:Join us on Tuesdays for our popular Pinball Comp (register from 7.30pm) with great prizes on offer! \nThis event is proudly sponsored by Byron Bay Premium Lager!
URL:https://hoeymoey.com.au/event/pinball-comp-2-2-2/2029-04-03/
LOCATION:The Hoey Moey\, 84 Ocean Parade\, Coffs Harbour\, NSW\, 2450\, Australia
CATEGORIES:Entertainment,Whats On
ATTACH;FMTTYPE=image/jpeg:https://hoeymoey.com.au/wp-content/uploads/2023/07/Pinball-Competition-Hoey-Moey-Park-Beach-Hotel-Motel-Pub-Bar-Accommodation-Bistro-Restaurant-Coffs-Harbour-Coffs-Coast-Mid-North-Coast.jpg
END:VEVENT
BEGIN:VEVENT
DTSTART;TZID=Australia/Sydney:20290404T180000
DTEND;TZID=Australia/Sydney:20290404T190000
DTSTAMP:20260424T192026
CREATED:20260316T233920Z
LAST-MODIFIED:20260331T011139Z
UID:10008438-1870020000-1870023600@hoeymoey.com.au
SUMMARY:Snake Eyes Dice Game every Wednesday!
DESCRIPTION:SNAKE EYES DICE GAME WEDNESDAYS \n\n$50 increase per week\, capped at $500\nDouble one for the grand prize\nDoubles for the below receive:2 – Jug of Hahn or 3.5\n3 – Pizza voucher\n4 – Pint of Hahn or 3.5\n5 – Schooner of Hahn or 3.5\n6 – Mystery prize*Conditions apply – see staff for more details.
URL:https://hoeymoey.com.au/event/snake-eyes-dice-game-every-wednesday/2029-04-04/
CATEGORIES:Entertainment,Weekly Events,Whats On
ATTACH;FMTTYPE=image/jpeg:https://hoeymoey.com.au/wp-content/uploads/2026/03/HM_SnakeEyesDiceGame_MAR2026_WEB.jpg
END:VEVENT
BEGIN:VEVENT
DTSTART;TZID=Australia/Sydney:20290404T183000
DTEND;TZID=Australia/Sydney:20290404T213000
DTSTAMP:20260424T192026
CREATED:20260312T231316Z
LAST-MODIFIED:20260331T043516Z
UID:10007653-1870021800-1870032600@hoeymoey.com.au
SUMMARY:Local Grown Open Mic Night!
DESCRIPTION:LOCAL GROWN OPEN MIC NIGHT – The Next Wave of Coffs Coast Talent!\nEvery Wednesday from 6:30pm – 9:30pm\nThe Hoey Moey\, Coffs Harbour  \n The Stage is Yours!  \nBuilding on the massive energy of Coastal Grown\, we are launching a brand-new weekly residency dedicated to the next generation of local legends. \nLocal Grown is more than an open mic it’s a platform for school-aged musicians\, emerging bands\, and solo artists to own the stage in an all-ages\, inclusive environment. Hosted by Dillon Wrigley \nSupport local: Catch the bands we’ve been nurturing over the years as they take their music to the next level.\n• All Ages Welcome: A safe\, inclusive space for youth to perform and for fans of all ages to enjoy.\n• Weekly Vibe: Make Wednesday nights at the Hoey your new mid-week ritual. \nImportant info for attendees:\n• Under 18s are welcome but must be accompanied by a parent or guardian over 25 in accordance with venue policy.\n• Artists & Bands: Ready to play? Come along and sign up on the night. Let’s grow the scene together.
URL:https://hoeymoey.com.au/event/local-grown-open-mic-night/2029-04-04/
CATEGORIES:Entertainment,Whats On
ATTACH;FMTTYPE=image/jpeg:https://hoeymoey.com.au/wp-content/uploads/2026/03/HM_LocalGrownOpenMicNight_APR2026_WEB2.jpg
END:VEVENT
BEGIN:VEVENT
DTSTART;TZID=Australia/Sydney:20290405T120000
DTEND;TZID=Australia/Sydney:20290405T190000
DTSTAMP:20260424T192026
CREATED:20260316T233247Z
LAST-MODIFIED:20260331T011229Z
UID:10007918-1870084800-1870110000@hoeymoey.com.au
SUMMARY:Joker Poker Jackpot Thursdays is Back!
DESCRIPTION:JOKER POKER JACKPOT THURSDAYS \n\nJackpot starts at $2000. Increases by a minimum of $100 per week with raffle proceeds boosting jackpot increases pending sales.\nEvery Thursday from 26th March\, 2026.\nProceeds to Hoey Moey Community Fund. Raffle from 6pm\, drawn approx 7pm.\n*Conditions apply – see staff for more details.
URL:https://hoeymoey.com.au/event/joker-poker-jackpot-thursdays-is-back/2029-04-05/
CATEGORIES:Entertainment,Weekly Events,Whats On
ATTACH;FMTTYPE=image/jpeg:https://hoeymoey.com.au/wp-content/uploads/2026/03/HM_JokerPokerThursdays_2026_WEB-1.jpg
END:VEVENT
BEGIN:VEVENT
DTSTART;TZID=Australia/Sydney:20290405T183000
DTEND;TZID=Australia/Sydney:20290405T223000
DTSTAMP:20260424T192026
CREATED:20250908T020056Z
LAST-MODIFIED:20250908T020057Z
UID:10007307-1870108200-1870122600@hoeymoey.com.au
SUMMARY:Byron Bay Premium Lager's Thursday Pool Comp!
DESCRIPTION:Thursday Night Pool Comp – Don’t Miss Out!\nRain or shine\, the game is on! Come down and show off your skills at our weekly pool competition every Thursday night. \n🕢 Sign-up from 6:30pm | Comp starts at 7pm sharp\n💵 Just $5 to enter\n🏆 $100 Guaranteed Cash Prize for the winner\n🍻 5 Drink Tickets for the runner-up!\n*$10 Re-buy if available \nWhether you’re a seasoned player or just in it for fun\, it’s a great night out. Grab your cue and join us! \nRules of Play as per sign posted within the venue. Management decision is final.
URL:https://hoeymoey.com.au/event/pool-comp-2-2-2/2029-04-05/
LOCATION:The Hoey Moey\, 84 Ocean Parade\, Coffs Harbour\, NSW\, 2450\, Australia
CATEGORIES:Entertainment,Whats On
ATTACH;FMTTYPE=image/jpeg:https://hoeymoey.com.au/wp-content/uploads/2025/05/HM_ByronBayLagerThursdayPoolComp_SEP2025_WEB.jpg
END:VEVENT
BEGIN:VEVENT
DTSTART;TZID=Australia/Sydney:20290409T183000
DTEND;TZID=Australia/Sydney:20290409T203000
DTSTAMP:20260424T192026
CREATED:20240708T234319Z
LAST-MODIFIED:20250908T015855Z
UID:10005642-1870453800-1870461000@hoeymoey.com.au
SUMMARY:Trivia Mondays
DESCRIPTION:Brainiacs unite for Trivia on Monday Nights at the Hoey Moey! \nIt is from 6.30pm with great prizes to be won.
URL:https://hoeymoey.com.au/event/trivia-mondays-2-2-2/2029-04-09/
LOCATION:The Hoey Moey\, 84 Ocean Parade\, Coffs Harbour\, NSW\, 2450\, Australia
CATEGORIES:Entertainment,Whats On
ATTACH;FMTTYPE=image/jpeg:https://hoeymoey.com.au/wp-content/uploads/2024/07/HM_TriviaMondays_2025_WEB_GENERIC-1.jpg
END:VEVENT
BEGIN:VEVENT
DTSTART;TZID=Australia/Sydney:20290410T180000
DTEND;TZID=Australia/Sydney:20290410T180000
DTSTAMP:20260424T192026
CREATED:20230918T000604Z
LAST-MODIFIED:20251007T045542Z
UID:10006095-1870538400-1870538400@hoeymoey.com.au
SUMMARY:Musical Bingo!
DESCRIPTION:Join us for a fun night of Musical Bingo every Tuesday night from 6pm! \nIt’ll be heaps of fun\, with music galore\, and prizes to be won!
URL:https://hoeymoey.com.au/event/musical-bingo-2-2-2/2029-04-10/
LOCATION:The Hoey Moey\, 84 Ocean Parade\, Coffs Harbour\, NSW\, 2450\, Australia
CATEGORIES:Entertainment,Whats On
ATTACH;FMTTYPE=image/jpeg:https://hoeymoey.com.au/wp-content/uploads/2023/09/HM_MusicalBingo_APR2025_WEB.jpg
END:VEVENT
BEGIN:VEVENT
DTSTART;TZID=Australia/Sydney:20290410T193000
DTEND;TZID=Australia/Sydney:20290410T223000
DTSTAMP:20260424T192026
CREATED:20250522T030538Z
LAST-MODIFIED:20250522T032157Z
UID:10006703-1870543800-1870554600@hoeymoey.com.au
SUMMARY:Byron Bay Premium Lager's Tuesday Pinball Comp!
DESCRIPTION:Join us on Tuesdays for our popular Pinball Comp (register from 7.30pm) with great prizes on offer! \nThis event is proudly sponsored by Byron Bay Premium Lager!
URL:https://hoeymoey.com.au/event/pinball-comp-2-2-2/2029-04-10/
LOCATION:The Hoey Moey\, 84 Ocean Parade\, Coffs Harbour\, NSW\, 2450\, Australia
CATEGORIES:Entertainment,Whats On
ATTACH;FMTTYPE=image/jpeg:https://hoeymoey.com.au/wp-content/uploads/2023/07/Pinball-Competition-Hoey-Moey-Park-Beach-Hotel-Motel-Pub-Bar-Accommodation-Bistro-Restaurant-Coffs-Harbour-Coffs-Coast-Mid-North-Coast.jpg
END:VEVENT
BEGIN:VEVENT
DTSTART;TZID=Australia/Sydney:20290411T180000
DTEND;TZID=Australia/Sydney:20290411T190000
DTSTAMP:20260424T192027
CREATED:20260316T233920Z
LAST-MODIFIED:20260331T011139Z
UID:10008439-1870624800-1870628400@hoeymoey.com.au
SUMMARY:Snake Eyes Dice Game every Wednesday!
DESCRIPTION:SNAKE EYES DICE GAME WEDNESDAYS \n\n$50 increase per week\, capped at $500\nDouble one for the grand prize\nDoubles for the below receive:2 – Jug of Hahn or 3.5\n3 – Pizza voucher\n4 – Pint of Hahn or 3.5\n5 – Schooner of Hahn or 3.5\n6 – Mystery prize*Conditions apply – see staff for more details.
URL:https://hoeymoey.com.au/event/snake-eyes-dice-game-every-wednesday/2029-04-11/
CATEGORIES:Entertainment,Weekly Events,Whats On
ATTACH;FMTTYPE=image/jpeg:https://hoeymoey.com.au/wp-content/uploads/2026/03/HM_SnakeEyesDiceGame_MAR2026_WEB.jpg
END:VEVENT
BEGIN:VEVENT
DTSTART;TZID=Australia/Sydney:20290411T183000
DTEND;TZID=Australia/Sydney:20290411T213000
DTSTAMP:20260424T192027
CREATED:20260312T231316Z
LAST-MODIFIED:20260331T043516Z
UID:10007654-1870626600-1870637400@hoeymoey.com.au
SUMMARY:Local Grown Open Mic Night!
DESCRIPTION:LOCAL GROWN OPEN MIC NIGHT – The Next Wave of Coffs Coast Talent!\nEvery Wednesday from 6:30pm – 9:30pm\nThe Hoey Moey\, Coffs Harbour  \n The Stage is Yours!  \nBuilding on the massive energy of Coastal Grown\, we are launching a brand-new weekly residency dedicated to the next generation of local legends. \nLocal Grown is more than an open mic it’s a platform for school-aged musicians\, emerging bands\, and solo artists to own the stage in an all-ages\, inclusive environment. Hosted by Dillon Wrigley \nSupport local: Catch the bands we’ve been nurturing over the years as they take their music to the next level.\n• All Ages Welcome: A safe\, inclusive space for youth to perform and for fans of all ages to enjoy.\n• Weekly Vibe: Make Wednesday nights at the Hoey your new mid-week ritual. \nImportant info for attendees:\n• Under 18s are welcome but must be accompanied by a parent or guardian over 25 in accordance with venue policy.\n• Artists & Bands: Ready to play? Come along and sign up on the night. Let’s grow the scene together.
URL:https://hoeymoey.com.au/event/local-grown-open-mic-night/2029-04-11/
CATEGORIES:Entertainment,Whats On
ATTACH;FMTTYPE=image/jpeg:https://hoeymoey.com.au/wp-content/uploads/2026/03/HM_LocalGrownOpenMicNight_APR2026_WEB2.jpg
END:VEVENT
BEGIN:VEVENT
DTSTART;TZID=Australia/Sydney:20290412T120000
DTEND;TZID=Australia/Sydney:20290412T190000
DTSTAMP:20260424T192027
CREATED:20260316T233247Z
LAST-MODIFIED:20260331T011229Z
UID:10007919-1870689600-1870714800@hoeymoey.com.au
SUMMARY:Joker Poker Jackpot Thursdays is Back!
DESCRIPTION:JOKER POKER JACKPOT THURSDAYS \n\nJackpot starts at $2000. Increases by a minimum of $100 per week with raffle proceeds boosting jackpot increases pending sales.\nEvery Thursday from 26th March\, 2026.\nProceeds to Hoey Moey Community Fund. Raffle from 6pm\, drawn approx 7pm.\n*Conditions apply – see staff for more details.
URL:https://hoeymoey.com.au/event/joker-poker-jackpot-thursdays-is-back/2029-04-12/
CATEGORIES:Entertainment,Weekly Events,Whats On
ATTACH;FMTTYPE=image/jpeg:https://hoeymoey.com.au/wp-content/uploads/2026/03/HM_JokerPokerThursdays_2026_WEB-1.jpg
END:VEVENT
BEGIN:VEVENT
DTSTART;TZID=Australia/Sydney:20290412T183000
DTEND;TZID=Australia/Sydney:20290412T223000
DTSTAMP:20260424T192027
CREATED:20250908T020056Z
LAST-MODIFIED:20250908T020057Z
UID:10007308-1870713000-1870727400@hoeymoey.com.au
SUMMARY:Byron Bay Premium Lager's Thursday Pool Comp!
DESCRIPTION:Thursday Night Pool Comp – Don’t Miss Out!\nRain or shine\, the game is on! Come down and show off your skills at our weekly pool competition every Thursday night. \n🕢 Sign-up from 6:30pm | Comp starts at 7pm sharp\n💵 Just $5 to enter\n🏆 $100 Guaranteed Cash Prize for the winner\n🍻 5 Drink Tickets for the runner-up!\n*$10 Re-buy if available \nWhether you’re a seasoned player or just in it for fun\, it’s a great night out. Grab your cue and join us! \nRules of Play as per sign posted within the venue. Management decision is final.
URL:https://hoeymoey.com.au/event/pool-comp-2-2-2/2029-04-12/
LOCATION:The Hoey Moey\, 84 Ocean Parade\, Coffs Harbour\, NSW\, 2450\, Australia
CATEGORIES:Entertainment,Whats On
ATTACH;FMTTYPE=image/jpeg:https://hoeymoey.com.au/wp-content/uploads/2025/05/HM_ByronBayLagerThursdayPoolComp_SEP2025_WEB.jpg
END:VEVENT
BEGIN:VEVENT
DTSTART;TZID=Australia/Sydney:20290416T183000
DTEND;TZID=Australia/Sydney:20290416T203000
DTSTAMP:20260424T192027
CREATED:20240708T234319Z
LAST-MODIFIED:20250908T015855Z
UID:10005643-1871058600-1871065800@hoeymoey.com.au
SUMMARY:Trivia Mondays
DESCRIPTION:Brainiacs unite for Trivia on Monday Nights at the Hoey Moey! \nIt is from 6.30pm with great prizes to be won.
URL:https://hoeymoey.com.au/event/trivia-mondays-2-2-2/2029-04-16/
LOCATION:The Hoey Moey\, 84 Ocean Parade\, Coffs Harbour\, NSW\, 2450\, Australia
CATEGORIES:Entertainment,Whats On
ATTACH;FMTTYPE=image/jpeg:https://hoeymoey.com.au/wp-content/uploads/2024/07/HM_TriviaMondays_2025_WEB_GENERIC-1.jpg
END:VEVENT
BEGIN:VEVENT
DTSTART;TZID=Australia/Sydney:20290417T180000
DTEND;TZID=Australia/Sydney:20290417T180000
DTSTAMP:20260424T192027
CREATED:20230918T000604Z
LAST-MODIFIED:20251007T045542Z
UID:10006096-1871143200-1871143200@hoeymoey.com.au
SUMMARY:Musical Bingo!
DESCRIPTION:Join us for a fun night of Musical Bingo every Tuesday night from 6pm! \nIt’ll be heaps of fun\, with music galore\, and prizes to be won!
URL:https://hoeymoey.com.au/event/musical-bingo-2-2-2/2029-04-17/
LOCATION:The Hoey Moey\, 84 Ocean Parade\, Coffs Harbour\, NSW\, 2450\, Australia
CATEGORIES:Entertainment,Whats On
ATTACH;FMTTYPE=image/jpeg:https://hoeymoey.com.au/wp-content/uploads/2023/09/HM_MusicalBingo_APR2025_WEB.jpg
END:VEVENT
BEGIN:VEVENT
DTSTART;TZID=Australia/Sydney:20290417T193000
DTEND;TZID=Australia/Sydney:20290417T223000
DTSTAMP:20260424T192027
CREATED:20250522T030538Z
LAST-MODIFIED:20250522T032157Z
UID:10006704-1871148600-1871159400@hoeymoey.com.au
SUMMARY:Byron Bay Premium Lager's Tuesday Pinball Comp!
DESCRIPTION:Join us on Tuesdays for our popular Pinball Comp (register from 7.30pm) with great prizes on offer! \nThis event is proudly sponsored by Byron Bay Premium Lager!
URL:https://hoeymoey.com.au/event/pinball-comp-2-2-2/2029-04-17/
LOCATION:The Hoey Moey\, 84 Ocean Parade\, Coffs Harbour\, NSW\, 2450\, Australia
CATEGORIES:Entertainment,Whats On
ATTACH;FMTTYPE=image/jpeg:https://hoeymoey.com.au/wp-content/uploads/2023/07/Pinball-Competition-Hoey-Moey-Park-Beach-Hotel-Motel-Pub-Bar-Accommodation-Bistro-Restaurant-Coffs-Harbour-Coffs-Coast-Mid-North-Coast.jpg
END:VEVENT
END:VCALENDAR