BEGIN:VCALENDAR
VERSION:2.0
PRODID:-//Hoey Moey - ECPv6.3.3.1//NONSGML v1.0//EN
CALSCALE:GREGORIAN
METHOD:PUBLISH
X-WR-CALNAME:Hoey Moey
X-ORIGINAL-URL:https://hoeymoey.com.au
X-WR-CALDESC:Events for Hoey Moey
REFRESH-INTERVAL;VALUE=DURATION:PT1H
X-Robots-Tag:noindex
X-PUBLISHED-TTL:PT1H
BEGIN:VTIMEZONE
TZID:Australia/Sydney
BEGIN:STANDARD
TZOFFSETFROM:+1100
TZOFFSETTO:+1000
TZNAME:AEST
DTSTART:20260404T160000
END:STANDARD
BEGIN:DAYLIGHT
TZOFFSETFROM:+1000
TZOFFSETTO:+1100
TZNAME:AEDT
DTSTART:20261003T160000
END:DAYLIGHT
END:VTIMEZONE
BEGIN:VEVENT
DTSTART;VALUE=DATE:20260428
DTEND;VALUE=DATE:20260429
DTSTAMP:20260422T040314
CREATED:20250331T210054Z
LAST-MODIFIED:20250324T231403Z
UID:10006091-1777334400-1777420799@hoeymoey.com.au
SUMMARY:Do Your Part to Help Domestic Violence Survivors
DESCRIPTION:We need your urgent support for the…\nLIFEHOUSE CARE DOMESTIC VIOLENCE FUND APPEAL \n$3 from every purchase of a chicken schnitzel from the Hoey Moey\, Coramba Hotel or Seaview Tavern DURING THE MONTH OF APRIL will be donated to this important cause.
URL:https://hoeymoey.com.au/event/do-your-part-to-help-domestic-violence-survivors/2026-04-28/
CATEGORIES:Whats On
ATTACH;FMTTYPE=image/jpeg:https://hoeymoey.com.au/wp-content/uploads/2025/03/LifehouseDomesticViolenceFundAppeal_APR2025_WEB.jpg
END:VEVENT
END:VCALENDAR